BEGIN:VCALENDAR
VERSION:2.0
PRODID:-//GunStuff TV - ECPv6.15.20//NONSGML v1.0//EN
CALSCALE:GREGORIAN
METHOD:PUBLISH
X-WR-CALNAME:GunStuff TV
X-ORIGINAL-URL:https://gunstuff.tv
X-WR-CALDESC:Events for GunStuff TV
REFRESH-INTERVAL;VALUE=DURATION:PT1H
X-Robots-Tag:noindex
X-PUBLISHED-TTL:PT1H
BEGIN:VTIMEZONE
TZID:America/Chicago
BEGIN:DAYLIGHT
TZOFFSETFROM:-0600
TZOFFSETTO:-0500
TZNAME:CDT
DTSTART:20250309T080000
END:DAYLIGHT
BEGIN:STANDARD
TZOFFSETFROM:-0500
TZOFFSETTO:-0600
TZNAME:CST
DTSTART:20251102T070000
END:STANDARD
BEGIN:DAYLIGHT
TZOFFSETFROM:-0600
TZOFFSETTO:-0500
TZNAME:CDT
DTSTART:20260308T080000
END:DAYLIGHT
BEGIN:STANDARD
TZOFFSETFROM:-0500
TZOFFSETTO:-0600
TZNAME:CST
DTSTART:20261101T070000
END:STANDARD
BEGIN:DAYLIGHT
TZOFFSETFROM:-0600
TZOFFSETTO:-0500
TZNAME:CDT
DTSTART:20270314T080000
END:DAYLIGHT
BEGIN:STANDARD
TZOFFSETFROM:-0500
TZOFFSETTO:-0600
TZNAME:CST
DTSTART:20271107T070000
END:STANDARD
END:VTIMEZONE
BEGIN:VEVENT
DTSTART;TZID=America/Chicago:20260422T080000
DTEND;TZID=America/Chicago:20260422T170000
DTSTAMP:20260422T125646
CREATED:20260331T021733Z
LAST-MODIFIED:20260421T024634Z
UID:10006674-1776844800-1776877200@gunstuff.tv
SUMMARY:Private Event
DESCRIPTION:Defender Outdoors Clay Sports Ranch will be hosting a private event. We will be open to the public\, but expect some courses to be closed.
URL:https://gunstuff.tv/event/private-event-5/
LOCATION:Clay Sports Ranch\, 8270 Aledo Road\, Fort Worth\, TX\, 76126\, United States
CATEGORIES:Clay Sports Ranch Events,Private Event
ATTACH;FMTTYPE=image/jpeg:https://gunstuff.tv/wp-content/uploads/2025/10/PrivateEventUpdated-rInpX0.jpg
END:VEVENT
BEGIN:VEVENT
DTSTART;TZID=America/Chicago:20260423T080000
DTEND;TZID=America/Chicago:20260423T170000
DTSTAMP:20260422T125646
CREATED:20260331T021742Z
LAST-MODIFIED:20260421T024634Z
UID:10006675-1776931200-1776963600@gunstuff.tv
SUMMARY:Private Event
DESCRIPTION:Defender Outdoors Clay Sports Ranch will be hosting a private event. We will be open to the public\, but expect some courses to be closed.
URL:https://gunstuff.tv/event/private-event-6/
LOCATION:Clay Sports Ranch\, 8270 Aledo Road\, Fort Worth\, TX\, 76126\, United States
CATEGORIES:Clay Sports Ranch Events,Private Event
ATTACH;FMTTYPE=image/jpeg:https://gunstuff.tv/wp-content/uploads/2025/10/PrivateEventUpdated-rInpX0.jpg
END:VEVENT
BEGIN:VEVENT
DTSTART;TZID=America/Chicago:20260507T080000
DTEND;TZID=America/Chicago:20260507T170000
DTSTAMP:20260422T125646
CREATED:20260414T024729Z
LAST-MODIFIED:20260421T024634Z
UID:10007479-1778140800-1778173200@gunstuff.tv
SUMMARY:Boy Scouts Clay Shoot
DESCRIPTION:This is a private event. Defender Outdoors Clay Sports Ranch will be closed to the public for the duration of the event.
URL:https://gunstuff.tv/event/boy-scouts-clay-shoot/
LOCATION:Clay Sports Ranch\, 8270 Aledo Road\, Fort Worth\, TX\, 76126\, United States
CATEGORIES:Clay Sports Ranch Events,Private Event
ATTACH;FMTTYPE=image/jpeg:https://gunstuff.tv/wp-content/uploads/2026/03/PrivateEventUpdated-zewck9-JtKwgF.jpg
END:VEVENT
BEGIN:VEVENT
DTSTART;TZID=America/Chicago:20261009T080000
DTEND;TZID=America/Chicago:20261009T170000
DTSTAMP:20260422T125646
CREATED:20251102T201641Z
LAST-MODIFIED:20260419T211806Z
UID:10002871-1791532800-1791565200@gunstuff.tv
SUMMARY:Private Sporting Clays Event
DESCRIPTION:Clays course will be closed for a private event.
URL:https://gunstuff.tv/event/private-sporting-clays-event-5/
LOCATION:Austin Gun Club\, 1999 S Key Ave\, Lampasas\, TX\, United States
CATEGORIES:Private Event
ATTACH;FMTTYPE=image/png:https://gunstuff.tv/wp-content/uploads/2025/11/Private-Event-Notice-EGtBqz.png
GEO:31.050454;-98.174788
X-APPLE-STRUCTURED-LOCATION;VALUE=URI;X-ADDRESS=Austin Gun Club 1999 S Key Ave Lampasas TX United States;X-APPLE-RADIUS=500;X-TITLE=1999 S Key Ave:geo:-98.174788,31.050454
END:VEVENT
BEGIN:VEVENT
DTSTART;TZID=America/Chicago:20261016T080000
DTEND;TZID=America/Chicago:20261016T170000
DTSTAMP:20260422T125646
CREATED:20251102T201641Z
LAST-MODIFIED:20260419T211806Z
UID:10002873-1792137600-1792170000@gunstuff.tv
SUMMARY:Private Sporting Clays Event
DESCRIPTION:Clays course will be closed for a private event.
URL:https://gunstuff.tv/event/private-sporting-clays-event-6/
LOCATION:Austin Gun Club\, 1999 S Key Ave\, Lampasas\, TX\, United States
CATEGORIES:Private Event
ATTACH;FMTTYPE=image/png:https://gunstuff.tv/wp-content/uploads/2025/11/Private-Event-Notice-EGtBqz.png
GEO:31.050454;-98.174788
X-APPLE-STRUCTURED-LOCATION;VALUE=URI;X-ADDRESS=Austin Gun Club 1999 S Key Ave Lampasas TX United States;X-APPLE-RADIUS=500;X-TITLE=1999 S Key Ave:geo:-98.174788,31.050454
END:VEVENT
END:VCALENDAR