BEGIN:VCALENDAR
VERSION:2.0
PRODID:-//GunStuff TV - ECPv6.15.20//NONSGML v1.0//EN
CALSCALE:GREGORIAN
METHOD:PUBLISH
X-ORIGINAL-URL:https://gunstuff.tv
X-WR-CALDESC:Events for GunStuff TV
REFRESH-INTERVAL;VALUE=DURATION:PT1H
X-Robots-Tag:noindex
X-PUBLISHED-TTL:PT1H
BEGIN:VTIMEZONE
TZID:America/Indiana/Indianapolis
BEGIN:DAYLIGHT
TZOFFSETFROM:-0500
TZOFFSETTO:-0400
TZNAME:EDT
DTSTART:20250309T070000
END:DAYLIGHT
BEGIN:STANDARD
TZOFFSETFROM:-0400
TZOFFSETTO:-0500
TZNAME:EST
DTSTART:20251102T060000
END:STANDARD
BEGIN:DAYLIGHT
TZOFFSETFROM:-0500
TZOFFSETTO:-0400
TZNAME:EDT
DTSTART:20260308T070000
END:DAYLIGHT
BEGIN:STANDARD
TZOFFSETFROM:-0400
TZOFFSETTO:-0500
TZNAME:EST
DTSTART:20261101T060000
END:STANDARD
BEGIN:DAYLIGHT
TZOFFSETFROM:-0500
TZOFFSETTO:-0400
TZNAME:EDT
DTSTART:20270314T070000
END:DAYLIGHT
BEGIN:STANDARD
TZOFFSETFROM:-0400
TZOFFSETTO:-0500
TZNAME:EST
DTSTART:20271107T060000
END:STANDARD
END:VTIMEZONE
BEGIN:VEVENT
DTSTART;TZID=America/Indiana/Indianapolis:20260412T120000
DTEND;TZID=America/Indiana/Indianapolis:20260412T170000
DTSTAMP:20260424T200217
CREATED:20260406T031718Z
LAST-MODIFIED:20260406T031734Z
UID:10006803-1775995200-1776013200@gunstuff.tv
SUMMARY:NRL22
DESCRIPTION:Sight-In 12:00 PMRange 1
URL:https://gunstuff.tv/event/nrl22-9/
LOCATION:Wildcat Valley R and P Club\, 12094 S 300 E\, Brookston\, IN\, United States
CATEGORIES:NRL-22
GEO:40.576877;-86.811749
X-APPLE-STRUCTURED-LOCATION;VALUE=URI;X-ADDRESS=Wildcat Valley R and P Club 12094 S 300 E Brookston IN United States;X-APPLE-RADIUS=500;X-TITLE=12094 S 300 E:geo:-86.811749,40.576877
END:VEVENT
END:VCALENDAR