BEGIN:VCALENDAR
VERSION:2.0
PRODID:-//GunStuff TV - ECPv6.15.20//NONSGML v1.0//EN
CALSCALE:GREGORIAN
METHOD:PUBLISH
X-ORIGINAL-URL:https://gunstuff.tv
X-WR-CALDESC:Events for GunStuff TV
REFRESH-INTERVAL;VALUE=DURATION:PT1H
X-Robots-Tag:noindex
X-PUBLISHED-TTL:PT1H
BEGIN:VTIMEZONE
TZID:America/New_York
BEGIN:DAYLIGHT
TZOFFSETFROM:-0500
TZOFFSETTO:-0400
TZNAME:EDT
DTSTART:20250309T070000
END:DAYLIGHT
BEGIN:STANDARD
TZOFFSETFROM:-0400
TZOFFSETTO:-0500
TZNAME:EST
DTSTART:20251102T060000
END:STANDARD
BEGIN:DAYLIGHT
TZOFFSETFROM:-0500
TZOFFSETTO:-0400
TZNAME:EDT
DTSTART:20260308T070000
END:DAYLIGHT
BEGIN:STANDARD
TZOFFSETFROM:-0400
TZOFFSETTO:-0500
TZNAME:EST
DTSTART:20261101T060000
END:STANDARD
BEGIN:DAYLIGHT
TZOFFSETFROM:-0500
TZOFFSETTO:-0400
TZNAME:EDT
DTSTART:20270314T070000
END:DAYLIGHT
BEGIN:STANDARD
TZOFFSETFROM:-0400
TZOFFSETTO:-0500
TZNAME:EST
DTSTART:20271107T060000
END:STANDARD
END:VTIMEZONE
BEGIN:VEVENT
DTSTART;TZID=America/New_York:20260202T183000
DTEND;TZID=America/New_York:20260202T193000
DTSTAMP:20260421T123638
CREATED:20260130T050210Z
LAST-MODIFIED:20260130T050219Z
UID:10004835-1770057000-1770060600@gunstuff.tv
SUMMARY:Drum Ball
DESCRIPTION:Drum Ball Fun on the Patio!\nJoin us for Drum Ball\, a unique and exciting way to get moving! If you’re looking for a fun\, low-impact workout that feels more like a game than exercise\, this is it.\nWe use drumsticks and large stability balls to combine drumming rhythms with fitness movements. It’s great for coordination\, core strength\, and releasing stress—all while listening to great music!\nWhen: Every Monday & Thursday evening\nTime: 6:30 PM – 7:30 PM\nLocation: Main Building Patio\nFee: $5 Drop-in per class\nNote: Sticks and balls are provided for all participants. Just bring your energy!
URL:https://gunstuff.tv/event/drum-ball-14/
LOCATION:OCSC Main Building Patio\, 4770 Waterford Rd\, Clarkston\, MI\, United States
CATEGORIES:Club Events,Open to the Public
ATTACH;FMTTYPE=image/jpeg:https://gunstuff.tv/wp-content/uploads/2025/12/Drum-Ball-at-OCSC-E9nLz4.jpg
GEO:42.705297;-83.4014
X-APPLE-STRUCTURED-LOCATION;VALUE=URI;X-ADDRESS=OCSC Main Building Patio 4770 Waterford Rd Clarkston MI United States;X-APPLE-RADIUS=500;X-TITLE=4770 Waterford Rd:geo:-83.4014,42.705297
END:VEVENT
BEGIN:VEVENT
DTSTART;TZID=America/New_York:20260202T190000
DTEND;TZID=America/New_York:20260202T213000
DTSTAMP:20260421T123638
CREATED:20260130T050210Z
LAST-MODIFIED:20260130T050219Z
UID:10004834-1770058800-1770067800@gunstuff.tv
SUMMARY:Executive Board Meeting
DESCRIPTION:
URL:https://gunstuff.tv/event/executive-board-meeting-5/
LOCATION:OCSC Main Hall\, 4770 Waterford Rd\, Clarkston\, MI\, United States
CATEGORIES:Board Meeting,Club Events
ATTACH;FMTTYPE=image/png:https://gunstuff.tv/wp-content/uploads/2025/10/Circle-Logo-e1647896702576-h8fJMO.png
GEO:42.705297;-83.4014
X-APPLE-STRUCTURED-LOCATION;VALUE=URI;X-ADDRESS=OCSC Main Hall 4770 Waterford Rd Clarkston MI United States;X-APPLE-RADIUS=500;X-TITLE=4770 Waterford Rd:geo:-83.4014,42.705297
END:VEVENT
BEGIN:VEVENT
DTSTART;TZID=America/New_York:20260205T180000
DTEND;TZID=America/New_York:20260205T210000
DTSTAMP:20260421T123638
CREATED:20260130T050221Z
LAST-MODIFIED:20260130T050221Z
UID:10004849-1770314400-1770325200@gunstuff.tv
SUMMARY:Euchre
DESCRIPTION:Support the Restaurant: Enjoy dinner at Euchre and earn an extra 10 points! If you can\, kindly support Darby Connections with a donation here.\nEntry & Prizes: No entry fee required. Weekly highest scorers get a prize and there’s a grand prize for the monthly champion.\nFlexible Timing: Arrive any time you prefer. Most guests come early for dinner in peace\, while others join later. Leave at your own convenience.\nNew to Euchre? No problem! Watch these “How to Play Euchre” videos. Install the Trickster Cards app on your phone and set up an account (see our signup instructions here). It’s great for practice and for instances when we have an uneven number of players.\nHow to Participate:\nCreate an account on DarbyConnections.com by Texting “Settings” to 248-975-7512 or Calling it.\nGo to the Events and adjust your RSVP.\nInvite your Friends!\nShow up! No need for weekly commitments or playing all evening. Typically\, we play 6-8 games each night.\nGame Rules & Format:\nOur Euchre Rules: See Darby Connections House Euchre Rules\nScoring: Everyone deals twice each game. Can have more then 10 points. Four points for Euchres and Reneges on Loners. Your weekly score is the sum of your top five games. Monthly score is based on your top ten games.\nWinning: Daily high-scorers win a prize. Tie-breakers favor the player with the highest hand. Must be present to win.\nGameplay: Change partners after each game. Each player deals twice. Screw the Dealer. No game starts post 8:30 pm.\nAdditional Rules:\nNo table talk regarding the current hand. Talk your heads off about everything else. THIS IS A SOCIAL EVENT! Keep games brisk.\nDon’t be a jerk!\nHave fun!\nImportant Notes:\nRegister to help us manage seating and scoring.\nLogged-in users can view scores on the event page.\nWe communicate via text for seat assignments and score updates.\nWe look forward to seeing you and hope you have a great time!
URL:https://gunstuff.tv/event/euchre-10/
LOCATION:Dining Hall\, 4770 Waterford Rd\, Clarkston\, MI\, United States
CATEGORIES:Club Events,Open to the Public
ATTACH;FMTTYPE=image/png:https://gunstuff.tv/wp-content/uploads/2025/11/EUCHRE-YthZFx.png
GEO:42.705297;-83.4014
X-APPLE-STRUCTURED-LOCATION;VALUE=URI;X-ADDRESS=Dining Hall 4770 Waterford Rd Clarkston MI United States;X-APPLE-RADIUS=500;X-TITLE=4770 Waterford Rd:geo:-83.4014,42.705297
END:VEVENT
BEGIN:VEVENT
DTSTART;TZID=America/New_York:20260205T183000
DTEND;TZID=America/New_York:20260205T193000
DTSTAMP:20260421T123638
CREATED:20260130T050221Z
LAST-MODIFIED:20260130T050221Z
UID:10004850-1770316200-1770319800@gunstuff.tv
SUMMARY:Drum Ball
DESCRIPTION:Drum Ball Fun on the Patio!\nJoin us for Drum Ball\, a unique and exciting way to get moving! If you’re looking for a fun\, low-impact workout that feels more like a game than exercise\, this is it.\nWe use drumsticks and large stability balls to combine drumming rhythms with fitness movements. It’s great for coordination\, core strength\, and releasing stress—all while listening to great music!\nWhen: Every Monday & Thursday evening\nTime: 6:30 PM – 7:30 PM\nLocation: Main Building Patio\nFee: $5 Drop-in per class\nNote: Sticks and balls are provided for all participants. Just bring your energy!
URL:https://gunstuff.tv/event/drum-ball-15/
LOCATION:OCSC Main Building Patio\, 4770 Waterford Rd\, Clarkston\, MI\, United States
CATEGORIES:Club Events,Open to the Public
ATTACH;FMTTYPE=image/jpeg:https://gunstuff.tv/wp-content/uploads/2025/12/Drum-Ball-at-OCSC-E9nLz4.jpg
GEO:42.705297;-83.4014
X-APPLE-STRUCTURED-LOCATION;VALUE=URI;X-ADDRESS=OCSC Main Building Patio 4770 Waterford Rd Clarkston MI United States;X-APPLE-RADIUS=500;X-TITLE=4770 Waterford Rd:geo:-83.4014,42.705297
END:VEVENT
BEGIN:VEVENT
DTSTART;TZID=America/New_York:20260207T180000
DTEND;TZID=America/New_York:20260207T220000
DTSTAMP:20260421T123638
CREATED:20260206T050146Z
LAST-MODIFIED:20260206T050146Z
UID:10004992-1770487200-1770501600@gunstuff.tv
SUMMARY:Night at the Races Fundraiser
DESCRIPTION:Night at The Races Fundraiser\nPresented by Ladies Adventure Day (LAD)\nTickets Available at the OCSC Bar\nAll Proceeds Support the 2026 LAD Event (May 30th\, 2026)\n 
URL:https://gunstuff.tv/event/night-at-the-races-fundraiser/
LOCATION:OCSC Bar & Kitchen\, 4770 Waterford Rd\, Clarkston\, MI\, United States
CATEGORIES:Club Events,Fundraiser,Open to the Public
ATTACH;FMTTYPE=image/png:https://gunstuff.tv/wp-content/uploads/2026/02/LAD-Fundraiser-Night-at-the-races-hZIk6r.png
GEO:42.705297;-83.4014
X-APPLE-STRUCTURED-LOCATION;VALUE=URI;X-ADDRESS=OCSC Bar & Kitchen 4770 Waterford Rd Clarkston MI United States;X-APPLE-RADIUS=500;X-TITLE=4770 Waterford Rd:geo:-83.4014,42.705297
END:VEVENT
BEGIN:VEVENT
DTSTART;TZID=America/New_York:20260209T183000
DTEND;TZID=America/New_York:20260209T193000
DTSTAMP:20260421T123638
CREATED:20260206T050153Z
LAST-MODIFIED:20260206T050153Z
UID:10005000-1770661800-1770665400@gunstuff.tv
SUMMARY:Drum Ball
DESCRIPTION:Drum Ball Fun on the Patio!\nJoin us for Drum Ball\, a unique and exciting way to get moving! If you’re looking for a fun\, low-impact workout that feels more like a game than exercise\, this is it.\nWe use drumsticks and large stability balls to combine drumming rhythms with fitness movements. It’s great for coordination\, core strength\, and releasing stress—all while listening to great music!\nWhen: Every Monday & Thursday evening\nTime: 6:30 PM – 7:30 PM\nLocation: Main Building Patio\nFee: $5 Drop-in per class\nNote: Sticks and balls are provided for all participants. Just bring your energy!
URL:https://gunstuff.tv/event/drum-ball-16/
LOCATION:OCSC Main Building Patio\, 4770 Waterford Rd\, Clarkston\, MI\, United States
CATEGORIES:Club Events,Open to the Public
ATTACH;FMTTYPE=image/jpeg:https://gunstuff.tv/wp-content/uploads/2025/12/Drum-Ball-at-OCSC-E9nLz4.jpg
GEO:42.705297;-83.4014
X-APPLE-STRUCTURED-LOCATION;VALUE=URI;X-ADDRESS=OCSC Main Building Patio 4770 Waterford Rd Clarkston MI United States;X-APPLE-RADIUS=500;X-TITLE=4770 Waterford Rd:geo:-83.4014,42.705297
END:VEVENT
BEGIN:VEVENT
DTSTART;TZID=America/New_York:20260216T183000
DTEND;TZID=America/New_York:20260216T193000
DTSTAMP:20260421T123638
CREATED:20260213T050136Z
LAST-MODIFIED:20260213T050136Z
UID:10005574-1771266600-1771270200@gunstuff.tv
SUMMARY:Drum Ball
DESCRIPTION:Drum Ball Fun on the Patio!\nJoin us for Drum Ball\, a unique and exciting way to get moving! If you’re looking for a fun\, low-impact workout that feels more like a game than exercise\, this is it.\nWe use drumsticks and large stability balls to combine drumming rhythms with fitness movements. It’s great for coordination\, core strength\, and releasing stress—all while listening to great music!\nWhen: Every Monday & Thursday evening\nTime: 6:30 PM – 7:30 PM\nLocation: Main Building Patio\nFee: $5 Drop-in per class\nNote: Sticks and balls are provided for all participants. Just bring your energy!
URL:https://gunstuff.tv/event/drum-ball-17/
LOCATION:OCSC Main Building Patio\, 4770 Waterford Rd\, Clarkston\, MI\, United States
CATEGORIES:Club Events,Open to the Public
ATTACH;FMTTYPE=image/jpeg:https://gunstuff.tv/wp-content/uploads/2025/12/Drum-Ball-at-OCSC-E9nLz4.jpg
GEO:42.705297;-83.4014
X-APPLE-STRUCTURED-LOCATION;VALUE=URI;X-ADDRESS=OCSC Main Building Patio 4770 Waterford Rd Clarkston MI United States;X-APPLE-RADIUS=500;X-TITLE=4770 Waterford Rd:geo:-83.4014,42.705297
END:VEVENT
BEGIN:VEVENT
DTSTART;TZID=America/New_York:20260219T180000
DTEND;TZID=America/New_York:20260219T210000
DTSTAMP:20260421T123638
CREATED:20260213T050137Z
LAST-MODIFIED:20260213T050137Z
UID:10005588-1771524000-1771534800@gunstuff.tv
SUMMARY:Euchre
DESCRIPTION:Support the Restaurant: Enjoy dinner at Euchre and earn an extra 10 points! If you can\, kindly support Darby Connections with a donation here.\nEntry & Prizes: No entry fee required. Weekly highest scorers get a prize and there’s a grand prize for the monthly champion.\nFlexible Timing: Arrive any time you prefer. Most guests come early for dinner in peace\, while others join later. Leave at your own convenience.\nNew to Euchre? No problem! Watch these “How to Play Euchre” videos. Install the Trickster Cards app on your phone and set up an account (see our signup instructions here). It’s great for practice and for instances when we have an uneven number of players.\nHow to Participate:\nCreate an account on DarbyConnections.com by Texting “Settings” to 248-975-7512 or Calling it.\nGo to the Events and adjust your RSVP.\nInvite your Friends!\nShow up! No need for weekly commitments or playing all evening. Typically\, we play 6-8 games each night.\nGame Rules & Format:\nOur Euchre Rules: See Darby Connections House Euchre Rules\nScoring: Everyone deals twice each game. Can have more then 10 points. Four points for Euchres and Reneges on Loners. Your weekly score is the sum of your top five games. Monthly score is based on your top ten games.\nWinning: Daily high-scorers win a prize. Tie-breakers favor the player with the highest hand. Must be present to win.\nGameplay: Change partners after each game. Each player deals twice. Screw the Dealer. No game starts post 8:30 pm.\nAdditional Rules:\nNo table talk regarding the current hand. Talk your heads off about everything else. THIS IS A SOCIAL EVENT! Keep games brisk.\nDon’t be a jerk!\nHave fun!\nImportant Notes:\nRegister to help us manage seating and scoring.\nLogged-in users can view scores on the event page.\nWe communicate via text for seat assignments and score updates.\nWe look forward to seeing you and hope you have a great time!
URL:https://gunstuff.tv/event/euchre-11/
LOCATION:Dining Hall\, 4770 Waterford Rd\, Clarkston\, MI\, United States
CATEGORIES:Club Events,Open to the Public
ATTACH;FMTTYPE=image/png:https://gunstuff.tv/wp-content/uploads/2025/11/EUCHRE-YthZFx.png
GEO:42.705297;-83.4014
X-APPLE-STRUCTURED-LOCATION;VALUE=URI;X-ADDRESS=Dining Hall 4770 Waterford Rd Clarkston MI United States;X-APPLE-RADIUS=500;X-TITLE=4770 Waterford Rd:geo:-83.4014,42.705297
END:VEVENT
BEGIN:VEVENT
DTSTART;TZID=America/New_York:20260219T183000
DTEND;TZID=America/New_York:20260219T193000
DTSTAMP:20260421T123638
CREATED:20260213T050137Z
LAST-MODIFIED:20260213T050137Z
UID:10005589-1771525800-1771529400@gunstuff.tv
SUMMARY:Drum Ball
DESCRIPTION:Drum Ball Fun on the Patio!\nJoin us for Drum Ball\, a unique and exciting way to get moving! If you’re looking for a fun\, low-impact workout that feels more like a game than exercise\, this is it.\nWe use drumsticks and large stability balls to combine drumming rhythms with fitness movements. It’s great for coordination\, core strength\, and releasing stress—all while listening to great music!\nWhen: Every Monday & Thursday evening\nTime: 6:30 PM – 7:30 PM\nLocation: Main Building Patio\nFee: $5 Drop-in per class\nNote: Sticks and balls are provided for all participants. Just bring your energy!
URL:https://gunstuff.tv/event/drum-ball-18/
LOCATION:OCSC Main Building Patio\, 4770 Waterford Rd\, Clarkston\, MI\, United States
CATEGORIES:Club Events,Open to the Public
ATTACH;FMTTYPE=image/jpeg:https://gunstuff.tv/wp-content/uploads/2025/12/Drum-Ball-at-OCSC-E9nLz4.jpg
GEO:42.705297;-83.4014
X-APPLE-STRUCTURED-LOCATION;VALUE=URI;X-ADDRESS=OCSC Main Building Patio 4770 Waterford Rd Clarkston MI United States;X-APPLE-RADIUS=500;X-TITLE=4770 Waterford Rd:geo:-83.4014,42.705297
END:VEVENT
BEGIN:VEVENT
DTSTART;TZID=America/New_York:20260223T183000
DTEND;TZID=America/New_York:20260223T193000
DTSTAMP:20260421T123638
CREATED:20260220T050131Z
LAST-MODIFIED:20260220T050131Z
UID:10005701-1771871400-1771875000@gunstuff.tv
SUMMARY:Drum Ball
DESCRIPTION:Drum Ball Fun on the Patio!\nJoin us for Drum Ball\, a unique and exciting way to get moving! If you’re looking for a fun\, low-impact workout that feels more like a game than exercise\, this is it.\nWe use drumsticks and large stability balls to combine drumming rhythms with fitness movements. It’s great for coordination\, core strength\, and releasing stress—all while listening to great music!\nWhen: Every Monday & Thursday evening\nTime: 6:30 PM – 7:30 PM\nLocation: Main Building Patio\nFee: $5 Drop-in per class\nNote: Sticks and balls are provided for all participants. Just bring your energy!
URL:https://gunstuff.tv/event/drum-ball-19/
LOCATION:OCSC Main Building Patio\, 4770 Waterford Rd\, Clarkston\, MI\, United States
CATEGORIES:Club Events,Open to the Public
ATTACH;FMTTYPE=image/jpeg:https://gunstuff.tv/wp-content/uploads/2025/12/Drum-Ball-at-OCSC-E9nLz4.jpg
GEO:42.705297;-83.4014
X-APPLE-STRUCTURED-LOCATION;VALUE=URI;X-ADDRESS=OCSC Main Building Patio 4770 Waterford Rd Clarkston MI United States;X-APPLE-RADIUS=500;X-TITLE=4770 Waterford Rd:geo:-83.4014,42.705297
END:VEVENT
BEGIN:VEVENT
DTSTART;TZID=America/New_York:20260225T183000
DTEND;TZID=America/New_York:20260225T200000
DTSTAMP:20260421T123638
CREATED:20260220T050132Z
LAST-MODIFIED:20260220T050132Z
UID:10005710-1772044200-1772049600@gunstuff.tv
SUMMARY:New Member Orientation
DESCRIPTION:
URL:https://gunstuff.tv/event/new-member-orientation-10/
LOCATION:Indoor Rifle & Pistol Range\, 4770 Waterford Rd\,\, Village of Clarkston\, 48346
CATEGORIES:Club Events,Indoor Rifle & Pistol Rage,Range
ATTACH;FMTTYPE=image/jpeg:https://gunstuff.tv/wp-content/uploads/2025/10/New-Member-orientation-8vadgR.jpg
END:VEVENT
BEGIN:VEVENT
DTSTART;TZID=America/New_York:20260225T190000
DTEND;TZID=America/New_York:20260225T203000
DTSTAMP:20260421T123638
CREATED:20260220T050132Z
LAST-MODIFIED:20260220T050132Z
UID:10005712-1772046000-1772051400@gunstuff.tv
SUMMARY:General Membership Meeting
DESCRIPTION:
URL:https://gunstuff.tv/event/general-membership-meeting-5/
LOCATION:Indoor Rifle & Pistol Range\, 4770 Waterford Rd\,\, Village of Clarkston\, 48346
CATEGORIES:Club Events
ATTACH;FMTTYPE=image/png:https://gunstuff.tv/wp-content/uploads/2025/11/cropped-Circle-Logo-e1647896702576-rsxK4E.png
END:VEVENT
END:VCALENDAR