BEGIN:VCALENDAR
VERSION:2.0
PRODID:-//GunStuff TV - ECPv6.15.20//NONSGML v1.0//EN
CALSCALE:GREGORIAN
METHOD:PUBLISH
X-WR-CALNAME:GunStuff TV
X-ORIGINAL-URL:https://gunstuff.tv
X-WR-CALDESC:Events for GunStuff TV
REFRESH-INTERVAL;VALUE=DURATION:PT1H
X-Robots-Tag:noindex
X-PUBLISHED-TTL:PT1H
BEGIN:VTIMEZONE
TZID:America/New_York
BEGIN:DAYLIGHT
TZOFFSETFROM:-0500
TZOFFSETTO:-0400
TZNAME:EDT
DTSTART:20250309T070000
END:DAYLIGHT
BEGIN:STANDARD
TZOFFSETFROM:-0400
TZOFFSETTO:-0500
TZNAME:EST
DTSTART:20251102T060000
END:STANDARD
BEGIN:DAYLIGHT
TZOFFSETFROM:-0500
TZOFFSETTO:-0400
TZNAME:EDT
DTSTART:20260308T070000
END:DAYLIGHT
BEGIN:STANDARD
TZOFFSETFROM:-0400
TZOFFSETTO:-0500
TZNAME:EST
DTSTART:20261101T060000
END:STANDARD
BEGIN:DAYLIGHT
TZOFFSETFROM:-0500
TZOFFSETTO:-0400
TZNAME:EDT
DTSTART:20270314T070000
END:DAYLIGHT
BEGIN:STANDARD
TZOFFSETFROM:-0400
TZOFFSETTO:-0500
TZNAME:EST
DTSTART:20271107T060000
END:STANDARD
END:VTIMEZONE
BEGIN:VTIMEZONE
TZID:America/Los_Angeles
BEGIN:DAYLIGHT
TZOFFSETFROM:-0800
TZOFFSETTO:-0700
TZNAME:PDT
DTSTART:20250309T100000
END:DAYLIGHT
BEGIN:STANDARD
TZOFFSETFROM:-0700
TZOFFSETTO:-0800
TZNAME:PST
DTSTART:20251102T090000
END:STANDARD
BEGIN:DAYLIGHT
TZOFFSETFROM:-0800
TZOFFSETTO:-0700
TZNAME:PDT
DTSTART:20260308T100000
END:DAYLIGHT
BEGIN:STANDARD
TZOFFSETFROM:-0700
TZOFFSETTO:-0800
TZNAME:PST
DTSTART:20261101T090000
END:STANDARD
BEGIN:DAYLIGHT
TZOFFSETFROM:-0800
TZOFFSETTO:-0700
TZNAME:PDT
DTSTART:20270314T100000
END:DAYLIGHT
BEGIN:STANDARD
TZOFFSETFROM:-0700
TZOFFSETTO:-0800
TZNAME:PST
DTSTART:20271107T090000
END:STANDARD
END:VTIMEZONE
BEGIN:VEVENT
DTSTART;TZID=America/New_York:20260223T190000
DTEND;TZID=America/New_York:20260223T210000
DTSTAMP:20260421T191759
CREATED:20260220T050131Z
LAST-MODIFIED:20260220T050131Z
UID:10005702-1771873200-1771880400@gunstuff.tv
SUMMARY:Traditional League PM
DESCRIPTION:
URL:https://gunstuff.tv/event/traditional-league-pm-8/
LOCATION:Indoor Archery Range\, 4770 Waterford Rd\, Clarkston\, MI\, United States
CATEGORIES:Archery,Indoor Archery Range,Range,Winter League
ATTACH;FMTTYPE=image/jpeg:https://gunstuff.tv/wp-content/uploads/2025/12/Traditional_Barebow-3kQxVw.jpg
GEO:42.705297;-83.4014
X-APPLE-STRUCTURED-LOCATION;VALUE=URI;X-ADDRESS=Indoor Archery Range 4770 Waterford Rd Clarkston MI United States;X-APPLE-RADIUS=500;X-TITLE=4770 Waterford Rd:geo:-83.4014,42.705297
END:VEVENT
BEGIN:VEVENT
DTSTART;TZID=America/New_York:20260223T090000
DTEND;TZID=America/New_York:20260223T110000
DTSTAMP:20260421T191759
CREATED:20260220T050131Z
LAST-MODIFIED:20260220T050131Z
UID:10005698-1771837200-1771844400@gunstuff.tv
SUMMARY:Traditional League AM
DESCRIPTION:
URL:https://gunstuff.tv/event/traditional-league-am-8/
LOCATION:Indoor Archery Range\, 4770 Waterford Rd\, Clarkston\, MI\, United States
CATEGORIES:Archery,Indoor Archery Range,Range,Winter League
ATTACH;FMTTYPE=image/jpeg:https://gunstuff.tv/wp-content/uploads/2025/12/Traditional_Barebow-3kQxVw.jpg
GEO:42.705297;-83.4014
X-APPLE-STRUCTURED-LOCATION;VALUE=URI;X-ADDRESS=Indoor Archery Range 4770 Waterford Rd Clarkston MI United States;X-APPLE-RADIUS=500;X-TITLE=4770 Waterford Rd:geo:-83.4014,42.705297
END:VEVENT
BEGIN:VEVENT
DTSTART;TZID=America/New_York:20260222T180000
DTEND;TZID=America/New_York:20260222T200000
DTSTAMP:20260421T191759
CREATED:20260220T050131Z
LAST-MODIFIED:20260220T050131Z
UID:10005696-1771783200-1771790400@gunstuff.tv
SUMMARY:FITA Target League
DESCRIPTION:
URL:https://gunstuff.tv/event/fita-target-league-8/
LOCATION:Indoor Archery Range\, 4770 Waterford Rd\, Clarkston\, MI\, United States
CATEGORIES:Archery,Indoor Archery Range,Range,Winter League
ATTACH;FMTTYPE=image/jpeg:https://gunstuff.tv/wp-content/uploads/2025/12/FITA_outdoorwednesday-4fSUc8.jpg
GEO:42.705297;-83.4014
X-APPLE-STRUCTURED-LOCATION;VALUE=URI;X-ADDRESS=Indoor Archery Range 4770 Waterford Rd Clarkston MI United States;X-APPLE-RADIUS=500;X-TITLE=4770 Waterford Rd:geo:-83.4014,42.705297
END:VEVENT
BEGIN:VEVENT
DTSTART;TZID=America/New_York:20260222T140000
DTEND;TZID=America/New_York:20260222T170000
DTSTAMP:20260421T191759
CREATED:20260220T050131Z
LAST-MODIFIED:20260220T050131Z
UID:10005695-1771768800-1771779600@gunstuff.tv
SUMMARY:Tri County FITA
DESCRIPTION:
URL:https://gunstuff.tv/event/tri-county-fita-4/
LOCATION:Indoor Archery Range\, 4770 Waterford Rd\, Clarkston\, MI\, United States
CATEGORIES:Archery,Indoor Archery Range,Tournament
ATTACH;FMTTYPE=image/png:https://gunstuff.tv/wp-content/uploads/2026/02/tri-county-8r36ne.png
GEO:42.705297;-83.4014
X-APPLE-STRUCTURED-LOCATION;VALUE=URI;X-ADDRESS=Indoor Archery Range 4770 Waterford Rd Clarkston MI United States;X-APPLE-RADIUS=500;X-TITLE=4770 Waterford Rd:geo:-83.4014,42.705297
END:VEVENT
BEGIN:VEVENT
DTSTART;TZID=America/New_York:20260222T133000
DTEND;TZID=America/New_York:20260222T170000
DTSTAMP:20260421T191759
CREATED:20260220T050131Z
LAST-MODIFIED:20260220T050131Z
UID:10005694-1771767000-1771779600@gunstuff.tv
SUMMARY:JOAD League
DESCRIPTION:
URL:https://gunstuff.tv/event/joad-league-17/
LOCATION:Indoor Archery Range\, 4770 Waterford Rd\, Clarkston\, MI\, United States
CATEGORIES:Archery,Indoor Archery Range,Range
ATTACH;FMTTYPE=image/jpeg:https://gunstuff.tv/wp-content/uploads/2025/10/JOAD-SAM-Tournament-XezJUo.jpg
GEO:42.705297;-83.4014
X-APPLE-STRUCTURED-LOCATION;VALUE=URI;X-ADDRESS=Indoor Archery Range 4770 Waterford Rd Clarkston MI United States;X-APPLE-RADIUS=500;X-TITLE=4770 Waterford Rd:geo:-83.4014,42.705297
END:VEVENT
BEGIN:VEVENT
DTSTART;TZID=America/New_York:20260222T100000
DTEND;TZID=America/New_York:20260222T120000
DTSTAMP:20260421T191759
CREATED:20260220T050131Z
LAST-MODIFIED:20260220T050132Z
UID:10005692-1771754400-1771761600@gunstuff.tv
SUMMARY:Tri County FITA
DESCRIPTION:
URL:https://gunstuff.tv/event/tri-county-fita-3/
LOCATION:Indoor Archery Range\, 4770 Waterford Rd\, Clarkston\, MI\, United States
CATEGORIES:Archery,Indoor Archery Range,Tournament
ATTACH;FMTTYPE=image/png:https://gunstuff.tv/wp-content/uploads/2026/02/tri-county-8r36ne.png
GEO:42.705297;-83.4014
X-APPLE-STRUCTURED-LOCATION;VALUE=URI;X-ADDRESS=Indoor Archery Range 4770 Waterford Rd Clarkston MI United States;X-APPLE-RADIUS=500;X-TITLE=4770 Waterford Rd:geo:-83.4014,42.705297
END:VEVENT
BEGIN:VEVENT
DTSTART;TZID=America/New_York:20260221T170000
DTEND;TZID=America/New_York:20260221T190000
DTSTAMP:20260421T191759
CREATED:20260220T050130Z
LAST-MODIFIED:20260220T050132Z
UID:10005691-1771693200-1771700400@gunstuff.tv
SUMMARY:Tri County FITA
DESCRIPTION:
URL:https://gunstuff.tv/event/tri-county-fita-2/
LOCATION:Indoor Archery Range\, 4770 Waterford Rd\, Clarkston\, MI\, United States
CATEGORIES:Archery,Indoor Archery Range,Tournament
ATTACH;FMTTYPE=image/png:https://gunstuff.tv/wp-content/uploads/2026/02/tri-county-8r36ne.png
GEO:42.705297;-83.4014
X-APPLE-STRUCTURED-LOCATION;VALUE=URI;X-ADDRESS=Indoor Archery Range 4770 Waterford Rd Clarkston MI United States;X-APPLE-RADIUS=500;X-TITLE=4770 Waterford Rd:geo:-83.4014,42.705297
END:VEVENT
BEGIN:VEVENT
DTSTART;TZID=America/New_York:20260221T130000
DTEND;TZID=America/New_York:20260221T160000
DTSTAMP:20260421T191759
CREATED:20260220T050129Z
LAST-MODIFIED:20260220T050132Z
UID:10005690-1771678800-1771689600@gunstuff.tv
SUMMARY:Tri County FITA
DESCRIPTION:
URL:https://gunstuff.tv/event/tri-county-fita/
LOCATION:Indoor Archery Range\, 4770 Waterford Rd\, Clarkston\, MI\, United States
CATEGORIES:Archery,Indoor Archery Range,Tournament
ATTACH;FMTTYPE=image/png:https://gunstuff.tv/wp-content/uploads/2026/02/tri-county-8r36ne.png
GEO:42.705297;-83.4014
X-APPLE-STRUCTURED-LOCATION;VALUE=URI;X-ADDRESS=Indoor Archery Range 4770 Waterford Rd Clarkston MI United States;X-APPLE-RADIUS=500;X-TITLE=4770 Waterford Rd:geo:-83.4014,42.705297
END:VEVENT
BEGIN:VEVENT
DTSTART;TZID=America/New_York:20260221T130000
DTEND;TZID=America/New_York:20260221T140000
DTSTAMP:20260421T191759
CREATED:20260220T050129Z
LAST-MODIFIED:20260220T050132Z
UID:10005689-1771678800-1771682400@gunstuff.tv
SUMMARY:Youth League
DESCRIPTION:
URL:https://gunstuff.tv/event/youth-league-7/
LOCATION:Indoor Archery Range\, 4770 Waterford Rd\, Clarkston\, MI\, United States
CATEGORIES:Archery,Indoor Archery Range,Range,Winter League
ATTACH;FMTTYPE=image/jpeg:https://gunstuff.tv/wp-content/uploads/2026/01/Youth-league-UT1RZZ.jpg
GEO:42.705297;-83.4014
X-APPLE-STRUCTURED-LOCATION;VALUE=URI;X-ADDRESS=Indoor Archery Range 4770 Waterford Rd Clarkston MI United States;X-APPLE-RADIUS=500;X-TITLE=4770 Waterford Rd:geo:-83.4014,42.705297
END:VEVENT
BEGIN:VEVENT
DTSTART;TZID=America/New_York:20260221T100000
DTEND;TZID=America/New_York:20260221T113000
DTSTAMP:20260421T191759
CREATED:20260220T050129Z
LAST-MODIFIED:20260220T050132Z
UID:10005687-1771668000-1771673400@gunstuff.tv
SUMMARY:Archery Instruction
DESCRIPTION:
URL:https://gunstuff.tv/event/archery-instruction-14/
LOCATION:Indoor Archery Range\, 4770 Waterford Rd\, Clarkston\, MI\, United States
CATEGORIES:Archery,Indoor Archery Range,Range
ATTACH;FMTTYPE=image/jpeg:https://gunstuff.tv/wp-content/uploads/2026/01/2026-Saturday-Instructional-social-ScMNCL.jpg
GEO:42.705297;-83.4014
X-APPLE-STRUCTURED-LOCATION;VALUE=URI;X-ADDRESS=Indoor Archery Range 4770 Waterford Rd Clarkston MI United States;X-APPLE-RADIUS=500;X-TITLE=4770 Waterford Rd:geo:-83.4014,42.705297
END:VEVENT
BEGIN:VEVENT
DTSTART;TZID=America/New_York:20260221T080000
DTEND;TZID=America/New_York:20260221T093000
DTSTAMP:20260421T191759
CREATED:20260220T050129Z
LAST-MODIFIED:20260220T050132Z
UID:10005686-1771660800-1771666200@gunstuff.tv
SUMMARY:Archery Instruction
DESCRIPTION:
URL:https://gunstuff.tv/event/archery-instruction-13/
LOCATION:Indoor Archery Range\, 4770 Waterford Rd\, Clarkston\, MI\, United States
CATEGORIES:Archery,Indoor Archery Range,Range
ATTACH;FMTTYPE=image/png:https://gunstuff.tv/wp-content/uploads/2026/01/Saturday-Instructional-o9sJbk.png
GEO:42.705297;-83.4014
X-APPLE-STRUCTURED-LOCATION;VALUE=URI;X-ADDRESS=Indoor Archery Range 4770 Waterford Rd Clarkston MI United States;X-APPLE-RADIUS=500;X-TITLE=4770 Waterford Rd:geo:-83.4014,42.705297
END:VEVENT
BEGIN:VEVENT
DTSTART;TZID=America/New_York:20260220T190000
DTEND;TZID=America/New_York:20260220T210000
DTSTAMP:20260421T191759
CREATED:20260220T050129Z
LAST-MODIFIED:20260220T050131Z
UID:10005685-1771614000-1771621200@gunstuff.tv
SUMMARY:NFAA League - Fridays
DESCRIPTION:
URL:https://gunstuff.tv/event/nfaa-league-fridays-7/
LOCATION:Indoor Archery Range\, 4770 Waterford Rd\, Clarkston\, MI\, United States
CATEGORIES:Archery,Indoor Archery Range,Range,Winter League
ATTACH;FMTTYPE=image/jpeg:https://gunstuff.tv/wp-content/uploads/2026/01/NFAA-ABnmFF.jpg
GEO:42.705297;-83.4014
X-APPLE-STRUCTURED-LOCATION;VALUE=URI;X-ADDRESS=Indoor Archery Range 4770 Waterford Rd Clarkston MI United States;X-APPLE-RADIUS=500;X-TITLE=4770 Waterford Rd:geo:-83.4014,42.705297
END:VEVENT
BEGIN:VEVENT
DTSTART;TZID=America/New_York:20260219T180000
DTEND;TZID=America/New_York:20260219T200000
DTSTAMP:20260421T191759
CREATED:20260213T050137Z
LAST-MODIFIED:20260213T050137Z
UID:10005587-1771524000-1771531200@gunstuff.tv
SUMMARY:NFAA League - Thursdays
DESCRIPTION:
URL:https://gunstuff.tv/event/nfaa-league-thursdays-6/
LOCATION:Indoor Archery Range\, 4770 Waterford Rd\, Clarkston\, MI\, United States
CATEGORIES:Archery,Indoor Archery Range,Range,Winter League
ATTACH;FMTTYPE=image/jpeg:https://gunstuff.tv/wp-content/uploads/2026/01/NFAA-ABnmFF.jpg
GEO:42.705297;-83.4014
X-APPLE-STRUCTURED-LOCATION;VALUE=URI;X-ADDRESS=Indoor Archery Range 4770 Waterford Rd Clarkston MI United States;X-APPLE-RADIUS=500;X-TITLE=4770 Waterford Rd:geo:-83.4014,42.705297
END:VEVENT
BEGIN:VEVENT
DTSTART;TZID=America/New_York:20260218T190000
DTEND;TZID=America/New_York:20260218T210000
DTSTAMP:20260421T191759
CREATED:20260213T050137Z
LAST-MODIFIED:20260213T050137Z
UID:10005585-1771441200-1771448400@gunstuff.tv
SUMMARY:Archery Meeting
DESCRIPTION:
URL:https://gunstuff.tv/event/archery-meeting-6/
LOCATION:Indoor Archery Range\, 4770 Waterford Rd\, Clarkston\, MI\, United States
CATEGORIES:Archery,Indoor Archery Range,Range
ATTACH;FMTTYPE=image/png:https://gunstuff.tv/wp-content/uploads/2025/10/archery-color-160x160-1-7Zvufe.png
GEO:42.705297;-83.4014
X-APPLE-STRUCTURED-LOCATION;VALUE=URI;X-ADDRESS=Indoor Archery Range 4770 Waterford Rd Clarkston MI United States;X-APPLE-RADIUS=500;X-TITLE=4770 Waterford Rd:geo:-83.4014,42.705297
END:VEVENT
BEGIN:VEVENT
DTSTART;TZID=America/New_York:20260218T183000
DTEND;TZID=America/New_York:20260218T200000
DTSTAMP:20260421T191759
CREATED:20260213T050136Z
LAST-MODIFIED:20260213T050136Z
UID:10005583-1771439400-1771444800@gunstuff.tv
SUMMARY:Parks & Rec Instructional Archery
DESCRIPTION:This is open to all youth 8 years and older\, adults\, members\, or non-members.\nBasics of archery including safety\, techniques\, self-improvement\, and mental concentration. Equipment is provided or bring your own (must be approved by instructors before use).\nRegister from Waterford: https://parks.waterfordmi.gov/CourseActivities.aspx?id=6\nRegister from Springfield: https://secure.rec1.com/MI/springfield-township-mi/catalog/index/b5ecc5390327b924601573b5dba299aa?filter=c2VhcmNoPWFyY2hlcnkmbG9jYXRpb24lNUI0NDQ3OSU1RD0x\nRegister from Independence: https://app.amilia.com/store/en/independence-township/shop/programs/95091?subCategoryIds=6162243
URL:https://gunstuff.tv/event/parks-rec-instructional-archery-28/
LOCATION:Indoor Archery Range\, 4770 Waterford Rd\, Clarkston\, MI\, United States
CATEGORIES:Archery,Indoor Archery Range,Range
ATTACH;FMTTYPE=image/jpeg:https://gunstuff.tv/wp-content/uploads/2026/01/indoor-archery-range-people-line-up-to-shoot-9Jgiih.jpg
GEO:42.705297;-83.4014
X-APPLE-STRUCTURED-LOCATION;VALUE=URI;X-ADDRESS=Indoor Archery Range 4770 Waterford Rd Clarkston MI United States;X-APPLE-RADIUS=500;X-TITLE=4770 Waterford Rd:geo:-83.4014,42.705297
END:VEVENT
BEGIN:VEVENT
DTSTART;TZID=America/New_York:20260218T163000
DTEND;TZID=America/New_York:20260218T180000
DTSTAMP:20260421T191759
CREATED:20260213T050136Z
LAST-MODIFIED:20260213T050136Z
UID:10005580-1771432200-1771437600@gunstuff.tv
SUMMARY:Parks & Rec Instructional Archery
DESCRIPTION:This is open to all youth 8 years and older\, adults\, members\, or non-members.\nBasics of archery including safety\, techniques\, self-improvement\, and mental concentration. Equipment is provided or bring your own (must be approved by instructors before use).\nRegister from Waterford: https://parks.waterfordmi.gov/CourseActivities.aspx?id=6\nRegister from Springfield: https://secure.rec1.com/MI/springfield-township-mi/catalog/index/b5ecc5390327b924601573b5dba299aa?filter=c2VhcmNoPWFyY2hlcnkmbG9jYXRpb24lNUI0NDQ3OSU1RD0x\nRegister from Independence: https://app.amilia.com/store/en/independence-township/shop/programs/95091?subCategoryIds=6162243
URL:https://gunstuff.tv/event/parks-rec-instructional-archery-27/
LOCATION:Indoor Archery Range\, 4770 Waterford Rd\, Clarkston\, MI\, United States
CATEGORIES:Archery,Indoor Archery Range,Range
ATTACH;FMTTYPE=image/jpeg:https://gunstuff.tv/wp-content/uploads/2026/01/indoor-archery-range-people-line-up-to-shoot-9Jgiih.jpg
GEO:42.705297;-83.4014
X-APPLE-STRUCTURED-LOCATION;VALUE=URI;X-ADDRESS=Indoor Archery Range 4770 Waterford Rd Clarkston MI United States;X-APPLE-RADIUS=500;X-TITLE=4770 Waterford Rd:geo:-83.4014,42.705297
END:VEVENT
BEGIN:VEVENT
DTSTART;TZID=America/New_York:20260218T093000
DTEND;TZID=America/New_York:20260218T113000
DTSTAMP:20260421T191759
CREATED:20260213T050136Z
LAST-MODIFIED:20260213T050136Z
UID:10005579-1771407000-1771414200@gunstuff.tv
SUMMARY:NFAA League - Wednesdays
DESCRIPTION:
URL:https://gunstuff.tv/event/nfaa-league-wednesdays-7/
LOCATION:Indoor Archery Range\, 4770 Waterford Rd\, Clarkston\, MI\, United States
CATEGORIES:Archery,Indoor Archery Range,Range,Winter League
ATTACH;FMTTYPE=image/jpeg:https://gunstuff.tv/wp-content/uploads/2026/01/NFAA-ABnmFF.jpg
GEO:42.705297;-83.4014
X-APPLE-STRUCTURED-LOCATION;VALUE=URI;X-ADDRESS=Indoor Archery Range 4770 Waterford Rd Clarkston MI United States;X-APPLE-RADIUS=500;X-TITLE=4770 Waterford Rd:geo:-83.4014,42.705297
END:VEVENT
BEGIN:VEVENT
DTSTART;TZID=America/New_York:20260217T190000
DTEND;TZID=America/New_York:20260217T210000
DTSTAMP:20260421T191759
CREATED:20260213T050136Z
LAST-MODIFIED:20260213T050136Z
UID:10005576-1771354800-1771362000@gunstuff.tv
SUMMARY:Animal League
DESCRIPTION:
URL:https://gunstuff.tv/event/animal-league-7/
LOCATION:Indoor Archery Range\, 4770 Waterford Rd\, Clarkston\, MI\, United States
CATEGORIES:Archery,Indoor Archery Range,Range,Winter League
ATTACH;FMTTYPE=image/jpeg:https://gunstuff.tv/wp-content/uploads/2026/01/Animal-X5cx5x.jpg
GEO:42.705297;-83.4014
X-APPLE-STRUCTURED-LOCATION;VALUE=URI;X-ADDRESS=Indoor Archery Range 4770 Waterford Rd Clarkston MI United States;X-APPLE-RADIUS=500;X-TITLE=4770 Waterford Rd:geo:-83.4014,42.705297
END:VEVENT
BEGIN:VEVENT
DTSTART;TZID=America/New_York:20260216T190000
DTEND;TZID=America/New_York:20260216T210000
DTSTAMP:20260421T191759
CREATED:20260213T050136Z
LAST-MODIFIED:20260213T050136Z
UID:10005575-1771268400-1771275600@gunstuff.tv
SUMMARY:Traditional League PM
DESCRIPTION:
URL:https://gunstuff.tv/event/traditional-league-pm-7/
LOCATION:Indoor Archery Range\, 4770 Waterford Rd\, Clarkston\, MI\, United States
CATEGORIES:Archery,Indoor Archery Range,Range,Winter League
ATTACH;FMTTYPE=image/jpeg:https://gunstuff.tv/wp-content/uploads/2025/12/Traditional_Barebow-3kQxVw.jpg
GEO:42.705297;-83.4014
X-APPLE-STRUCTURED-LOCATION;VALUE=URI;X-ADDRESS=Indoor Archery Range 4770 Waterford Rd Clarkston MI United States;X-APPLE-RADIUS=500;X-TITLE=4770 Waterford Rd:geo:-83.4014,42.705297
END:VEVENT
BEGIN:VEVENT
DTSTART;TZID=America/New_York:20260216T090000
DTEND;TZID=America/New_York:20260216T110000
DTSTAMP:20260421T191759
CREATED:20260213T050136Z
LAST-MODIFIED:20260213T050136Z
UID:10005572-1771232400-1771239600@gunstuff.tv
SUMMARY:Traditional League AM
DESCRIPTION:
URL:https://gunstuff.tv/event/traditional-league-am-7/
LOCATION:Indoor Archery Range\, 4770 Waterford Rd\, Clarkston\, MI\, United States
CATEGORIES:Archery,Indoor Archery Range,Range,Winter League
ATTACH;FMTTYPE=image/jpeg:https://gunstuff.tv/wp-content/uploads/2025/12/Traditional_Barebow-3kQxVw.jpg
GEO:42.705297;-83.4014
X-APPLE-STRUCTURED-LOCATION;VALUE=URI;X-ADDRESS=Indoor Archery Range 4770 Waterford Rd Clarkston MI United States;X-APPLE-RADIUS=500;X-TITLE=4770 Waterford Rd:geo:-83.4014,42.705297
END:VEVENT
BEGIN:VEVENT
DTSTART;TZID=America/New_York:20260215T180000
DTEND;TZID=America/New_York:20260215T200000
DTSTAMP:20260421T191759
CREATED:20260213T050135Z
LAST-MODIFIED:20260213T050135Z
UID:10005569-1771178400-1771185600@gunstuff.tv
SUMMARY:FITA Target League
DESCRIPTION:
URL:https://gunstuff.tv/event/fita-target-league-7/
LOCATION:Indoor Archery Range\, 4770 Waterford Rd\, Clarkston\, MI\, United States
CATEGORIES:Archery,Indoor Archery Range,Range,Winter League
ATTACH;FMTTYPE=image/jpeg:https://gunstuff.tv/wp-content/uploads/2025/12/FITA_outdoorwednesday-4fSUc8.jpg
GEO:42.705297;-83.4014
X-APPLE-STRUCTURED-LOCATION;VALUE=URI;X-ADDRESS=Indoor Archery Range 4770 Waterford Rd Clarkston MI United States;X-APPLE-RADIUS=500;X-TITLE=4770 Waterford Rd:geo:-83.4014,42.705297
END:VEVENT
BEGIN:VEVENT
DTSTART;TZID=America/New_York:20260215T133000
DTEND;TZID=America/New_York:20260215T170000
DTSTAMP:20260421T191759
CREATED:20260213T050135Z
LAST-MODIFIED:20260213T050135Z
UID:10005568-1771162200-1771174800@gunstuff.tv
SUMMARY:JOAD League
DESCRIPTION:
URL:https://gunstuff.tv/event/joad-league-16/
LOCATION:Indoor Archery Range\, 4770 Waterford Rd\, Clarkston\, MI\, United States
CATEGORIES:Archery,Indoor Archery Range,Range
ATTACH;FMTTYPE=image/jpeg:https://gunstuff.tv/wp-content/uploads/2025/10/JOAD-SAM-Tournament-XezJUo.jpg
GEO:42.705297;-83.4014
X-APPLE-STRUCTURED-LOCATION;VALUE=URI;X-ADDRESS=Indoor Archery Range 4770 Waterford Rd Clarkston MI United States;X-APPLE-RADIUS=500;X-TITLE=4770 Waterford Rd:geo:-83.4014,42.705297
END:VEVENT
BEGIN:VEVENT
DTSTART;TZID=America/Los_Angeles:20260215T130000
DTEND;TZID=America/Los_Angeles:20260215T150000
DTSTAMP:20260421T191759
CREATED:20260116T190319Z
LAST-MODIFIED:20260213T192138Z
UID:10004532-1771160400-1771167600@gunstuff.tv
SUMMARY:Musketeer Archery
DESCRIPTION:18 year and younger Youth Archery practice and instruction every third Sunday .  Youth Archery Equipment is provided\, and there is no charge for the event. \nPlease let us know you are coming: \n                          ->Signup here<- \nWe have various sized bows to accommodate most ages and sizes. \n \n 
URL:https://gunstuff.tv/event/musketeer-archery-4/
LOCATION:USI Archery Range\, 4700 Evora Road\, Concord\, CA\, 94520\, United States
CATEGORIES:Archery,Musketeers
ATTACH;FMTTYPE=image/jpeg:https://gunstuff.tv/wp-content/uploads/2025/10/Youth_Archery_cleanup-gMLvVj.jpg
ORGANIZER;CN="Glenn Rustia":MAILTO:glennjo2@gmail.com
END:VEVENT
BEGIN:VEVENT
DTSTART;TZID=America/New_York:20260214T130000
DTEND;TZID=America/New_York:20260214T140000
DTSTAMP:20260421T191759
CREATED:20260213T050135Z
LAST-MODIFIED:20260213T050135Z
UID:10005566-1771074000-1771077600@gunstuff.tv
SUMMARY:Youth League
DESCRIPTION:
URL:https://gunstuff.tv/event/youth-league-6/
LOCATION:Indoor Archery Range\, 4770 Waterford Rd\, Clarkston\, MI\, United States
CATEGORIES:Archery,Indoor Archery Range,Range,Winter League
ATTACH;FMTTYPE=image/jpeg:https://gunstuff.tv/wp-content/uploads/2026/01/Youth-league-UT1RZZ.jpg
GEO:42.705297;-83.4014
X-APPLE-STRUCTURED-LOCATION;VALUE=URI;X-ADDRESS=Indoor Archery Range 4770 Waterford Rd Clarkston MI United States;X-APPLE-RADIUS=500;X-TITLE=4770 Waterford Rd:geo:-83.4014,42.705297
END:VEVENT
BEGIN:VEVENT
DTSTART;TZID=America/New_York:20260214T100000
DTEND;TZID=America/New_York:20260214T113000
DTSTAMP:20260421T191759
CREATED:20260213T050135Z
LAST-MODIFIED:20260213T050135Z
UID:10005564-1771063200-1771068600@gunstuff.tv
SUMMARY:Archery Instruction
DESCRIPTION:
URL:https://gunstuff.tv/event/archery-instruction-12/
LOCATION:Indoor Archery Range\, 4770 Waterford Rd\, Clarkston\, MI\, United States
CATEGORIES:Archery,Indoor Archery Range,Range
ATTACH;FMTTYPE=image/jpeg:https://gunstuff.tv/wp-content/uploads/2026/01/2026-Saturday-Instructional-social-ScMNCL.jpg
GEO:42.705297;-83.4014
X-APPLE-STRUCTURED-LOCATION;VALUE=URI;X-ADDRESS=Indoor Archery Range 4770 Waterford Rd Clarkston MI United States;X-APPLE-RADIUS=500;X-TITLE=4770 Waterford Rd:geo:-83.4014,42.705297
END:VEVENT
BEGIN:VEVENT
DTSTART;TZID=America/New_York:20260214T080000
DTEND;TZID=America/New_York:20260214T093000
DTSTAMP:20260421T191759
CREATED:20260213T050135Z
LAST-MODIFIED:20260213T050135Z
UID:10005563-1771056000-1771061400@gunstuff.tv
SUMMARY:Archery Instruction
DESCRIPTION:
URL:https://gunstuff.tv/event/archery-instruction-11/
LOCATION:Indoor Archery Range\, 4770 Waterford Rd\, Clarkston\, MI\, United States
CATEGORIES:Archery,Indoor Archery Range,Range
ATTACH;FMTTYPE=image/png:https://gunstuff.tv/wp-content/uploads/2026/01/Saturday-Instructional-o9sJbk.png
GEO:42.705297;-83.4014
X-APPLE-STRUCTURED-LOCATION;VALUE=URI;X-ADDRESS=Indoor Archery Range 4770 Waterford Rd Clarkston MI United States;X-APPLE-RADIUS=500;X-TITLE=4770 Waterford Rd:geo:-83.4014,42.705297
END:VEVENT
BEGIN:VEVENT
DTSTART;TZID=America/New_York:20260213T190000
DTEND;TZID=America/New_York:20260213T210000
DTSTAMP:20260421T191759
CREATED:20260213T050135Z
LAST-MODIFIED:20260213T050135Z
UID:10005562-1771009200-1771016400@gunstuff.tv
SUMMARY:NFAA League - Fridays
DESCRIPTION:
URL:https://gunstuff.tv/event/nfaa-league-fridays-6/
LOCATION:Indoor Archery Range\, 4770 Waterford Rd\, Clarkston\, MI\, United States
CATEGORIES:Archery,Indoor Archery Range,Range,Winter League
ATTACH;FMTTYPE=image/jpeg:https://gunstuff.tv/wp-content/uploads/2026/01/NFAA-ABnmFF.jpg
GEO:42.705297;-83.4014
X-APPLE-STRUCTURED-LOCATION;VALUE=URI;X-ADDRESS=Indoor Archery Range 4770 Waterford Rd Clarkston MI United States;X-APPLE-RADIUS=500;X-TITLE=4770 Waterford Rd:geo:-83.4014,42.705297
END:VEVENT
BEGIN:VEVENT
DTSTART;TZID=America/New_York:20260211T183000
DTEND;TZID=America/New_York:20260211T200000
DTSTAMP:20260421T191759
CREATED:20260206T050154Z
LAST-MODIFIED:20260206T050154Z
UID:10005010-1770834600-1770840000@gunstuff.tv
SUMMARY:Parks & Rec Instructional Archery
DESCRIPTION:This is open to all youth 8 years and older\, adults\, members\, or non-members.\nBasics of archery including safety\, techniques\, self-improvement\, and mental concentration. Equipment is provided or bring your own (must be approved by instructors before use).\nRegister from Waterford: https://parks.waterfordmi.gov/CourseActivities.aspx?id=6\nRegister from Springfield: https://secure.rec1.com/MI/springfield-township-mi/catalog/index/b5ecc5390327b924601573b5dba299aa?filter=c2VhcmNoPWFyY2hlcnkmbG9jYXRpb24lNUI0NDQ3OSU1RD0x\nRegister from Independence: https://app.amilia.com/store/en/independence-township/shop/programs/95091?subCategoryIds=6162243
URL:https://gunstuff.tv/event/parks-rec-instructional-archery-26/
LOCATION:Indoor Archery Range\, 4770 Waterford Rd\, Clarkston\, MI\, United States
CATEGORIES:Archery,Indoor Archery Range,Range
ATTACH;FMTTYPE=image/jpeg:https://gunstuff.tv/wp-content/uploads/2026/01/indoor-archery-range-people-line-up-to-shoot-9Jgiih.jpg
GEO:42.705297;-83.4014
X-APPLE-STRUCTURED-LOCATION;VALUE=URI;X-ADDRESS=Indoor Archery Range 4770 Waterford Rd Clarkston MI United States;X-APPLE-RADIUS=500;X-TITLE=4770 Waterford Rd:geo:-83.4014,42.705297
END:VEVENT
BEGIN:VEVENT
DTSTART;TZID=America/New_York:20260211T163000
DTEND;TZID=America/New_York:20260211T180000
DTSTAMP:20260421T191759
CREATED:20260206T050153Z
LAST-MODIFIED:20260206T050153Z
UID:10005007-1770827400-1770832800@gunstuff.tv
SUMMARY:Parks & Rec Instructional Archery
DESCRIPTION:This is open to all youth 8 years and older\, adults\, members\, or non-members.\nBasics of archery including safety\, techniques\, self-improvement\, and mental concentration. Equipment is provided or bring your own (must be approved by instructors before use).\nRegister from Waterford: https://parks.waterfordmi.gov/CourseActivities.aspx?id=6\nRegister from Springfield: https://secure.rec1.com/MI/springfield-township-mi/catalog/index/b5ecc5390327b924601573b5dba299aa?filter=c2VhcmNoPWFyY2hlcnkmbG9jYXRpb24lNUI0NDQ3OSU1RD0x\nRegister from Independence: https://app.amilia.com/store/en/independence-township/shop/programs/95091?subCategoryIds=6162243
URL:https://gunstuff.tv/event/parks-rec-instructional-archery-25/
LOCATION:Indoor Archery Range\, 4770 Waterford Rd\, Clarkston\, MI\, United States
CATEGORIES:Archery,Indoor Archery Range,Range
ATTACH;FMTTYPE=image/jpeg:https://gunstuff.tv/wp-content/uploads/2026/01/indoor-archery-range-people-line-up-to-shoot-9Jgiih.jpg
GEO:42.705297;-83.4014
X-APPLE-STRUCTURED-LOCATION;VALUE=URI;X-ADDRESS=Indoor Archery Range 4770 Waterford Rd Clarkston MI United States;X-APPLE-RADIUS=500;X-TITLE=4770 Waterford Rd:geo:-83.4014,42.705297
END:VEVENT
BEGIN:VEVENT
DTSTART;TZID=America/New_York:20260211T093000
DTEND;TZID=America/New_York:20260211T113000
DTSTAMP:20260421T191759
CREATED:20260206T050153Z
LAST-MODIFIED:20260206T050153Z
UID:10005006-1770802200-1770809400@gunstuff.tv
SUMMARY:NFAA League - Wednesdays
DESCRIPTION:
URL:https://gunstuff.tv/event/nfaa-league-wednesdays-6/
LOCATION:Indoor Archery Range\, 4770 Waterford Rd\, Clarkston\, MI\, United States
CATEGORIES:Archery,Indoor Archery Range,Range,Winter League
ATTACH;FMTTYPE=image/jpeg:https://gunstuff.tv/wp-content/uploads/2026/01/NFAA-ABnmFF.jpg
GEO:42.705297;-83.4014
X-APPLE-STRUCTURED-LOCATION;VALUE=URI;X-ADDRESS=Indoor Archery Range 4770 Waterford Rd Clarkston MI United States;X-APPLE-RADIUS=500;X-TITLE=4770 Waterford Rd:geo:-83.4014,42.705297
END:VEVENT
END:VCALENDAR