BEGIN:VCALENDAR
VERSION:2.0
PRODID:-//GunStuff TV - ECPv6.15.20//NONSGML v1.0//EN
CALSCALE:GREGORIAN
METHOD:PUBLISH
X-WR-CALNAME:GunStuff TV
X-ORIGINAL-URL:https://gunstuff.tv
X-WR-CALDESC:Events for GunStuff TV
REFRESH-INTERVAL;VALUE=DURATION:PT1H
X-Robots-Tag:noindex
X-PUBLISHED-TTL:PT1H
BEGIN:VTIMEZONE
TZID:America/New_York
BEGIN:DAYLIGHT
TZOFFSETFROM:-0500
TZOFFSETTO:-0400
TZNAME:EDT
DTSTART:20250309T070000
END:DAYLIGHT
BEGIN:STANDARD
TZOFFSETFROM:-0400
TZOFFSETTO:-0500
TZNAME:EST
DTSTART:20251102T060000
END:STANDARD
BEGIN:DAYLIGHT
TZOFFSETFROM:-0500
TZOFFSETTO:-0400
TZNAME:EDT
DTSTART:20260308T070000
END:DAYLIGHT
BEGIN:STANDARD
TZOFFSETFROM:-0400
TZOFFSETTO:-0500
TZNAME:EST
DTSTART:20261101T060000
END:STANDARD
BEGIN:DAYLIGHT
TZOFFSETFROM:-0500
TZOFFSETTO:-0400
TZNAME:EDT
DTSTART:20270314T070000
END:DAYLIGHT
BEGIN:STANDARD
TZOFFSETFROM:-0400
TZOFFSETTO:-0500
TZNAME:EST
DTSTART:20271107T060000
END:STANDARD
END:VTIMEZONE
BEGIN:VTIMEZONE
TZID:America/Los_Angeles
BEGIN:DAYLIGHT
TZOFFSETFROM:-0800
TZOFFSETTO:-0700
TZNAME:PDT
DTSTART:20250309T100000
END:DAYLIGHT
BEGIN:STANDARD
TZOFFSETFROM:-0700
TZOFFSETTO:-0800
TZNAME:PST
DTSTART:20251102T090000
END:STANDARD
BEGIN:DAYLIGHT
TZOFFSETFROM:-0800
TZOFFSETTO:-0700
TZNAME:PDT
DTSTART:20260308T100000
END:DAYLIGHT
BEGIN:STANDARD
TZOFFSETFROM:-0700
TZOFFSETTO:-0800
TZNAME:PST
DTSTART:20261101T090000
END:STANDARD
BEGIN:DAYLIGHT
TZOFFSETFROM:-0800
TZOFFSETTO:-0700
TZNAME:PDT
DTSTART:20270314T100000
END:DAYLIGHT
BEGIN:STANDARD
TZOFFSETFROM:-0700
TZOFFSETTO:-0800
TZNAME:PST
DTSTART:20271107T090000
END:STANDARD
END:VTIMEZONE
BEGIN:VEVENT
DTSTART;TZID=America/New_York:20260318T190000
DTEND;TZID=America/New_York:20260318T210000
DTSTAMP:20260421T103440
CREATED:20260313T051640Z
LAST-MODIFIED:20260313T051640Z
UID:10006302-1773860400-1773867600@gunstuff.tv
SUMMARY:Archery Meeting
DESCRIPTION:
URL:https://gunstuff.tv/event/archery-meeting-7/
LOCATION:Indoor Archery Range\, 4770 Waterford Rd\, Clarkston\, MI\, United States
CATEGORIES:Archery,Indoor Archery Range,Range
ATTACH;FMTTYPE=image/png:https://gunstuff.tv/wp-content/uploads/2025/10/archery-color-160x160-1-7Zvufe.png
GEO:42.705297;-83.4014
X-APPLE-STRUCTURED-LOCATION;VALUE=URI;X-ADDRESS=Indoor Archery Range 4770 Waterford Rd Clarkston MI United States;X-APPLE-RADIUS=500;X-TITLE=4770 Waterford Rd:geo:-83.4014,42.705297
END:VEVENT
BEGIN:VEVENT
DTSTART;TZID=America/New_York:20260318T183000
DTEND;TZID=America/New_York:20260318T200000
DTSTAMP:20260421T103440
CREATED:20260313T051640Z
LAST-MODIFIED:20260313T051640Z
UID:10006300-1773858600-1773864000@gunstuff.tv
SUMMARY:Parks & Rec Instructional Archery
DESCRIPTION:This is open to all youth 8 years and older\, adults\, members\, or non-members.\nBasics of archery including safety\, techniques\, self-improvement\, and mental concentration. Equipment is provided or bring your own (must be approved by instructors before use).\nRegister from Waterford: https://parks.waterfordmi.gov/CourseActivities.aspx?id=6\nRegister from Springfield: https://secure.rec1.com/MI/springfield-township-mi/catalog/index/b5ecc5390327b924601573b5dba299aa?filter=c2VhcmNoPWFyY2hlcnkmbG9jYXRpb24lNUI0NDQ3OSU1RD0x\nRegister from Independence: https://app.amilia.com/store/en/independence-township/shop/programs/95091?subCategoryIds=6162243
URL:https://gunstuff.tv/event/parks-rec-instructional-archery-36/
LOCATION:Indoor Archery Range\, 4770 Waterford Rd\, Clarkston\, MI\, United States
CATEGORIES:Archery,Indoor Archery Range,Range
ATTACH;FMTTYPE=image/jpeg:https://gunstuff.tv/wp-content/uploads/2026/01/indoor-archery-range-people-line-up-to-shoot-9Jgiih.jpg
GEO:42.705297;-83.4014
X-APPLE-STRUCTURED-LOCATION;VALUE=URI;X-ADDRESS=Indoor Archery Range 4770 Waterford Rd Clarkston MI United States;X-APPLE-RADIUS=500;X-TITLE=4770 Waterford Rd:geo:-83.4014,42.705297
END:VEVENT
BEGIN:VEVENT
DTSTART;TZID=America/New_York:20260318T163000
DTEND;TZID=America/New_York:20260318T180000
DTSTAMP:20260421T103440
CREATED:20260313T051640Z
LAST-MODIFIED:20260313T051640Z
UID:10006297-1773851400-1773856800@gunstuff.tv
SUMMARY:Parks & Rec Instructional Archery
DESCRIPTION:This is open to all youth 8 years and older\, adults\, members\, or non-members.\nBasics of archery including safety\, techniques\, self-improvement\, and mental concentration. Equipment is provided or bring your own (must be approved by instructors before use).\nRegister from Waterford: https://parks.waterfordmi.gov/CourseActivities.aspx?id=6\nRegister from Springfield: https://secure.rec1.com/MI/springfield-township-mi/catalog/index/b5ecc5390327b924601573b5dba299aa?filter=c2VhcmNoPWFyY2hlcnkmbG9jYXRpb24lNUI0NDQ3OSU1RD0x\nRegister from Independence: https://app.amilia.com/store/en/independence-township/shop/programs/95091?subCategoryIds=6162243
URL:https://gunstuff.tv/event/parks-rec-instructional-archery-35/
LOCATION:Indoor Archery Range\, 4770 Waterford Rd\, Clarkston\, MI\, United States
CATEGORIES:Archery,Indoor Archery Range,Range
ATTACH;FMTTYPE=image/jpeg:https://gunstuff.tv/wp-content/uploads/2026/01/indoor-archery-range-people-line-up-to-shoot-9Jgiih.jpg
GEO:42.705297;-83.4014
X-APPLE-STRUCTURED-LOCATION;VALUE=URI;X-ADDRESS=Indoor Archery Range 4770 Waterford Rd Clarkston MI United States;X-APPLE-RADIUS=500;X-TITLE=4770 Waterford Rd:geo:-83.4014,42.705297
END:VEVENT
BEGIN:VEVENT
DTSTART;TZID=America/New_York:20260318T093000
DTEND;TZID=America/New_York:20260318T113000
DTSTAMP:20260421T103440
CREATED:20260313T051640Z
LAST-MODIFIED:20260313T051640Z
UID:10006296-1773826200-1773833400@gunstuff.tv
SUMMARY:NFAA League - Wednesdays
DESCRIPTION:
URL:https://gunstuff.tv/event/nfaa-league-wednesdays-11/
LOCATION:Indoor Archery Range\, 4770 Waterford Rd\, Clarkston\, MI\, United States
CATEGORIES:Archery,Indoor Archery Range,Range,Winter League
ATTACH;FMTTYPE=image/jpeg:https://gunstuff.tv/wp-content/uploads/2026/01/NFAA-ABnmFF.jpg
GEO:42.705297;-83.4014
X-APPLE-STRUCTURED-LOCATION;VALUE=URI;X-ADDRESS=Indoor Archery Range 4770 Waterford Rd Clarkston MI United States;X-APPLE-RADIUS=500;X-TITLE=4770 Waterford Rd:geo:-83.4014,42.705297
END:VEVENT
BEGIN:VEVENT
DTSTART;TZID=America/New_York:20260317T190000
DTEND;TZID=America/New_York:20260317T210000
DTSTAMP:20260421T103440
CREATED:20260313T051640Z
LAST-MODIFIED:20260313T051640Z
UID:10006295-1773774000-1773781200@gunstuff.tv
SUMMARY:Animal League
DESCRIPTION:
URL:https://gunstuff.tv/event/animal-league-11/
LOCATION:Indoor Archery Range\, 4770 Waterford Rd\, Clarkston\, MI\, United States
CATEGORIES:Archery,Indoor Archery Range,Range,Winter League
ATTACH;FMTTYPE=image/jpeg:https://gunstuff.tv/wp-content/uploads/2026/01/Animal-X5cx5x.jpg
GEO:42.705297;-83.4014
X-APPLE-STRUCTURED-LOCATION;VALUE=URI;X-ADDRESS=Indoor Archery Range 4770 Waterford Rd Clarkston MI United States;X-APPLE-RADIUS=500;X-TITLE=4770 Waterford Rd:geo:-83.4014,42.705297
END:VEVENT
BEGIN:VEVENT
DTSTART;TZID=America/New_York:20260316T190000
DTEND;TZID=America/New_York:20260316T210000
DTSTAMP:20260421T103440
CREATED:20260313T051639Z
LAST-MODIFIED:20260313T051639Z
UID:10006290-1773687600-1773694800@gunstuff.tv
SUMMARY:Traditional League PM
DESCRIPTION:
URL:https://gunstuff.tv/event/traditional-league-pm-11/
LOCATION:Indoor Archery Range\, 4770 Waterford Rd\, Clarkston\, MI\, United States
CATEGORIES:Archery,Indoor Archery Range,Range,Winter League
ATTACH;FMTTYPE=image/jpeg:https://gunstuff.tv/wp-content/uploads/2025/12/Traditional_Barebow-3kQxVw.jpg
GEO:42.705297;-83.4014
X-APPLE-STRUCTURED-LOCATION;VALUE=URI;X-ADDRESS=Indoor Archery Range 4770 Waterford Rd Clarkston MI United States;X-APPLE-RADIUS=500;X-TITLE=4770 Waterford Rd:geo:-83.4014,42.705297
END:VEVENT
BEGIN:VEVENT
DTSTART;TZID=America/New_York:20260316T090000
DTEND;TZID=America/New_York:20260316T110000
DTSTAMP:20260421T103440
CREATED:20260313T051639Z
LAST-MODIFIED:20260313T051639Z
UID:10006289-1773651600-1773658800@gunstuff.tv
SUMMARY:Traditional League AM
DESCRIPTION:
URL:https://gunstuff.tv/event/traditional-league-am-11/
LOCATION:Indoor Archery Range\, 4770 Waterford Rd\, Clarkston\, MI\, United States
CATEGORIES:Archery,Indoor Archery Range,Range,Winter League
ATTACH;FMTTYPE=image/jpeg:https://gunstuff.tv/wp-content/uploads/2025/12/Traditional_Barebow-3kQxVw.jpg
GEO:42.705297;-83.4014
X-APPLE-STRUCTURED-LOCATION;VALUE=URI;X-ADDRESS=Indoor Archery Range 4770 Waterford Rd Clarkston MI United States;X-APPLE-RADIUS=500;X-TITLE=4770 Waterford Rd:geo:-83.4014,42.705297
END:VEVENT
BEGIN:VEVENT
DTSTART;TZID=America/New_York:20260315T180000
DTEND;TZID=America/New_York:20260315T200000
DTSTAMP:20260421T103440
CREATED:20260313T051639Z
LAST-MODIFIED:20260313T051639Z
UID:10006286-1773597600-1773604800@gunstuff.tv
SUMMARY:FITA Target League
DESCRIPTION:
URL:https://gunstuff.tv/event/fita-target-league-11/
LOCATION:Indoor Archery Range\, 4770 Waterford Rd\, Clarkston\, MI\, United States
CATEGORIES:Archery,Indoor Archery Range,Range,Winter League
ATTACH;FMTTYPE=image/jpeg:https://gunstuff.tv/wp-content/uploads/2025/12/FITA_outdoorwednesday-4fSUc8.jpg
GEO:42.705297;-83.4014
X-APPLE-STRUCTURED-LOCATION;VALUE=URI;X-ADDRESS=Indoor Archery Range 4770 Waterford Rd Clarkston MI United States;X-APPLE-RADIUS=500;X-TITLE=4770 Waterford Rd:geo:-83.4014,42.705297
END:VEVENT
BEGIN:VEVENT
DTSTART;TZID=America/New_York:20260315T133000
DTEND;TZID=America/New_York:20260315T170000
DTSTAMP:20260421T103440
CREATED:20260313T051639Z
LAST-MODIFIED:20260313T051639Z
UID:10006285-1773581400-1773594000@gunstuff.tv
SUMMARY:JOAD League
DESCRIPTION:
URL:https://gunstuff.tv/event/joad-league-20/
LOCATION:Indoor Archery Range\, 4770 Waterford Rd\, Clarkston\, MI\, United States
CATEGORIES:Archery,Indoor Archery Range,Range
ATTACH;FMTTYPE=image/jpeg:https://gunstuff.tv/wp-content/uploads/2025/10/JOAD-SAM-Tournament-XezJUo.jpg
GEO:42.705297;-83.4014
X-APPLE-STRUCTURED-LOCATION;VALUE=URI;X-ADDRESS=Indoor Archery Range 4770 Waterford Rd Clarkston MI United States;X-APPLE-RADIUS=500;X-TITLE=4770 Waterford Rd:geo:-83.4014,42.705297
END:VEVENT
BEGIN:VEVENT
DTSTART;TZID=America/Los_Angeles:20260315T130000
DTEND;TZID=America/Los_Angeles:20260315T150000
DTSTAMP:20260421T103440
CREATED:20260213T192141Z
LAST-MODIFIED:20260313T193137Z
UID:10005604-1773579600-1773586800@gunstuff.tv
SUMMARY:Musketeer Archery
DESCRIPTION:18 year and younger Youth Archery practice and instruction every third Sunday .  Youth Archery Equipment is provided\, and there is no charge for the event. \nPlease let us know you are coming: \n                          ->Signup here<- \nWe have various sized bows to accommodate most ages and sizes. \n \n 
URL:https://gunstuff.tv/event/musketeer-archery-5/
LOCATION:USI Archery Range\, 4700 Evora Road\, Concord\, CA\, 94520\, United States
CATEGORIES:Archery,Musketeers
ATTACH;FMTTYPE=image/jpeg:https://gunstuff.tv/wp-content/uploads/2025/10/Youth_Archery_cleanup-gMLvVj.jpg
ORGANIZER;CN="Glenn Rustia":MAILTO:glennjo2@gmail.com
END:VEVENT
BEGIN:VEVENT
DTSTART;TZID=America/New_York:20260314T130000
DTEND;TZID=America/New_York:20260314T140000
DTSTAMP:20260421T103440
CREATED:20260313T051631Z
LAST-MODIFIED:20260313T051632Z
UID:10006283-1773493200-1773496800@gunstuff.tv
SUMMARY:Youth League
DESCRIPTION:
URL:https://gunstuff.tv/event/youth-league-11/
LOCATION:Indoor Archery Range\, 4770 Waterford Rd\, Clarkston\, MI\, United States
CATEGORIES:Archery,Indoor Archery Range,Range,Winter League
ATTACH;FMTTYPE=image/jpeg:https://gunstuff.tv/wp-content/uploads/2026/01/Youth-league-UT1RZZ.jpg
GEO:42.705297;-83.4014
X-APPLE-STRUCTURED-LOCATION;VALUE=URI;X-ADDRESS=Indoor Archery Range 4770 Waterford Rd Clarkston MI United States;X-APPLE-RADIUS=500;X-TITLE=4770 Waterford Rd:geo:-83.4014,42.705297
END:VEVENT
BEGIN:VEVENT
DTSTART;TZID=America/New_York:20260314T100000
DTEND;TZID=America/New_York:20260314T113000
DTSTAMP:20260421T103440
CREATED:20260313T051631Z
LAST-MODIFIED:20260313T051632Z
UID:10006281-1773482400-1773487800@gunstuff.tv
SUMMARY:Archery Instruction
DESCRIPTION:
URL:https://gunstuff.tv/event/archery-instruction-22/
LOCATION:Indoor Archery Range\, 4770 Waterford Rd\, Clarkston\, MI\, United States
CATEGORIES:Archery,Indoor Archery Range,Range
ATTACH;FMTTYPE=image/jpeg:https://gunstuff.tv/wp-content/uploads/2026/01/2026-Saturday-Instructional-social-ScMNCL.jpg
GEO:42.705297;-83.4014
X-APPLE-STRUCTURED-LOCATION;VALUE=URI;X-ADDRESS=Indoor Archery Range 4770 Waterford Rd Clarkston MI United States;X-APPLE-RADIUS=500;X-TITLE=4770 Waterford Rd:geo:-83.4014,42.705297
END:VEVENT
BEGIN:VEVENT
DTSTART;TZID=America/New_York:20260314T080000
DTEND;TZID=America/New_York:20260314T093000
DTSTAMP:20260421T103440
CREATED:20260313T051631Z
LAST-MODIFIED:20260313T051632Z
UID:10006279-1773475200-1773480600@gunstuff.tv
SUMMARY:Archery Instruction
DESCRIPTION:
URL:https://gunstuff.tv/event/archery-instruction-21/
LOCATION:Indoor Archery Range\, 4770 Waterford Rd\, Clarkston\, MI\, United States
CATEGORIES:Archery,Indoor Archery Range,Range
ATTACH;FMTTYPE=image/png:https://gunstuff.tv/wp-content/uploads/2026/01/Saturday-Instructional-o9sJbk.png
GEO:42.705297;-83.4014
X-APPLE-STRUCTURED-LOCATION;VALUE=URI;X-ADDRESS=Indoor Archery Range 4770 Waterford Rd Clarkston MI United States;X-APPLE-RADIUS=500;X-TITLE=4770 Waterford Rd:geo:-83.4014,42.705297
END:VEVENT
BEGIN:VEVENT
DTSTART;TZID=America/New_York:20260313T190000
DTEND;TZID=America/New_York:20260313T210000
DTSTAMP:20260421T103440
CREATED:20260313T051631Z
LAST-MODIFIED:20260313T051632Z
UID:10006278-1773428400-1773435600@gunstuff.tv
SUMMARY:NFAA League - Fridays
DESCRIPTION:
URL:https://gunstuff.tv/event/nfaa-league-fridays-10/
LOCATION:Indoor Archery Range\, 4770 Waterford Rd\, Clarkston\, MI\, United States
CATEGORIES:Archery,Indoor Archery Range,Range,Winter League
ATTACH;FMTTYPE=image/jpeg:https://gunstuff.tv/wp-content/uploads/2026/01/NFAA-ABnmFF.jpg
GEO:42.705297;-83.4014
X-APPLE-STRUCTURED-LOCATION;VALUE=URI;X-ADDRESS=Indoor Archery Range 4770 Waterford Rd Clarkston MI United States;X-APPLE-RADIUS=500;X-TITLE=4770 Waterford Rd:geo:-83.4014,42.705297
END:VEVENT
BEGIN:VEVENT
DTSTART;TZID=America/New_York:20260312T180000
DTEND;TZID=America/New_York:20260312T200000
DTSTAMP:20260421T103440
CREATED:20260306T051633Z
LAST-MODIFIED:20260306T051633Z
UID:10006153-1773338400-1773345600@gunstuff.tv
SUMMARY:NFAA League - Thursdays
DESCRIPTION:
URL:https://gunstuff.tv/event/nfaa-league-thursdays-7/
LOCATION:Indoor Archery Range\, 4770 Waterford Rd\, Clarkston\, MI\, United States
CATEGORIES:Archery,Indoor Archery Range,Range,Winter League
ATTACH;FMTTYPE=image/jpeg:https://gunstuff.tv/wp-content/uploads/2026/01/NFAA-ABnmFF.jpg
GEO:42.705297;-83.4014
X-APPLE-STRUCTURED-LOCATION;VALUE=URI;X-ADDRESS=Indoor Archery Range 4770 Waterford Rd Clarkston MI United States;X-APPLE-RADIUS=500;X-TITLE=4770 Waterford Rd:geo:-83.4014,42.705297
END:VEVENT
BEGIN:VEVENT
DTSTART;TZID=America/New_York:20260311T183000
DTEND;TZID=America/New_York:20260311T200000
DTSTAMP:20260421T103440
CREATED:20260306T051633Z
LAST-MODIFIED:20260306T051633Z
UID:10006150-1773253800-1773259200@gunstuff.tv
SUMMARY:Parks & Rec Instructional Archery
DESCRIPTION:This is open to all youth 8 years and older\, adults\, members\, or non-members.\nBasics of archery including safety\, techniques\, self-improvement\, and mental concentration. Equipment is provided or bring your own (must be approved by instructors before use).\nRegister from Waterford: https://parks.waterfordmi.gov/CourseActivities.aspx?id=6\nRegister from Springfield: https://secure.rec1.com/MI/springfield-township-mi/catalog/index/b5ecc5390327b924601573b5dba299aa?filter=c2VhcmNoPWFyY2hlcnkmbG9jYXRpb24lNUI0NDQ3OSU1RD0x\nRegister from Independence: https://app.amilia.com/store/en/independence-township/shop/programs/95091?subCategoryIds=6162243
URL:https://gunstuff.tv/event/parks-rec-instructional-archery-34/
LOCATION:Indoor Archery Range\, 4770 Waterford Rd\, Clarkston\, MI\, United States
CATEGORIES:Archery,Indoor Archery Range,Range
ATTACH;FMTTYPE=image/jpeg:https://gunstuff.tv/wp-content/uploads/2026/01/indoor-archery-range-people-line-up-to-shoot-9Jgiih.jpg
GEO:42.705297;-83.4014
X-APPLE-STRUCTURED-LOCATION;VALUE=URI;X-ADDRESS=Indoor Archery Range 4770 Waterford Rd Clarkston MI United States;X-APPLE-RADIUS=500;X-TITLE=4770 Waterford Rd:geo:-83.4014,42.705297
END:VEVENT
BEGIN:VEVENT
DTSTART;TZID=America/New_York:20260311T163000
DTEND;TZID=America/New_York:20260311T180000
DTSTAMP:20260421T103440
CREATED:20260306T051633Z
LAST-MODIFIED:20260306T051633Z
UID:10006147-1773246600-1773252000@gunstuff.tv
SUMMARY:Parks & Rec Instructional Archery
DESCRIPTION:This is open to all youth 8 years and older\, adults\, members\, or non-members.\nBasics of archery including safety\, techniques\, self-improvement\, and mental concentration. Equipment is provided or bring your own (must be approved by instructors before use).\nRegister from Waterford: https://parks.waterfordmi.gov/CourseActivities.aspx?id=6\nRegister from Springfield: https://secure.rec1.com/MI/springfield-township-mi/catalog/index/b5ecc5390327b924601573b5dba299aa?filter=c2VhcmNoPWFyY2hlcnkmbG9jYXRpb24lNUI0NDQ3OSU1RD0x\nRegister from Independence: https://app.amilia.com/store/en/independence-township/shop/programs/95091?subCategoryIds=6162243
URL:https://gunstuff.tv/event/parks-rec-instructional-archery-33/
LOCATION:Indoor Archery Range\, 4770 Waterford Rd\, Clarkston\, MI\, United States
CATEGORIES:Archery,Indoor Archery Range,Range
ATTACH;FMTTYPE=image/jpeg:https://gunstuff.tv/wp-content/uploads/2026/01/indoor-archery-range-people-line-up-to-shoot-9Jgiih.jpg
GEO:42.705297;-83.4014
X-APPLE-STRUCTURED-LOCATION;VALUE=URI;X-ADDRESS=Indoor Archery Range 4770 Waterford Rd Clarkston MI United States;X-APPLE-RADIUS=500;X-TITLE=4770 Waterford Rd:geo:-83.4014,42.705297
END:VEVENT
BEGIN:VEVENT
DTSTART;TZID=America/New_York:20260311T093000
DTEND;TZID=America/New_York:20260311T113000
DTSTAMP:20260421T103440
CREATED:20260306T051632Z
LAST-MODIFIED:20260306T051632Z
UID:10006146-1773221400-1773228600@gunstuff.tv
SUMMARY:NFAA League - Wednesdays
DESCRIPTION:
URL:https://gunstuff.tv/event/nfaa-league-wednesdays-10/
LOCATION:Indoor Archery Range\, 4770 Waterford Rd\, Clarkston\, MI\, United States
CATEGORIES:Archery,Indoor Archery Range,Range,Winter League
ATTACH;FMTTYPE=image/jpeg:https://gunstuff.tv/wp-content/uploads/2026/01/NFAA-ABnmFF.jpg
GEO:42.705297;-83.4014
X-APPLE-STRUCTURED-LOCATION;VALUE=URI;X-ADDRESS=Indoor Archery Range 4770 Waterford Rd Clarkston MI United States;X-APPLE-RADIUS=500;X-TITLE=4770 Waterford Rd:geo:-83.4014,42.705297
END:VEVENT
BEGIN:VEVENT
DTSTART;TZID=America/New_York:20260310T190000
DTEND;TZID=America/New_York:20260310T210000
DTSTAMP:20260421T103440
CREATED:20260306T051632Z
LAST-MODIFIED:20260306T051632Z
UID:10006145-1773169200-1773176400@gunstuff.tv
SUMMARY:Animal League
DESCRIPTION:
URL:https://gunstuff.tv/event/animal-league-10/
LOCATION:Indoor Archery Range\, 4770 Waterford Rd\, Clarkston\, MI\, United States
CATEGORIES:Archery,Indoor Archery Range,Range,Winter League
ATTACH;FMTTYPE=image/jpeg:https://gunstuff.tv/wp-content/uploads/2026/01/Animal-X5cx5x.jpg
GEO:42.705297;-83.4014
X-APPLE-STRUCTURED-LOCATION;VALUE=URI;X-ADDRESS=Indoor Archery Range 4770 Waterford Rd Clarkston MI United States;X-APPLE-RADIUS=500;X-TITLE=4770 Waterford Rd:geo:-83.4014,42.705297
END:VEVENT
BEGIN:VEVENT
DTSTART;TZID=America/New_York:20260309T190000
DTEND;TZID=America/New_York:20260309T210000
DTSTAMP:20260421T103440
CREATED:20260306T051632Z
LAST-MODIFIED:20260306T051632Z
UID:10006141-1773082800-1773090000@gunstuff.tv
SUMMARY:Traditional League PM
DESCRIPTION:
URL:https://gunstuff.tv/event/traditional-league-pm-10/
LOCATION:Indoor Archery Range\, 4770 Waterford Rd\, Clarkston\, MI\, United States
CATEGORIES:Archery,Indoor Archery Range,Range,Winter League
ATTACH;FMTTYPE=image/jpeg:https://gunstuff.tv/wp-content/uploads/2025/12/Traditional_Barebow-3kQxVw.jpg
GEO:42.705297;-83.4014
X-APPLE-STRUCTURED-LOCATION;VALUE=URI;X-ADDRESS=Indoor Archery Range 4770 Waterford Rd Clarkston MI United States;X-APPLE-RADIUS=500;X-TITLE=4770 Waterford Rd:geo:-83.4014,42.705297
END:VEVENT
BEGIN:VEVENT
DTSTART;TZID=America/New_York:20260309T090000
DTEND;TZID=America/New_York:20260309T110000
DTSTAMP:20260421T103440
CREATED:20260306T051632Z
LAST-MODIFIED:20260306T051632Z
UID:10006138-1773046800-1773054000@gunstuff.tv
SUMMARY:Traditional League AM
DESCRIPTION:
URL:https://gunstuff.tv/event/traditional-league-am-10/
LOCATION:Indoor Archery Range\, 4770 Waterford Rd\, Clarkston\, MI\, United States
CATEGORIES:Archery,Indoor Archery Range,Range,Winter League
ATTACH;FMTTYPE=image/jpeg:https://gunstuff.tv/wp-content/uploads/2025/12/Traditional_Barebow-3kQxVw.jpg
GEO:42.705297;-83.4014
X-APPLE-STRUCTURED-LOCATION;VALUE=URI;X-ADDRESS=Indoor Archery Range 4770 Waterford Rd Clarkston MI United States;X-APPLE-RADIUS=500;X-TITLE=4770 Waterford Rd:geo:-83.4014,42.705297
END:VEVENT
BEGIN:VEVENT
DTSTART;TZID=America/New_York:20260308T180000
DTEND;TZID=America/New_York:20260308T200000
DTSTAMP:20260421T103440
CREATED:20260306T051632Z
LAST-MODIFIED:20260306T051632Z
UID:10006135-1772992800-1773000000@gunstuff.tv
SUMMARY:FITA Target League
DESCRIPTION:
URL:https://gunstuff.tv/event/fita-target-league-10/
LOCATION:Indoor Archery Range\, 4770 Waterford Rd\, Clarkston\, MI\, United States
CATEGORIES:Archery,Indoor Archery Range,Range,Winter League
ATTACH;FMTTYPE=image/jpeg:https://gunstuff.tv/wp-content/uploads/2025/12/FITA_outdoorwednesday-4fSUc8.jpg
GEO:42.705297;-83.4014
X-APPLE-STRUCTURED-LOCATION;VALUE=URI;X-ADDRESS=Indoor Archery Range 4770 Waterford Rd Clarkston MI United States;X-APPLE-RADIUS=500;X-TITLE=4770 Waterford Rd:geo:-83.4014,42.705297
END:VEVENT
BEGIN:VEVENT
DTSTART;TZID=America/New_York:20260308T133000
DTEND;TZID=America/New_York:20260308T170000
DTSTAMP:20260421T103440
CREATED:20260306T051631Z
LAST-MODIFIED:20260306T051631Z
UID:10006134-1772976600-1772989200@gunstuff.tv
SUMMARY:JOAD League
DESCRIPTION:
URL:https://gunstuff.tv/event/joad-league-19/
LOCATION:Indoor Archery Range\, 4770 Waterford Rd\, Clarkston\, MI\, United States
CATEGORIES:Archery,Indoor Archery Range,Range
ATTACH;FMTTYPE=image/jpeg:https://gunstuff.tv/wp-content/uploads/2025/10/JOAD-SAM-Tournament-XezJUo.jpg
GEO:42.705297;-83.4014
X-APPLE-STRUCTURED-LOCATION;VALUE=URI;X-ADDRESS=Indoor Archery Range 4770 Waterford Rd Clarkston MI United States;X-APPLE-RADIUS=500;X-TITLE=4770 Waterford Rd:geo:-83.4014,42.705297
END:VEVENT
BEGIN:VEVENT
DTSTART;TZID=America/New_York:20260308T090000
DTEND;TZID=America/New_York:20260308T140000
DTSTAMP:20260421T103440
CREATED:20260306T051631Z
LAST-MODIFIED:20260306T051631Z
UID:10006132-1772960400-1772978400@gunstuff.tv
SUMMARY:Souper Sunday 3D Shootout
DESCRIPTION:
URL:https://gunstuff.tv/event/souper-sunday-3d-shootout/
LOCATION:Indoor Archery Range\, 4770 Waterford Rd\, Clarkston\, MI\, United States
CATEGORIES:Archery,Indoor Archery Range,Range
ATTACH;FMTTYPE=image/jpeg:https://gunstuff.tv/wp-content/uploads/2026/01/3d-Archery-Shoot-EBj3rI.jpg
GEO:42.705297;-83.4014
X-APPLE-STRUCTURED-LOCATION;VALUE=URI;X-ADDRESS=Indoor Archery Range 4770 Waterford Rd Clarkston MI United States;X-APPLE-RADIUS=500;X-TITLE=4770 Waterford Rd:geo:-83.4014,42.705297
END:VEVENT
BEGIN:VEVENT
DTSTART;TZID=America/New_York:20260307T130000
DTEND;TZID=America/New_York:20260307T140000
DTSTAMP:20260421T103440
CREATED:20260306T051631Z
LAST-MODIFIED:20260306T051631Z
UID:10006130-1772888400-1772892000@gunstuff.tv
SUMMARY:Youth League
DESCRIPTION:
URL:https://gunstuff.tv/event/youth-league-10/
LOCATION:Indoor Archery Range\, 4770 Waterford Rd\, Clarkston\, MI\, United States
CATEGORIES:Archery,Indoor Archery Range,Range,Winter League
ATTACH;FMTTYPE=image/jpeg:https://gunstuff.tv/wp-content/uploads/2026/01/Youth-league-UT1RZZ.jpg
GEO:42.705297;-83.4014
X-APPLE-STRUCTURED-LOCATION;VALUE=URI;X-ADDRESS=Indoor Archery Range 4770 Waterford Rd Clarkston MI United States;X-APPLE-RADIUS=500;X-TITLE=4770 Waterford Rd:geo:-83.4014,42.705297
END:VEVENT
BEGIN:VEVENT
DTSTART;TZID=America/New_York:20260307T100000
DTEND;TZID=America/New_York:20260307T113000
DTSTAMP:20260421T103440
CREATED:20260306T051631Z
LAST-MODIFIED:20260306T051631Z
UID:10006128-1772877600-1772883000@gunstuff.tv
SUMMARY:Archery Instruction
DESCRIPTION:
URL:https://gunstuff.tv/event/archery-instruction-20/
LOCATION:Indoor Archery Range\, 4770 Waterford Rd\, Clarkston\, MI\, United States
CATEGORIES:Archery,Indoor Archery Range,Range
ATTACH;FMTTYPE=image/jpeg:https://gunstuff.tv/wp-content/uploads/2026/01/2026-Saturday-Instructional-social-ScMNCL.jpg
GEO:42.705297;-83.4014
X-APPLE-STRUCTURED-LOCATION;VALUE=URI;X-ADDRESS=Indoor Archery Range 4770 Waterford Rd Clarkston MI United States;X-APPLE-RADIUS=500;X-TITLE=4770 Waterford Rd:geo:-83.4014,42.705297
END:VEVENT
BEGIN:VEVENT
DTSTART;TZID=America/New_York:20260307T080000
DTEND;TZID=America/New_York:20260307T093000
DTSTAMP:20260421T103440
CREATED:20260306T051631Z
LAST-MODIFIED:20260306T051631Z
UID:10006126-1772870400-1772875800@gunstuff.tv
SUMMARY:Archery Instruction
DESCRIPTION:
URL:https://gunstuff.tv/event/archery-instruction-19/
LOCATION:Indoor Archery Range\, 4770 Waterford Rd\, Clarkston\, MI\, United States
CATEGORIES:Archery,Indoor Archery Range,Range
ATTACH;FMTTYPE=image/png:https://gunstuff.tv/wp-content/uploads/2026/01/Saturday-Instructional-o9sJbk.png
GEO:42.705297;-83.4014
X-APPLE-STRUCTURED-LOCATION;VALUE=URI;X-ADDRESS=Indoor Archery Range 4770 Waterford Rd Clarkston MI United States;X-APPLE-RADIUS=500;X-TITLE=4770 Waterford Rd:geo:-83.4014,42.705297
END:VEVENT
BEGIN:VEVENT
DTSTART;TZID=America/New_York:20260306T190000
DTEND;TZID=America/New_York:20260306T210000
DTSTAMP:20260421T103440
CREATED:20260306T051631Z
LAST-MODIFIED:20260306T051631Z
UID:10006125-1772823600-1772830800@gunstuff.tv
SUMMARY:NFAA League - Fridays
DESCRIPTION:
URL:https://gunstuff.tv/event/nfaa-league-fridays-9/
LOCATION:Indoor Archery Range\, 4770 Waterford Rd\, Clarkston\, MI\, United States
CATEGORIES:Archery,Indoor Archery Range,Range,Winter League
ATTACH;FMTTYPE=image/jpeg:https://gunstuff.tv/wp-content/uploads/2026/01/NFAA-ABnmFF.jpg
GEO:42.705297;-83.4014
X-APPLE-STRUCTURED-LOCATION;VALUE=URI;X-ADDRESS=Indoor Archery Range 4770 Waterford Rd Clarkston MI United States;X-APPLE-RADIUS=500;X-TITLE=4770 Waterford Rd:geo:-83.4014,42.705297
END:VEVENT
BEGIN:VEVENT
DTSTART;TZID=America/New_York:20260304T183000
DTEND;TZID=America/New_York:20260304T200000
DTSTAMP:20260421T103440
CREATED:20260227T050134Z
LAST-MODIFIED:20260227T050134Z
UID:10005811-1772649000-1772654400@gunstuff.tv
SUMMARY:Parks & Rec Instructional Archery
DESCRIPTION:This is open to all youth 8 years and older\, adults\, members\, or non-members.\nBasics of archery including safety\, techniques\, self-improvement\, and mental concentration. Equipment is provided or bring your own (must be approved by instructors before use).\nRegister from Waterford: https://parks.waterfordmi.gov/CourseActivities.aspx?id=6\nRegister from Springfield: https://secure.rec1.com/MI/springfield-township-mi/catalog/index/b5ecc5390327b924601573b5dba299aa?filter=c2VhcmNoPWFyY2hlcnkmbG9jYXRpb24lNUI0NDQ3OSU1RD0x\nRegister from Independence: https://app.amilia.com/store/en/independence-township/shop/programs/95091?subCategoryIds=6162243
URL:https://gunstuff.tv/event/parks-rec-instructional-archery-32/
LOCATION:Indoor Archery Range\, 4770 Waterford Rd\, Clarkston\, MI\, United States
CATEGORIES:Archery,Indoor Archery Range,Range
ATTACH;FMTTYPE=image/jpeg:https://gunstuff.tv/wp-content/uploads/2026/01/indoor-archery-range-people-line-up-to-shoot-9Jgiih.jpg
GEO:42.705297;-83.4014
X-APPLE-STRUCTURED-LOCATION;VALUE=URI;X-ADDRESS=Indoor Archery Range 4770 Waterford Rd Clarkston MI United States;X-APPLE-RADIUS=500;X-TITLE=4770 Waterford Rd:geo:-83.4014,42.705297
END:VEVENT
BEGIN:VEVENT
DTSTART;TZID=America/New_York:20260304T163000
DTEND;TZID=America/New_York:20260304T180000
DTSTAMP:20260421T103440
CREATED:20260227T050133Z
LAST-MODIFIED:20260227T050133Z
UID:10005808-1772641800-1772647200@gunstuff.tv
SUMMARY:Parks & Rec Instructional Archery
DESCRIPTION:This is open to all youth 8 years and older\, adults\, members\, or non-members.\nBasics of archery including safety\, techniques\, self-improvement\, and mental concentration. Equipment is provided or bring your own (must be approved by instructors before use).\nRegister from Waterford: https://parks.waterfordmi.gov/CourseActivities.aspx?id=6\nRegister from Springfield: https://secure.rec1.com/MI/springfield-township-mi/catalog/index/b5ecc5390327b924601573b5dba299aa?filter=c2VhcmNoPWFyY2hlcnkmbG9jYXRpb24lNUI0NDQ3OSU1RD0x\nRegister from Independence: https://app.amilia.com/store/en/independence-township/shop/programs/95091?subCategoryIds=6162243
URL:https://gunstuff.tv/event/parks-rec-instructional-archery-31/
LOCATION:Indoor Archery Range\, 4770 Waterford Rd\, Clarkston\, MI\, United States
CATEGORIES:Archery,Indoor Archery Range,Range
ATTACH;FMTTYPE=image/jpeg:https://gunstuff.tv/wp-content/uploads/2026/01/indoor-archery-range-people-line-up-to-shoot-9Jgiih.jpg
GEO:42.705297;-83.4014
X-APPLE-STRUCTURED-LOCATION;VALUE=URI;X-ADDRESS=Indoor Archery Range 4770 Waterford Rd Clarkston MI United States;X-APPLE-RADIUS=500;X-TITLE=4770 Waterford Rd:geo:-83.4014,42.705297
END:VEVENT
END:VCALENDAR