BEGIN:VCALENDAR
VERSION:2.0
PRODID:-//GunStuff TV - ECPv6.15.20//NONSGML v1.0//EN
CALSCALE:GREGORIAN
METHOD:PUBLISH
X-WR-CALNAME:GunStuff TV
X-ORIGINAL-URL:https://gunstuff.tv
X-WR-CALDESC:Events for GunStuff TV
REFRESH-INTERVAL;VALUE=DURATION:PT1H
X-Robots-Tag:noindex
X-PUBLISHED-TTL:PT1H
BEGIN:VTIMEZONE
TZID:America/New_York
BEGIN:DAYLIGHT
TZOFFSETFROM:-0500
TZOFFSETTO:-0400
TZNAME:EDT
DTSTART:20250309T070000
END:DAYLIGHT
BEGIN:STANDARD
TZOFFSETFROM:-0400
TZOFFSETTO:-0500
TZNAME:EST
DTSTART:20251102T060000
END:STANDARD
BEGIN:DAYLIGHT
TZOFFSETFROM:-0500
TZOFFSETTO:-0400
TZNAME:EDT
DTSTART:20260308T070000
END:DAYLIGHT
BEGIN:STANDARD
TZOFFSETFROM:-0400
TZOFFSETTO:-0500
TZNAME:EST
DTSTART:20261101T060000
END:STANDARD
BEGIN:DAYLIGHT
TZOFFSETFROM:-0500
TZOFFSETTO:-0400
TZNAME:EDT
DTSTART:20270314T070000
END:DAYLIGHT
BEGIN:STANDARD
TZOFFSETFROM:-0400
TZOFFSETTO:-0500
TZNAME:EST
DTSTART:20271107T060000
END:STANDARD
END:VTIMEZONE
BEGIN:VTIMEZONE
TZID:America/Los_Angeles
BEGIN:DAYLIGHT
TZOFFSETFROM:-0800
TZOFFSETTO:-0700
TZNAME:PDT
DTSTART:20250309T100000
END:DAYLIGHT
BEGIN:STANDARD
TZOFFSETFROM:-0700
TZOFFSETTO:-0800
TZNAME:PST
DTSTART:20251102T090000
END:STANDARD
BEGIN:DAYLIGHT
TZOFFSETFROM:-0800
TZOFFSETTO:-0700
TZNAME:PDT
DTSTART:20260308T100000
END:DAYLIGHT
BEGIN:STANDARD
TZOFFSETFROM:-0700
TZOFFSETTO:-0800
TZNAME:PST
DTSTART:20261101T090000
END:STANDARD
BEGIN:DAYLIGHT
TZOFFSETFROM:-0800
TZOFFSETTO:-0700
TZNAME:PDT
DTSTART:20270314T100000
END:DAYLIGHT
BEGIN:STANDARD
TZOFFSETFROM:-0700
TZOFFSETTO:-0800
TZNAME:PST
DTSTART:20271107T090000
END:STANDARD
END:VTIMEZONE
BEGIN:VEVENT
DTSTART;TZID=America/New_York:20260421T090000
DTEND;TZID=America/New_York:20260421T120000
DTSTAMP:20260421T061100
CREATED:20260417T051656Z
LAST-MODIFIED:20260417T051741Z
UID:10008004-1776762000-1776772800@gunstuff.tv
SUMMARY:Archery Workbee
DESCRIPTION:Outdoor Range Fallen Tree Cleanup\nTrail Prep for Summer Shoots and Leagues\nBroadhead Target Painting\nTournament Volunteers\nSpecial Event Volunteers\nAs well as do it yourself projects!\nQuestions?  Call\nJohn Borth 248-408-2043\nMike McGinnis 248-620-9161\nRon Hall 248-884-3034
URL:https://gunstuff.tv/event/archery-workbee-2/
LOCATION:Outdoor Archery Range\, 4770 Waterford Rd\, Clarkston\, MI\, United States
CATEGORIES:Archery
ATTACH;FMTTYPE=image/png:https://gunstuff.tv/wp-content/uploads/2026/04/Archery-April-Workbees-ShjOZR.png
GEO:42.705297;-83.4014
X-APPLE-STRUCTURED-LOCATION;VALUE=URI;X-ADDRESS=Outdoor Archery Range 4770 Waterford Rd Clarkston MI United States;X-APPLE-RADIUS=500;X-TITLE=4770 Waterford Rd:geo:-83.4014,42.705297
END:VEVENT
BEGIN:VEVENT
DTSTART;TZID=America/New_York:20260421T190000
DTEND;TZID=America/New_York:20260421T203000
DTSTAMP:20260421T061100
CREATED:20260403T051709Z
LAST-MODIFIED:20260410T051631Z
UID:10006725-1776798000-1776803400@gunstuff.tv
SUMMARY:Troop 189 Instruction
DESCRIPTION:
URL:https://gunstuff.tv/event/troop-189-instruction/
LOCATION:Indoor Archery Range\, 4770 Waterford Rd\, Clarkston\, MI\, United States
CATEGORIES:Archery,Indoor Archery Range,Range
ATTACH;FMTTYPE=image/png:https://gunstuff.tv/wp-content/uploads/2026/02/archery-color-160x160-1-yUUewR.png
GEO:42.705297;-83.4014
X-APPLE-STRUCTURED-LOCATION;VALUE=URI;X-ADDRESS=Indoor Archery Range 4770 Waterford Rd Clarkston MI United States;X-APPLE-RADIUS=500;X-TITLE=4770 Waterford Rd:geo:-83.4014,42.705297
END:VEVENT
BEGIN:VEVENT
DTSTART;TZID=America/New_York:20260425T193000
DTEND;TZID=America/New_York:20260425T210000
DTSTAMP:20260421T061100
CREATED:20260410T051631Z
LAST-MODIFIED:20260410T051631Z
UID:10007400-1777145400-1777150800@gunstuff.tv
SUMMARY:Night Zombie Shoot
DESCRIPTION:Join us for a 15-Target Outdoor course and bonfire. Rain or Shine!\nBrung your Compound / Recurve / Crossbow allowed on Broadhead Targets.\nEvent starts at dusk: 7:30pm\nLast Shooter to Depart: 9:00PM\nAdults 18yr += $10  Kids= $5\nEach shooter gets Hotdog and Soda\nSuggested Items: FRIENDS / Bug Spray ? Hand-Headlamp Flashlights / Lighted Knocks
URL:https://gunstuff.tv/event/night-zombie-shoot/
LOCATION:Outdoor Archery Range\, 4770 Waterford Rd\, Clarkston\, MI\, United States
CATEGORIES:Archery
ATTACH;FMTTYPE=image/jpeg:https://gunstuff.tv/wp-content/uploads/2026/04/NightZombieShoot-A8kIgw.jpg
GEO:42.705297;-83.4014
X-APPLE-STRUCTURED-LOCATION;VALUE=URI;X-ADDRESS=Outdoor Archery Range 4770 Waterford Rd Clarkston MI United States;X-APPLE-RADIUS=500;X-TITLE=4770 Waterford Rd:geo:-83.4014,42.705297
END:VEVENT
BEGIN:VEVENT
DTSTART;TZID=America/New_York:20260502T080000
DTEND;TZID=America/New_York:20260502T180000
DTSTAMP:20260421T061100
CREATED:20260417T051713Z
LAST-MODIFIED:20260417T051742Z
UID:10008009-1777708800-1777744800@gunstuff.tv
SUMMARY:Junior Adventure Day
DESCRIPTION:
URL:https://gunstuff.tv/event/junior-adventure-day/
LOCATION:Michigan
CATEGORIES:Archery,D.R. Wilson,fishing,Jr Sportsmen,Jr. Rifle,Muzzleloaders,Shotgun
ATTACH;FMTTYPE=image/jpeg:https://gunstuff.tv/wp-content/uploads/2026/04/Junior-Sportsman-Day-1-l2TyfL.jpg
ORGANIZER;CN="Ron Elam":MAILTO:relam@emich.edu
END:VEVENT
BEGIN:VEVENT
DTSTART;TZID=America/Los_Angeles:20260517T130000
DTEND;TZID=America/Los_Angeles:20260517T150000
DTSTAMP:20260421T061100
CREATED:20260417T194752Z
LAST-MODIFIED:20260417T194804Z
UID:10008032-1779022800-1779030000@gunstuff.tv
SUMMARY:Musketeer Archery
DESCRIPTION:18 year and younger Youth Archery practice and instruction every third Sunday .  Youth Archery Equipment is provided\, and there is no charge for the event. \nPlease let us know you are coming: \n                          ->Signup here<- \nWe have various sized bows to accommodate most ages and sizes. \n \n 
URL:https://gunstuff.tv/event/musketeer-archery-7/
LOCATION:USI Archery Range\, 4700 Evora Road\, Concord\, CA\, 94520\, United States
CATEGORIES:Archery,Musketeers
ATTACH;FMTTYPE=image/jpeg:https://gunstuff.tv/wp-content/uploads/2025/10/Youth_Archery_cleanup-gMLvVj.jpg
ORGANIZER;CN="Glenn Rustia":MAILTO:glennjo2@gmail.com
END:VEVENT
END:VCALENDAR