BEGIN:VCALENDAR
VERSION:2.0
PRODID:-//GunStuff TV - ECPv6.15.20//NONSGML v1.0//EN
CALSCALE:GREGORIAN
METHOD:PUBLISH
X-ORIGINAL-URL:https://gunstuff.tv
X-WR-CALDESC:Events for GunStuff TV
REFRESH-INTERVAL;VALUE=DURATION:PT1H
X-Robots-Tag:noindex
X-PUBLISHED-TTL:PT1H
BEGIN:VTIMEZONE
TZID:America/New_York
BEGIN:DAYLIGHT
TZOFFSETFROM:-0500
TZOFFSETTO:-0400
TZNAME:EDT
DTSTART:20250309T070000
END:DAYLIGHT
BEGIN:STANDARD
TZOFFSETFROM:-0400
TZOFFSETTO:-0500
TZNAME:EST
DTSTART:20251102T060000
END:STANDARD
BEGIN:DAYLIGHT
TZOFFSETFROM:-0500
TZOFFSETTO:-0400
TZNAME:EDT
DTSTART:20260308T070000
END:DAYLIGHT
BEGIN:STANDARD
TZOFFSETFROM:-0400
TZOFFSETTO:-0500
TZNAME:EST
DTSTART:20261101T060000
END:STANDARD
BEGIN:DAYLIGHT
TZOFFSETFROM:-0500
TZOFFSETTO:-0400
TZNAME:EDT
DTSTART:20270314T070000
END:DAYLIGHT
BEGIN:STANDARD
TZOFFSETFROM:-0400
TZOFFSETTO:-0500
TZNAME:EST
DTSTART:20271107T060000
END:STANDARD
END:VTIMEZONE
BEGIN:VTIMEZONE
TZID:America/Los_Angeles
BEGIN:DAYLIGHT
TZOFFSETFROM:-0800
TZOFFSETTO:-0700
TZNAME:PDT
DTSTART:20250309T100000
END:DAYLIGHT
BEGIN:STANDARD
TZOFFSETFROM:-0700
TZOFFSETTO:-0800
TZNAME:PST
DTSTART:20251102T090000
END:STANDARD
BEGIN:DAYLIGHT
TZOFFSETFROM:-0800
TZOFFSETTO:-0700
TZNAME:PDT
DTSTART:20260308T100000
END:DAYLIGHT
BEGIN:STANDARD
TZOFFSETFROM:-0700
TZOFFSETTO:-0800
TZNAME:PST
DTSTART:20261101T090000
END:STANDARD
BEGIN:DAYLIGHT
TZOFFSETFROM:-0800
TZOFFSETTO:-0700
TZNAME:PDT
DTSTART:20270314T100000
END:DAYLIGHT
BEGIN:STANDARD
TZOFFSETFROM:-0700
TZOFFSETTO:-0800
TZNAME:PST
DTSTART:20271107T090000
END:STANDARD
END:VTIMEZONE
BEGIN:VEVENT
DTSTART;TZID=America/New_York:20260419T133000
DTEND;TZID=America/New_York:20260419T170000
DTSTAMP:20260421T073929
CREATED:20260417T051644Z
LAST-MODIFIED:20260417T051741Z
UID:10007999-1776605400-1776618000@gunstuff.tv
SUMMARY:JOAD League
DESCRIPTION:
URL:https://gunstuff.tv/event/joad-league-27/
LOCATION:Indoor Archery Range\, 4770 Waterford Rd\, Clarkston\, MI\, United States
CATEGORIES:Archery,Indoor Archery Range,Range
ATTACH;FMTTYPE=image/jpeg:https://gunstuff.tv/wp-content/uploads/2025/10/JOAD-SAM-Tournament-XezJUo.jpg
GEO:42.705297;-83.4014
X-APPLE-STRUCTURED-LOCATION;VALUE=URI;X-ADDRESS=Indoor Archery Range 4770 Waterford Rd Clarkston MI United States;X-APPLE-RADIUS=500;X-TITLE=4770 Waterford Rd:geo:-83.4014,42.705297
END:VEVENT
BEGIN:VEVENT
DTSTART;TZID=America/Los_Angeles:20260419T130000
DTEND;TZID=America/Los_Angeles:20260419T150000
DTSTAMP:20260421T073929
CREATED:20260320T193143Z
LAST-MODIFIED:20260410T194636Z
UID:10006444-1776603600-1776610800@gunstuff.tv
SUMMARY:Musketeer Archery
DESCRIPTION:18 year and younger Youth Archery practice and instruction every third Sunday .  Youth Archery Equipment is provided\, and there is no charge for the event. \nPlease let us know you are coming: \n                          ->Signup here<- \nWe have various sized bows to accommodate most ages and sizes. \n \n 
URL:https://gunstuff.tv/event/musketeer-archery-6/
LOCATION:USI Archery Range\, 4700 Evora Road\, Concord\, CA\, 94520\, United States
CATEGORIES:Archery,Musketeers
ATTACH;FMTTYPE=image/jpeg:https://gunstuff.tv/wp-content/uploads/2025/10/Youth_Archery_cleanup-gMLvVj.jpg
ORGANIZER;CN="Glenn Rustia":MAILTO:glennjo2@gmail.com
END:VEVENT
BEGIN:VEVENT
DTSTART;TZID=America/New_York:20260418T170000
DTEND;TZID=America/New_York:20260418T220000
DTSTAMP:20260421T073929
CREATED:20260403T051707Z
LAST-MODIFIED:20260410T051631Z
UID:10006724-1776531600-1776549600@gunstuff.tv
SUMMARY:Winter Banquet
DESCRIPTION:
URL:https://gunstuff.tv/event/winter-banquet/
LOCATION:Main Club House\, 4770 Waterford Rd\, Clarkston\, MI\, United States
CATEGORIES:Archery,Winter League
ATTACH;FMTTYPE=image/png:https://gunstuff.tv/wp-content/uploads/2026/04/color-logo-300x600-1-e1693230467359-cfVrpQ.png
GEO:42.705297;-83.4014
X-APPLE-STRUCTURED-LOCATION;VALUE=URI;X-ADDRESS=Main Club House 4770 Waterford Rd Clarkston MI United States;X-APPLE-RADIUS=500;X-TITLE=4770 Waterford Rd:geo:-83.4014,42.705297
END:VEVENT
BEGIN:VEVENT
DTSTART;TZID=America/New_York:20260415T190000
DTEND;TZID=America/New_York:20260415T210000
DTSTAMP:20260421T073929
CREATED:20260403T051703Z
LAST-MODIFIED:20260410T051630Z
UID:10006719-1776279600-1776286800@gunstuff.tv
SUMMARY:Archery Meeting
DESCRIPTION:
URL:https://gunstuff.tv/event/archery-meeting-8/
LOCATION:Indoor Archery Range\, 4770 Waterford Rd\, Clarkston\, MI\, United States
CATEGORIES:Archery,Indoor Archery Range,Range
ATTACH;FMTTYPE=image/png:https://gunstuff.tv/wp-content/uploads/2025/10/archery-color-160x160-1-7Zvufe.png
GEO:42.705297;-83.4014
X-APPLE-STRUCTURED-LOCATION;VALUE=URI;X-ADDRESS=Indoor Archery Range 4770 Waterford Rd Clarkston MI United States;X-APPLE-RADIUS=500;X-TITLE=4770 Waterford Rd:geo:-83.4014,42.705297
END:VEVENT
BEGIN:VEVENT
DTSTART;TZID=America/New_York:20260414T090000
DTEND;TZID=America/New_York:20260414T120000
DTSTAMP:20260421T073929
CREATED:20260410T051629Z
LAST-MODIFIED:20260410T051631Z
UID:10007393-1776157200-1776168000@gunstuff.tv
SUMMARY:Archery Workbee
DESCRIPTION:Clean-up and repair of the outdoor archery range prior to the outdoor leagues starting in May.
URL:https://gunstuff.tv/event/archery-workbee/
LOCATION:Outdoor Archery Range\, 4770 Waterford Rd\, Clarkston\, MI\, United States
CATEGORIES:Archery
ATTACH;FMTTYPE=image/png:https://gunstuff.tv/wp-content/uploads/2026/04/color-logo-300x600-1-e1693230467359-cfVrpQ.png
GEO:42.705297;-83.4014
X-APPLE-STRUCTURED-LOCATION;VALUE=URI;X-ADDRESS=Outdoor Archery Range 4770 Waterford Rd Clarkston MI United States;X-APPLE-RADIUS=500;X-TITLE=4770 Waterford Rd:geo:-83.4014,42.705297
END:VEVENT
BEGIN:VEVENT
DTSTART;TZID=America/New_York:20260412T133000
DTEND;TZID=America/New_York:20260412T170000
DTSTAMP:20260421T073929
CREATED:20260410T051629Z
LAST-MODIFIED:20260410T051630Z
UID:10007388-1776000600-1776013200@gunstuff.tv
SUMMARY:JOAD League
DESCRIPTION:
URL:https://gunstuff.tv/event/joad-league-26/
LOCATION:Indoor Archery Range\, 4770 Waterford Rd\, Clarkston\, MI\, United States
CATEGORIES:Archery,Indoor Archery Range,Range
ATTACH;FMTTYPE=image/jpeg:https://gunstuff.tv/wp-content/uploads/2025/10/JOAD-SAM-Tournament-XezJUo.jpg
GEO:42.705297;-83.4014
X-APPLE-STRUCTURED-LOCATION;VALUE=URI;X-ADDRESS=Indoor Archery Range 4770 Waterford Rd Clarkston MI United States;X-APPLE-RADIUS=500;X-TITLE=4770 Waterford Rd:geo:-83.4014,42.705297
END:VEVENT
BEGIN:VEVENT
DTSTART;TZID=America/New_York:20260405T133000
DTEND;TZID=America/New_York:20260405T170000
DTSTAMP:20260421T073929
CREATED:20260403T051702Z
LAST-MODIFIED:20260403T051702Z
UID:10006704-1775395800-1775408400@gunstuff.tv
SUMMARY:JOAD League
DESCRIPTION:
URL:https://gunstuff.tv/event/joad-league-24/
LOCATION:Indoor Archery Range\, 4770 Waterford Rd\, Clarkston\, MI\, United States
CATEGORIES:Archery,Indoor Archery Range,Range
ATTACH;FMTTYPE=image/jpeg:https://gunstuff.tv/wp-content/uploads/2025/10/JOAD-SAM-Tournament-XezJUo.jpg
GEO:42.705297;-83.4014
X-APPLE-STRUCTURED-LOCATION;VALUE=URI;X-ADDRESS=Indoor Archery Range 4770 Waterford Rd Clarkston MI United States;X-APPLE-RADIUS=500;X-TITLE=4770 Waterford Rd:geo:-83.4014,42.705297
END:VEVENT
BEGIN:VEVENT
DTSTART;TZID=America/New_York:20260405T133000
DTEND;TZID=America/New_York:20260405T170000
DTSTAMP:20260421T073929
CREATED:20260403T051702Z
LAST-MODIFIED:20260403T051702Z
UID:10006698-1775395800-1775408400@gunstuff.tv
SUMMARY:JOAD League
DESCRIPTION:
URL:https://gunstuff.tv/event/joad-league-25/
LOCATION:Indoor Archery Range\, 4770 Waterford Rd\, Clarkston\, MI\, United States
CATEGORIES:Archery,Indoor Archery Range,Range
ATTACH;FMTTYPE=image/jpeg:https://gunstuff.tv/wp-content/uploads/2025/10/JOAD-SAM-Tournament-XezJUo.jpg
GEO:42.705297;-83.4014
X-APPLE-STRUCTURED-LOCATION;VALUE=URI;X-ADDRESS=Indoor Archery Range 4770 Waterford Rd Clarkston MI United States;X-APPLE-RADIUS=500;X-TITLE=4770 Waterford Rd:geo:-83.4014,42.705297
END:VEVENT
BEGIN:VEVENT
DTSTART;TZID=America/New_York:20260329T133000
DTEND;TZID=America/New_York:20260329T170000
DTSTAMP:20260421T073929
CREATED:20260327T051658Z
LAST-MODIFIED:20260327T051750Z
UID:10006525-1774791000-1774803600@gunstuff.tv
SUMMARY:JOAD League
DESCRIPTION:
URL:https://gunstuff.tv/event/joad-league-23/
LOCATION:Indoor Archery Range\, 4770 Waterford Rd\, Clarkston\, MI\, United States
CATEGORIES:Archery,Indoor Archery Range,Range
ATTACH;FMTTYPE=image/jpeg:https://gunstuff.tv/wp-content/uploads/2025/10/JOAD-SAM-Tournament-XezJUo.jpg
GEO:42.705297;-83.4014
X-APPLE-STRUCTURED-LOCATION;VALUE=URI;X-ADDRESS=Indoor Archery Range 4770 Waterford Rd Clarkston MI United States;X-APPLE-RADIUS=500;X-TITLE=4770 Waterford Rd:geo:-83.4014,42.705297
END:VEVENT
BEGIN:VEVENT
DTSTART;TZID=America/New_York:20260326T180000
DTEND;TZID=America/New_York:20260326T200000
DTSTAMP:20260421T073929
CREATED:20260320T051642Z
LAST-MODIFIED:20260320T051642Z
UID:10006404-1774548000-1774555200@gunstuff.tv
SUMMARY:NFAA League - Thursdays
DESCRIPTION:
URL:https://gunstuff.tv/event/nfaa-league-thursdays-9/
LOCATION:Indoor Archery Range\, 4770 Waterford Rd\, Clarkston\, MI\, United States
CATEGORIES:Archery,Indoor Archery Range,Range,Winter League
ATTACH;FMTTYPE=image/jpeg:https://gunstuff.tv/wp-content/uploads/2026/01/NFAA-ABnmFF.jpg
GEO:42.705297;-83.4014
X-APPLE-STRUCTURED-LOCATION;VALUE=URI;X-ADDRESS=Indoor Archery Range 4770 Waterford Rd Clarkston MI United States;X-APPLE-RADIUS=500;X-TITLE=4770 Waterford Rd:geo:-83.4014,42.705297
END:VEVENT
BEGIN:VEVENT
DTSTART;TZID=America/New_York:20260325T183000
DTEND;TZID=America/New_York:20260325T200000
DTSTAMP:20260421T073929
CREATED:20260320T051641Z
LAST-MODIFIED:20260320T051641Z
UID:10006401-1774463400-1774468800@gunstuff.tv
SUMMARY:Parks & Rec Instructional Archery
DESCRIPTION:This is open to all youth 8 years and older\, adults\, members\, or non-members.\nBasics of archery including safety\, techniques\, self-improvement\, and mental concentration. Equipment is provided or bring your own (must be approved by instructors before use).\nRegister from Waterford: https://parks.waterfordmi.gov/CourseActivities.aspx?id=6\nRegister from Springfield: https://secure.rec1.com/MI/springfield-township-mi/catalog/index/b5ecc5390327b924601573b5dba299aa?filter=c2VhcmNoPWFyY2hlcnkmbG9jYXRpb24lNUI0NDQ3OSU1RD0x\nRegister from Independence: https://app.amilia.com/store/en/independence-township/shop/programs/95091?subCategoryIds=6162243
URL:https://gunstuff.tv/event/parks-rec-instructional-archery-38/
LOCATION:Indoor Archery Range\, 4770 Waterford Rd\, Clarkston\, MI\, United States
CATEGORIES:Archery,Indoor Archery Range,Range
ATTACH;FMTTYPE=image/jpeg:https://gunstuff.tv/wp-content/uploads/2026/01/indoor-archery-range-people-line-up-to-shoot-9Jgiih.jpg
GEO:42.705297;-83.4014
X-APPLE-STRUCTURED-LOCATION;VALUE=URI;X-ADDRESS=Indoor Archery Range 4770 Waterford Rd Clarkston MI United States;X-APPLE-RADIUS=500;X-TITLE=4770 Waterford Rd:geo:-83.4014,42.705297
END:VEVENT
BEGIN:VEVENT
DTSTART;TZID=America/New_York:20260325T163000
DTEND;TZID=America/New_York:20260325T180000
DTSTAMP:20260421T073929
CREATED:20260320T051641Z
LAST-MODIFIED:20260320T051641Z
UID:10006398-1774456200-1774461600@gunstuff.tv
SUMMARY:Parks & Rec Instructional Archery
DESCRIPTION:This is open to all youth 8 years and older\, adults\, members\, or non-members.\nBasics of archery including safety\, techniques\, self-improvement\, and mental concentration. Equipment is provided or bring your own (must be approved by instructors before use).\nRegister from Waterford: https://parks.waterfordmi.gov/CourseActivities.aspx?id=6\nRegister from Springfield: https://secure.rec1.com/MI/springfield-township-mi/catalog/index/b5ecc5390327b924601573b5dba299aa?filter=c2VhcmNoPWFyY2hlcnkmbG9jYXRpb24lNUI0NDQ3OSU1RD0x\nRegister from Independence: https://app.amilia.com/store/en/independence-township/shop/programs/95091?subCategoryIds=6162243
URL:https://gunstuff.tv/event/parks-rec-instructional-archery-37/
LOCATION:Indoor Archery Range\, 4770 Waterford Rd\, Clarkston\, MI\, United States
CATEGORIES:Archery,Indoor Archery Range,Range
ATTACH;FMTTYPE=image/jpeg:https://gunstuff.tv/wp-content/uploads/2026/01/indoor-archery-range-people-line-up-to-shoot-9Jgiih.jpg
GEO:42.705297;-83.4014
X-APPLE-STRUCTURED-LOCATION;VALUE=URI;X-ADDRESS=Indoor Archery Range 4770 Waterford Rd Clarkston MI United States;X-APPLE-RADIUS=500;X-TITLE=4770 Waterford Rd:geo:-83.4014,42.705297
END:VEVENT
BEGIN:VEVENT
DTSTART;TZID=America/New_York:20260325T093000
DTEND;TZID=America/New_York:20260325T113000
DTSTAMP:20260421T073929
CREATED:20260320T051641Z
LAST-MODIFIED:20260320T051641Z
UID:10006397-1774431000-1774438200@gunstuff.tv
SUMMARY:NFAA League - Wednesdays
DESCRIPTION:
URL:https://gunstuff.tv/event/nfaa-league-wednesdays-12/
LOCATION:Indoor Archery Range\, 4770 Waterford Rd\, Clarkston\, MI\, United States
CATEGORIES:Archery,Indoor Archery Range,Range,Winter League
ATTACH;FMTTYPE=image/jpeg:https://gunstuff.tv/wp-content/uploads/2026/01/NFAA-ABnmFF.jpg
GEO:42.705297;-83.4014
X-APPLE-STRUCTURED-LOCATION;VALUE=URI;X-ADDRESS=Indoor Archery Range 4770 Waterford Rd Clarkston MI United States;X-APPLE-RADIUS=500;X-TITLE=4770 Waterford Rd:geo:-83.4014,42.705297
END:VEVENT
BEGIN:VEVENT
DTSTART;TZID=America/New_York:20260324T190000
DTEND;TZID=America/New_York:20260324T210000
DTSTAMP:20260421T073929
CREATED:20260320T051641Z
LAST-MODIFIED:20260320T051641Z
UID:10006395-1774378800-1774386000@gunstuff.tv
SUMMARY:Animal League
DESCRIPTION:
URL:https://gunstuff.tv/event/animal-league-12/
LOCATION:Indoor Archery Range\, 4770 Waterford Rd\, Clarkston\, MI\, United States
CATEGORIES:Archery,Indoor Archery Range,Range,Winter League
ATTACH;FMTTYPE=image/jpeg:https://gunstuff.tv/wp-content/uploads/2026/01/Animal-X5cx5x.jpg
GEO:42.705297;-83.4014
X-APPLE-STRUCTURED-LOCATION;VALUE=URI;X-ADDRESS=Indoor Archery Range 4770 Waterford Rd Clarkston MI United States;X-APPLE-RADIUS=500;X-TITLE=4770 Waterford Rd:geo:-83.4014,42.705297
END:VEVENT
BEGIN:VEVENT
DTSTART;TZID=America/New_York:20260323T190000
DTEND;TZID=America/New_York:20260323T210000
DTSTAMP:20260421T073929
CREATED:20260320T051640Z
LAST-MODIFIED:20260320T051640Z
UID:10006390-1774292400-1774299600@gunstuff.tv
SUMMARY:Traditional League PM
DESCRIPTION:
URL:https://gunstuff.tv/event/traditional-league-pm-12/
LOCATION:Indoor Archery Range\, 4770 Waterford Rd\, Clarkston\, MI\, United States
CATEGORIES:Archery,Indoor Archery Range,Range,Winter League
ATTACH;FMTTYPE=image/jpeg:https://gunstuff.tv/wp-content/uploads/2025/12/Traditional_Barebow-3kQxVw.jpg
GEO:42.705297;-83.4014
X-APPLE-STRUCTURED-LOCATION;VALUE=URI;X-ADDRESS=Indoor Archery Range 4770 Waterford Rd Clarkston MI United States;X-APPLE-RADIUS=500;X-TITLE=4770 Waterford Rd:geo:-83.4014,42.705297
END:VEVENT
BEGIN:VEVENT
DTSTART;TZID=America/New_York:20260323T090000
DTEND;TZID=America/New_York:20260323T110000
DTSTAMP:20260421T073929
CREATED:20260320T051640Z
LAST-MODIFIED:20260320T051640Z
UID:10006389-1774256400-1774263600@gunstuff.tv
SUMMARY:Traditional League AM
DESCRIPTION:
URL:https://gunstuff.tv/event/traditional-league-am-12/
LOCATION:Indoor Archery Range\, 4770 Waterford Rd\, Clarkston\, MI\, United States
CATEGORIES:Archery,Indoor Archery Range,Range,Winter League
ATTACH;FMTTYPE=image/jpeg:https://gunstuff.tv/wp-content/uploads/2025/12/Traditional_Barebow-3kQxVw.jpg
GEO:42.705297;-83.4014
X-APPLE-STRUCTURED-LOCATION;VALUE=URI;X-ADDRESS=Indoor Archery Range 4770 Waterford Rd Clarkston MI United States;X-APPLE-RADIUS=500;X-TITLE=4770 Waterford Rd:geo:-83.4014,42.705297
END:VEVENT
BEGIN:VEVENT
DTSTART;TZID=America/New_York:20260322T180000
DTEND;TZID=America/New_York:20260322T200000
DTSTAMP:20260421T073929
CREATED:20260320T051640Z
LAST-MODIFIED:20260320T051640Z
UID:10006376-1774202400-1774209600@gunstuff.tv
SUMMARY:FITA Target League
DESCRIPTION:
URL:https://gunstuff.tv/event/fita-target-league-13/
LOCATION:Indoor Archery Range\, 4770 Waterford Rd\, Clarkston\, MI\, United States
CATEGORIES:Archery,Indoor Archery Range,Range,Winter League
ATTACH;FMTTYPE=image/jpeg:https://gunstuff.tv/wp-content/uploads/2025/12/FITA_outdoorwednesday-4fSUc8.jpg
GEO:42.705297;-83.4014
X-APPLE-STRUCTURED-LOCATION;VALUE=URI;X-ADDRESS=Indoor Archery Range 4770 Waterford Rd Clarkston MI United States;X-APPLE-RADIUS=500;X-TITLE=4770 Waterford Rd:geo:-83.4014,42.705297
END:VEVENT
BEGIN:VEVENT
DTSTART;TZID=America/New_York:20260322T180000
DTEND;TZID=America/New_York:20260322T200000
DTSTAMP:20260421T073929
CREATED:20260320T051640Z
LAST-MODIFIED:20260320T051640Z
UID:10006386-1774202400-1774209600@gunstuff.tv
SUMMARY:FITA Target League
DESCRIPTION:
URL:https://gunstuff.tv/event/fita-target-league-12/
LOCATION:Indoor Archery Range\, 4770 Waterford Rd\, Clarkston\, MI\, United States
CATEGORIES:Archery,Indoor Archery Range,Range,Winter League
ATTACH;FMTTYPE=image/jpeg:https://gunstuff.tv/wp-content/uploads/2025/12/FITA_outdoorwednesday-4fSUc8.jpg
GEO:42.705297;-83.4014
X-APPLE-STRUCTURED-LOCATION;VALUE=URI;X-ADDRESS=Indoor Archery Range 4770 Waterford Rd Clarkston MI United States;X-APPLE-RADIUS=500;X-TITLE=4770 Waterford Rd:geo:-83.4014,42.705297
END:VEVENT
BEGIN:VEVENT
DTSTART;TZID=America/New_York:20260322T133000
DTEND;TZID=America/New_York:20260322T170000
DTSTAMP:20260421T073929
CREATED:20260320T051640Z
LAST-MODIFIED:20260320T051640Z
UID:10006385-1774186200-1774198800@gunstuff.tv
SUMMARY:JOAD League
DESCRIPTION:
URL:https://gunstuff.tv/event/joad-league-21/
LOCATION:Indoor Archery Range\, 4770 Waterford Rd\, Clarkston\, MI\, United States
CATEGORIES:Archery,Indoor Archery Range,Range
ATTACH;FMTTYPE=image/jpeg:https://gunstuff.tv/wp-content/uploads/2025/10/JOAD-SAM-Tournament-XezJUo.jpg
GEO:42.705297;-83.4014
X-APPLE-STRUCTURED-LOCATION;VALUE=URI;X-ADDRESS=Indoor Archery Range 4770 Waterford Rd Clarkston MI United States;X-APPLE-RADIUS=500;X-TITLE=4770 Waterford Rd:geo:-83.4014,42.705297
END:VEVENT
BEGIN:VEVENT
DTSTART;TZID=America/New_York:20260322T133000
DTEND;TZID=America/New_York:20260322T170000
DTSTAMP:20260421T073929
CREATED:20260320T051640Z
LAST-MODIFIED:20260320T051640Z
UID:10006375-1774186200-1774198800@gunstuff.tv
SUMMARY:JOAD League
DESCRIPTION:
URL:https://gunstuff.tv/event/joad-league-22/
LOCATION:Indoor Archery Range\, 4770 Waterford Rd\, Clarkston\, MI\, United States
CATEGORIES:Archery,Indoor Archery Range,Range
ATTACH;FMTTYPE=image/jpeg:https://gunstuff.tv/wp-content/uploads/2025/10/JOAD-SAM-Tournament-XezJUo.jpg
GEO:42.705297;-83.4014
X-APPLE-STRUCTURED-LOCATION;VALUE=URI;X-ADDRESS=Indoor Archery Range 4770 Waterford Rd Clarkston MI United States;X-APPLE-RADIUS=500;X-TITLE=4770 Waterford Rd:geo:-83.4014,42.705297
END:VEVENT
BEGIN:VEVENT
DTSTART;TZID=America/New_York:20260321T100000
DTEND;TZID=America/New_York:20260321T120000
DTSTAMP:20260421T073929
CREATED:20260320T051636Z
LAST-MODIFIED:20260320T051636Z
UID:10006380-1774087200-1774094400@gunstuff.tv
SUMMARY:Detroit Athletic Club Instruction
DESCRIPTION:
URL:https://gunstuff.tv/event/detroit-athletic-club-instruction/
LOCATION:Indoor Archery Range\, 4770 Waterford Rd\, Clarkston\, MI\, United States
CATEGORIES:Archery,Indoor Archery Range,Range
ATTACH;FMTTYPE=image/png:https://gunstuff.tv/wp-content/uploads/2026/02/archery-color-160x160-1-yUUewR.png
GEO:42.705297;-83.4014
X-APPLE-STRUCTURED-LOCATION;VALUE=URI;X-ADDRESS=Indoor Archery Range 4770 Waterford Rd Clarkston MI United States;X-APPLE-RADIUS=500;X-TITLE=4770 Waterford Rd:geo:-83.4014,42.705297
END:VEVENT
BEGIN:VEVENT
DTSTART;TZID=America/New_York:20260321T100000
DTEND;TZID=America/New_York:20260321T120000
DTSTAMP:20260421T073929
CREATED:20260320T051636Z
LAST-MODIFIED:20260320T051636Z
UID:10006370-1774087200-1774094400@gunstuff.tv
SUMMARY:Detroit Athletic Club Instruction
DESCRIPTION:
URL:https://gunstuff.tv/event/detroit-athletic-club-instruction-2/
LOCATION:Indoor Archery Range\, 4770 Waterford Rd\, Clarkston\, MI\, United States
CATEGORIES:Archery,Indoor Archery Range,Range
ATTACH;FMTTYPE=image/png:https://gunstuff.tv/wp-content/uploads/2026/02/archery-color-160x160-1-yUUewR.png
GEO:42.705297;-83.4014
X-APPLE-STRUCTURED-LOCATION;VALUE=URI;X-ADDRESS=Indoor Archery Range 4770 Waterford Rd Clarkston MI United States;X-APPLE-RADIUS=500;X-TITLE=4770 Waterford Rd:geo:-83.4014,42.705297
END:VEVENT
BEGIN:VEVENT
DTSTART;TZID=America/New_York:20260320T190000
DTEND;TZID=America/New_York:20260320T210000
DTSTAMP:20260421T073929
CREATED:20260320T051636Z
LAST-MODIFIED:20260320T051636Z
UID:10006378-1774033200-1774040400@gunstuff.tv
SUMMARY:NFAA League - Fridays
DESCRIPTION:
URL:https://gunstuff.tv/event/nfaa-league-fridays-11/
LOCATION:Indoor Archery Range\, 4770 Waterford Rd\, Clarkston\, MI\, United States
CATEGORIES:Archery,Indoor Archery Range,Range,Winter League
ATTACH;FMTTYPE=image/jpeg:https://gunstuff.tv/wp-content/uploads/2026/01/NFAA-ABnmFF.jpg
GEO:42.705297;-83.4014
X-APPLE-STRUCTURED-LOCATION;VALUE=URI;X-ADDRESS=Indoor Archery Range 4770 Waterford Rd Clarkston MI United States;X-APPLE-RADIUS=500;X-TITLE=4770 Waterford Rd:geo:-83.4014,42.705297
END:VEVENT
BEGIN:VEVENT
DTSTART;TZID=America/New_York:20260319T180000
DTEND;TZID=America/New_York:20260319T200000
DTSTAMP:20260421T073929
CREATED:20260313T051640Z
LAST-MODIFIED:20260313T051640Z
UID:10006304-1773943200-1773950400@gunstuff.tv
SUMMARY:NFAA League - Thursdays
DESCRIPTION:
URL:https://gunstuff.tv/event/nfaa-league-thursdays-8/
LOCATION:Indoor Archery Range\, 4770 Waterford Rd\, Clarkston\, MI\, United States
CATEGORIES:Archery,Indoor Archery Range,Range,Winter League
ATTACH;FMTTYPE=image/jpeg:https://gunstuff.tv/wp-content/uploads/2026/01/NFAA-ABnmFF.jpg
GEO:42.705297;-83.4014
X-APPLE-STRUCTURED-LOCATION;VALUE=URI;X-ADDRESS=Indoor Archery Range 4770 Waterford Rd Clarkston MI United States;X-APPLE-RADIUS=500;X-TITLE=4770 Waterford Rd:geo:-83.4014,42.705297
END:VEVENT
BEGIN:VEVENT
DTSTART;TZID=America/New_York:20260318T190000
DTEND;TZID=America/New_York:20260318T210000
DTSTAMP:20260421T073929
CREATED:20260313T051640Z
LAST-MODIFIED:20260313T051640Z
UID:10006302-1773860400-1773867600@gunstuff.tv
SUMMARY:Archery Meeting
DESCRIPTION:
URL:https://gunstuff.tv/event/archery-meeting-7/
LOCATION:Indoor Archery Range\, 4770 Waterford Rd\, Clarkston\, MI\, United States
CATEGORIES:Archery,Indoor Archery Range,Range
ATTACH;FMTTYPE=image/png:https://gunstuff.tv/wp-content/uploads/2025/10/archery-color-160x160-1-7Zvufe.png
GEO:42.705297;-83.4014
X-APPLE-STRUCTURED-LOCATION;VALUE=URI;X-ADDRESS=Indoor Archery Range 4770 Waterford Rd Clarkston MI United States;X-APPLE-RADIUS=500;X-TITLE=4770 Waterford Rd:geo:-83.4014,42.705297
END:VEVENT
BEGIN:VEVENT
DTSTART;TZID=America/New_York:20260318T183000
DTEND;TZID=America/New_York:20260318T200000
DTSTAMP:20260421T073929
CREATED:20260313T051640Z
LAST-MODIFIED:20260313T051640Z
UID:10006300-1773858600-1773864000@gunstuff.tv
SUMMARY:Parks & Rec Instructional Archery
DESCRIPTION:This is open to all youth 8 years and older\, adults\, members\, or non-members.\nBasics of archery including safety\, techniques\, self-improvement\, and mental concentration. Equipment is provided or bring your own (must be approved by instructors before use).\nRegister from Waterford: https://parks.waterfordmi.gov/CourseActivities.aspx?id=6\nRegister from Springfield: https://secure.rec1.com/MI/springfield-township-mi/catalog/index/b5ecc5390327b924601573b5dba299aa?filter=c2VhcmNoPWFyY2hlcnkmbG9jYXRpb24lNUI0NDQ3OSU1RD0x\nRegister from Independence: https://app.amilia.com/store/en/independence-township/shop/programs/95091?subCategoryIds=6162243
URL:https://gunstuff.tv/event/parks-rec-instructional-archery-36/
LOCATION:Indoor Archery Range\, 4770 Waterford Rd\, Clarkston\, MI\, United States
CATEGORIES:Archery,Indoor Archery Range,Range
ATTACH;FMTTYPE=image/jpeg:https://gunstuff.tv/wp-content/uploads/2026/01/indoor-archery-range-people-line-up-to-shoot-9Jgiih.jpg
GEO:42.705297;-83.4014
X-APPLE-STRUCTURED-LOCATION;VALUE=URI;X-ADDRESS=Indoor Archery Range 4770 Waterford Rd Clarkston MI United States;X-APPLE-RADIUS=500;X-TITLE=4770 Waterford Rd:geo:-83.4014,42.705297
END:VEVENT
BEGIN:VEVENT
DTSTART;TZID=America/New_York:20260318T163000
DTEND;TZID=America/New_York:20260318T180000
DTSTAMP:20260421T073929
CREATED:20260313T051640Z
LAST-MODIFIED:20260313T051640Z
UID:10006297-1773851400-1773856800@gunstuff.tv
SUMMARY:Parks & Rec Instructional Archery
DESCRIPTION:This is open to all youth 8 years and older\, adults\, members\, or non-members.\nBasics of archery including safety\, techniques\, self-improvement\, and mental concentration. Equipment is provided or bring your own (must be approved by instructors before use).\nRegister from Waterford: https://parks.waterfordmi.gov/CourseActivities.aspx?id=6\nRegister from Springfield: https://secure.rec1.com/MI/springfield-township-mi/catalog/index/b5ecc5390327b924601573b5dba299aa?filter=c2VhcmNoPWFyY2hlcnkmbG9jYXRpb24lNUI0NDQ3OSU1RD0x\nRegister from Independence: https://app.amilia.com/store/en/independence-township/shop/programs/95091?subCategoryIds=6162243
URL:https://gunstuff.tv/event/parks-rec-instructional-archery-35/
LOCATION:Indoor Archery Range\, 4770 Waterford Rd\, Clarkston\, MI\, United States
CATEGORIES:Archery,Indoor Archery Range,Range
ATTACH;FMTTYPE=image/jpeg:https://gunstuff.tv/wp-content/uploads/2026/01/indoor-archery-range-people-line-up-to-shoot-9Jgiih.jpg
GEO:42.705297;-83.4014
X-APPLE-STRUCTURED-LOCATION;VALUE=URI;X-ADDRESS=Indoor Archery Range 4770 Waterford Rd Clarkston MI United States;X-APPLE-RADIUS=500;X-TITLE=4770 Waterford Rd:geo:-83.4014,42.705297
END:VEVENT
BEGIN:VEVENT
DTSTART;TZID=America/New_York:20260318T093000
DTEND;TZID=America/New_York:20260318T113000
DTSTAMP:20260421T073929
CREATED:20260313T051640Z
LAST-MODIFIED:20260313T051640Z
UID:10006296-1773826200-1773833400@gunstuff.tv
SUMMARY:NFAA League - Wednesdays
DESCRIPTION:
URL:https://gunstuff.tv/event/nfaa-league-wednesdays-11/
LOCATION:Indoor Archery Range\, 4770 Waterford Rd\, Clarkston\, MI\, United States
CATEGORIES:Archery,Indoor Archery Range,Range,Winter League
ATTACH;FMTTYPE=image/jpeg:https://gunstuff.tv/wp-content/uploads/2026/01/NFAA-ABnmFF.jpg
GEO:42.705297;-83.4014
X-APPLE-STRUCTURED-LOCATION;VALUE=URI;X-ADDRESS=Indoor Archery Range 4770 Waterford Rd Clarkston MI United States;X-APPLE-RADIUS=500;X-TITLE=4770 Waterford Rd:geo:-83.4014,42.705297
END:VEVENT
BEGIN:VEVENT
DTSTART;TZID=America/New_York:20260317T190000
DTEND;TZID=America/New_York:20260317T210000
DTSTAMP:20260421T073929
CREATED:20260313T051640Z
LAST-MODIFIED:20260313T051640Z
UID:10006295-1773774000-1773781200@gunstuff.tv
SUMMARY:Animal League
DESCRIPTION:
URL:https://gunstuff.tv/event/animal-league-11/
LOCATION:Indoor Archery Range\, 4770 Waterford Rd\, Clarkston\, MI\, United States
CATEGORIES:Archery,Indoor Archery Range,Range,Winter League
ATTACH;FMTTYPE=image/jpeg:https://gunstuff.tv/wp-content/uploads/2026/01/Animal-X5cx5x.jpg
GEO:42.705297;-83.4014
X-APPLE-STRUCTURED-LOCATION;VALUE=URI;X-ADDRESS=Indoor Archery Range 4770 Waterford Rd Clarkston MI United States;X-APPLE-RADIUS=500;X-TITLE=4770 Waterford Rd:geo:-83.4014,42.705297
END:VEVENT
BEGIN:VEVENT
DTSTART;TZID=America/New_York:20260316T190000
DTEND;TZID=America/New_York:20260316T210000
DTSTAMP:20260421T073929
CREATED:20260313T051639Z
LAST-MODIFIED:20260313T051639Z
UID:10006290-1773687600-1773694800@gunstuff.tv
SUMMARY:Traditional League PM
DESCRIPTION:
URL:https://gunstuff.tv/event/traditional-league-pm-11/
LOCATION:Indoor Archery Range\, 4770 Waterford Rd\, Clarkston\, MI\, United States
CATEGORIES:Archery,Indoor Archery Range,Range,Winter League
ATTACH;FMTTYPE=image/jpeg:https://gunstuff.tv/wp-content/uploads/2025/12/Traditional_Barebow-3kQxVw.jpg
GEO:42.705297;-83.4014
X-APPLE-STRUCTURED-LOCATION;VALUE=URI;X-ADDRESS=Indoor Archery Range 4770 Waterford Rd Clarkston MI United States;X-APPLE-RADIUS=500;X-TITLE=4770 Waterford Rd:geo:-83.4014,42.705297
END:VEVENT
END:VCALENDAR