BEGIN:VCALENDAR
VERSION:2.0
PRODID:-//GunStuff TV - ECPv6.15.20//NONSGML v1.0//EN
CALSCALE:GREGORIAN
METHOD:PUBLISH
X-WR-CALNAME:GunStuff TV
X-ORIGINAL-URL:https://gunstuff.tv
X-WR-CALDESC:Events for GunStuff TV
REFRESH-INTERVAL;VALUE=DURATION:PT1H
X-Robots-Tag:noindex
X-PUBLISHED-TTL:PT1H
BEGIN:VTIMEZONE
TZID:America/Los_Angeles
BEGIN:DAYLIGHT
TZOFFSETFROM:-0800
TZOFFSETTO:-0700
TZNAME:PDT
DTSTART:20250309T100000
END:DAYLIGHT
BEGIN:STANDARD
TZOFFSETFROM:-0700
TZOFFSETTO:-0800
TZNAME:PST
DTSTART:20251102T090000
END:STANDARD
BEGIN:DAYLIGHT
TZOFFSETFROM:-0800
TZOFFSETTO:-0700
TZNAME:PDT
DTSTART:20260308T100000
END:DAYLIGHT
BEGIN:STANDARD
TZOFFSETFROM:-0700
TZOFFSETTO:-0800
TZNAME:PST
DTSTART:20261101T090000
END:STANDARD
BEGIN:DAYLIGHT
TZOFFSETFROM:-0800
TZOFFSETTO:-0700
TZNAME:PDT
DTSTART:20270314T100000
END:DAYLIGHT
BEGIN:STANDARD
TZOFFSETFROM:-0700
TZOFFSETTO:-0800
TZNAME:PST
DTSTART:20271107T090000
END:STANDARD
END:VTIMEZONE
BEGIN:VEVENT
DTSTART;TZID=America/Los_Angeles:20260201T080000
DTEND;TZID=America/Los_Angeles:20260201T130000
DTSTAMP:20260423T030030
CREATED:20260102T190145Z
LAST-MODIFIED:20260130T191633Z
UID:10003715-1769932800-1769950800@gunstuff.tv
SUMMARY:MPR – Diablo Small Bore and Air Gun Silhouette
DESCRIPTION:
URL:https://gunstuff.tv/event/mpr-diablo-small-bore-and-air-gun-silhouette-4/
LOCATION:USI Multi Purpose Range\, 4700 Evora Road\, Concord\, CA\, 94520
CATEGORIES:Airgun,Silhouette Shooting
END:VEVENT
BEGIN:VEVENT
DTSTART;TZID=America/Los_Angeles:20260204T090000
DTEND;TZID=America/Los_Angeles:20260204T120000
DTSTAMP:20260423T030030
CREATED:20260109T190149Z
LAST-MODIFIED:20260130T191634Z
UID:10003897-1770195600-1770206400@gunstuff.tv
SUMMARY:Airgun Wednesdays
DESCRIPTION:Fun Airgun Only shooting session at the MPR- look for the big red flag on the pole that says “MPR”- that’s us! \nOpen to public\, airguns .30 cal and below. Benches available\, targets and stands\, 200 yard range. Good group of people. \nAll types of airguns- springers\, PCP’s\, Pistols.  Eye protection required\, ear protection optional \nNo bb\, darts or airsoft please. \n$15 Guest\n$10 for Diablo members (did you know Diablo membership is only $25 a year?)\n$5 for those special few that have purchased a USI VIP card.\nYouths accompanied by a Club member adult shoot free.\n \n\nUSI waiver must signed prior to shoot\, you can do so prior to attending: \n\n\nWaiver \n\n\nContact: \nSam Russo \nthePelleteer@gmail.com
URL:https://gunstuff.tv/event/airgun-wednesdays-17/
LOCATION:USI Multi Purpose Range\, 4700 Evora Road\, Concord\, CA\, 94520
CATEGORIES:Airgun
ATTACH;FMTTYPE=image/jpeg:https://gunstuff.tv/wp-content/uploads/2025/10/4MRvVFxy_400x400-e1623188943149-4rbkn0.jpg
ORGANIZER;CN="Sam Russo":MAILTO:airgun_fieldtarget@diablorodandgun.com
END:VEVENT
BEGIN:VEVENT
DTSTART;TZID=America/Los_Angeles:20260204T120000
DTEND;TZID=America/Los_Angeles:20260204T160000
DTSTAMP:20260423T030030
CREATED:20260109T190149Z
LAST-MODIFIED:20260130T191634Z
UID:10003898-1770206400-1770220800@gunstuff.tv
SUMMARY:.22 Silhouette Practice and Airguns welcome!
DESCRIPTION:22 Rimfire and Air guns only- Silhouette target shooting at the MPR. \nOffhand/Standing shooting at Metal Animal silhouettes with rifles or pistols\, open or scoped sights allowed. \nBenches are available during this practice period every Wednesday \nMembers of all 5 clubs are welcome.\n Fees are collected at the Multi Purpose Range\, not at the USI Clubhouse .\nThe MPR is the building on the right hand side as you pass the Public Range\, but before the Impalement Arts Range.\nLook for the red MPR flag on the flag post- that’s us!\n\nUSI waiver and a Blue Card issued from the USI clubhouse required prior to the match- there is no charge to these one time processes.\n\nA silhouette is a steel profile of an animal (chicken\, pig\, turkey\, or ram) standing on a pedestal. The object of the game is to knock as many silhouettes as possible off the stand\, shooting one round at each silhouette. It is a very simple competition\, with very simple scoring: Knocking an animal off its stand counts as a hit.\n\nAlthough silhouette is an easy game to learn\, it is not an easy game to master. The animals are rather small and the distances can reach out a bit; you must shoot offhand (standing); a moderate breeze can move a bullet or a pellet the width of an animal; your concentration becomes more difficult to hold as you knock down five in a row or with a close miss.  Silhouette is an endless challenge that makes you a better shooter!\nThis is a reoccurring event every Week- we intend to host this practice barring weather or extraordinary barriers preventing the event from occurring in a safe environment. Heavy fog\, severe weather or other acts of nature could force a postponement.\n\n+ GOOGLE CALENDAR+ ICAL EXPORT\n\n\nRelated Events
URL:https://gunstuff.tv/event/22-silhouette-practice-and-airguns-welcome-17/
LOCATION:USI Multi Purpose Range\, 4700 Evora Road\, Concord\, CA\, 94520
CATEGORIES:Airgun,Silhouette Shooting
ATTACH;FMTTYPE=image/jpeg:https://gunstuff.tv/wp-content/uploads/2025/10/Silhouette_Target_1-05Bdxg.jpg
ORGANIZER;CN="Dennis Winslow":MAILTO:dmwinslow@aol.com
END:VEVENT
BEGIN:VEVENT
DTSTART;TZID=America/Los_Angeles:20260205T090000
DTEND;TZID=America/Los_Angeles:20260205T120000
DTSTAMP:20260423T030030
CREATED:20260109T190149Z
LAST-MODIFIED:20260130T191634Z
UID:10003899-1770282000-1770292800@gunstuff.tv
SUMMARY:Airgun & 22LR Thursdays
DESCRIPTION:Fun Airgun AND .22 LR from NOON ONWARD…  session at the MPR- look for the big red flag on the pole that says “MPR”- that’s us! \nOpen to public\, airguns .30 cal and below AND .22 LR. Benches available\, targets and stands\, 200 yard range. Good group of people. \nAll types of Airguns- springers\, PCP’s\, Pistols.\nAll Types of .22 LR – Rifle and Pistol. \nEye protection required\, ear required \n$15 Guest\n$10 for Diablo members (did you know Diablo membership is only $25 a year?)\n$5 for those special few that have purchased a USI VIP card.\nYouths accompanied by a Club member adult shoot free.\n \n\nUSI waiver must signed prior to shoot\, you can do so prior to attending: \n\n\nWaiver \n\n\nContact: \nSam Russo \nthePelleteer@gmail.com \n 
URL:https://gunstuff.tv/event/airgun-22lr-thursdays-17/
LOCATION:USI Multi Purpose Range\, 4700 Evora Road\, Concord\, CA\, 94520
CATEGORIES:.22lr Shooting,Airgun
ATTACH;FMTTYPE=image/jpeg:https://gunstuff.tv/wp-content/uploads/2025/10/222-YduOUz.jpg
ORGANIZER;CN="Sam Russo":MAILTO:airgun_fieldtarget@diablorodandgun.com
END:VEVENT
BEGIN:VEVENT
DTSTART;TZID=America/Los_Angeles:20260205T130000
DTEND;TZID=America/Los_Angeles:20260205T180000
DTSTAMP:20260423T030030
CREATED:20260109T190149Z
LAST-MODIFIED:20260130T191634Z
UID:10003900-1770296400-1770314400@gunstuff.tv
SUMMARY:.22 LR and Airgun
DESCRIPTION:
URL:https://gunstuff.tv/event/22-lr-and-airgun-4/
LOCATION:USI Multi Purpose Range\, 4700 Evora Road\, Concord\, CA\, 94520
CATEGORIES:.22lr Shooting,Airgun
ATTACH;FMTTYPE=image/jpeg:https://gunstuff.tv/wp-content/uploads/2025/10/222-YduOUz.jpg
END:VEVENT
BEGIN:VEVENT
DTSTART;TZID=America/Los_Angeles:20260211T090000
DTEND;TZID=America/Los_Angeles:20260211T120000
DTSTAMP:20260423T030030
CREATED:20260116T190253Z
LAST-MODIFIED:20260206T191707Z
UID:10004520-1770800400-1770811200@gunstuff.tv
SUMMARY:Airgun Wednesdays
DESCRIPTION:Fun Airgun Only shooting session at the MPR- look for the big red flag on the pole that says “MPR”- that’s us! \nOpen to public\, airguns .30 cal and below. Benches available\, targets and stands\, 200 yard range. Good group of people. \nAll types of airguns- springers\, PCP’s\, Pistols.  Eye protection required\, ear protection optional \nNo bb\, darts or airsoft please. \n$15 Guest\n$10 for Diablo members (did you know Diablo membership is only $25 a year?)\n$5 for those special few that have purchased a USI VIP card.\nYouths accompanied by a Club member adult shoot free.\n \n\nUSI waiver must signed prior to shoot\, you can do so prior to attending: \n\n\nWaiver \n\n\nContact: \nSam Russo \nthePelleteer@gmail.com
URL:https://gunstuff.tv/event/airgun-wednesdays-18/
LOCATION:USI Multi Purpose Range\, 4700 Evora Road\, Concord\, CA\, 94520
CATEGORIES:Airgun
ATTACH;FMTTYPE=image/jpeg:https://gunstuff.tv/wp-content/uploads/2025/10/4MRvVFxy_400x400-e1623188943149-4rbkn0.jpg
ORGANIZER;CN="Sam Russo":MAILTO:airgun_fieldtarget@diablorodandgun.com
END:VEVENT
BEGIN:VEVENT
DTSTART;TZID=America/Los_Angeles:20260211T120000
DTEND;TZID=America/Los_Angeles:20260211T160000
DTSTAMP:20260423T030030
CREATED:20260116T190306Z
LAST-MODIFIED:20260206T191707Z
UID:10004521-1770811200-1770825600@gunstuff.tv
SUMMARY:.22 Silhouette Practice and Airguns welcome!
DESCRIPTION:22 Rimfire and Air guns only- Silhouette target shooting at the MPR. \nOffhand/Standing shooting at Metal Animal silhouettes with rifles or pistols\, open or scoped sights allowed. \nBenches are available during this practice period every Wednesday \nMembers of all 5 clubs are welcome.\n Fees are collected at the Multi Purpose Range\, not at the USI Clubhouse .\nThe MPR is the building on the right hand side as you pass the Public Range\, but before the Impalement Arts Range.\nLook for the red MPR flag on the flag post- that’s us!\n\nUSI waiver and a Blue Card issued from the USI clubhouse required prior to the match- there is no charge to these one time processes.\n\nA silhouette is a steel profile of an animal (chicken\, pig\, turkey\, or ram) standing on a pedestal. The object of the game is to knock as many silhouettes as possible off the stand\, shooting one round at each silhouette. It is a very simple competition\, with very simple scoring: Knocking an animal off its stand counts as a hit.\n\nAlthough silhouette is an easy game to learn\, it is not an easy game to master. The animals are rather small and the distances can reach out a bit; you must shoot offhand (standing); a moderate breeze can move a bullet or a pellet the width of an animal; your concentration becomes more difficult to hold as you knock down five in a row or with a close miss.  Silhouette is an endless challenge that makes you a better shooter!\nThis is a reoccurring event every Week- we intend to host this practice barring weather or extraordinary barriers preventing the event from occurring in a safe environment. Heavy fog\, severe weather or other acts of nature could force a postponement.\n\n+ GOOGLE CALENDAR+ ICAL EXPORT\n\n\nRelated Events
URL:https://gunstuff.tv/event/22-silhouette-practice-and-airguns-welcome-18/
LOCATION:USI Multi Purpose Range\, 4700 Evora Road\, Concord\, CA\, 94520
CATEGORIES:Airgun,Silhouette Shooting
ATTACH;FMTTYPE=image/jpeg:https://gunstuff.tv/wp-content/uploads/2025/10/Silhouette_Target_1-05Bdxg.jpg
ORGANIZER;CN="Dennis Winslow":MAILTO:dmwinslow@aol.com
END:VEVENT
BEGIN:VEVENT
DTSTART;TZID=America/Los_Angeles:20260212T090000
DTEND;TZID=America/Los_Angeles:20260212T120000
DTSTAMP:20260423T030030
CREATED:20260116T190306Z
LAST-MODIFIED:20260206T191707Z
UID:10004522-1770886800-1770897600@gunstuff.tv
SUMMARY:Airgun & 22LR Thursdays
DESCRIPTION:Fun Airgun AND .22 LR from NOON ONWARD…  session at the MPR- look for the big red flag on the pole that says “MPR”- that’s us! \nOpen to public\, airguns .30 cal and below AND .22 LR. Benches available\, targets and stands\, 200 yard range. Good group of people. \nAll types of Airguns- springers\, PCP’s\, Pistols.\nAll Types of .22 LR – Rifle and Pistol. \nEye protection required\, ear required \n$15 Guest\n$10 for Diablo members (did you know Diablo membership is only $25 a year?)\n$5 for those special few that have purchased a USI VIP card.\nYouths accompanied by a Club member adult shoot free.\n \n\nUSI waiver must signed prior to shoot\, you can do so prior to attending: \n\n\nWaiver \n\n\nContact: \nSam Russo \nthePelleteer@gmail.com \n 
URL:https://gunstuff.tv/event/airgun-22lr-thursdays-18/
LOCATION:USI Multi Purpose Range\, 4700 Evora Road\, Concord\, CA\, 94520
CATEGORIES:.22lr Shooting,Airgun
ATTACH;FMTTYPE=image/jpeg:https://gunstuff.tv/wp-content/uploads/2025/10/222-YduOUz.jpg
ORGANIZER;CN="Sam Russo":MAILTO:airgun_fieldtarget@diablorodandgun.com
END:VEVENT
BEGIN:VEVENT
DTSTART;TZID=America/Los_Angeles:20260213T173000
DTEND;TZID=America/Los_Angeles:20260213T200000
DTSTAMP:20260423T030030
CREATED:20260116T190306Z
LAST-MODIFIED:20260213T192137Z
UID:10004525-1771003800-1771012800@gunstuff.tv
SUMMARY:10 Meter Indoor Airgun Match
DESCRIPTION:The Airgun League runs from January through May. The shoots are on the 2nd and 4th Friday of each of those months with events for rifle and pistol. \nAll shooting is done offhand (standing) at paper targets. The format is “shoulder to shoulder”\, without point dividers\, so some shooting experience is required. There is no coaching or spotting (by another person for the shooter) permitted during the “record” firing periods. \n\nAll shoots are held in the clubhouse and there are club guns available for those of you who don’t have their own.\nJuniors (ages 8 to 18) shoot free\, but those over 16 shoot in the adult classifications.\nCompetition is by classification (shooting against other shooters in your class) except for the high overall scores. A total of twenty (20) shots are fired for record over the course of two ten-minute record firing periods. A five-minute “sight-in” firing period is held before each squad begins shooting for record.\nWe offer two relays per evening ($2.50 relay) – you can shoot rifle/pistol or rifle/rifle if desired\n\nFor further information contact \n\n \n  \nDiabloAirGun@Outlook.com
URL:https://gunstuff.tv/event/10-meter-indoor-airgun-match-2/
LOCATION:USI Clubhouse\, 4700 Evora Rd.\, Concord\, CA\, 94521
CATEGORIES:Airgun
ATTACH;FMTTYPE=image/png:https://gunstuff.tv/wp-content/uploads/2025/12/unnamed-BQHRtY.png
ORGANIZER;CN="Martin O&#8217%3BConnor":MAILTO:Membership@Diablorodandgun.com
END:VEVENT
BEGIN:VEVENT
DTSTART;TZID=America/Los_Angeles:20260215T080000
DTEND;TZID=America/Los_Angeles:20260215T120000
DTSTAMP:20260423T030030
CREATED:20260116T190319Z
LAST-MODIFIED:20260213T192138Z
UID:10004531-1771142400-1771156800@gunstuff.tv
SUMMARY:Airgun – Field Target
DESCRIPTION:Airgun Field Target is an outdoor venue\, utilizing precision high-power air rifles (sometimes air pistols). The reactionary\, steel animal targets are designed to fall only when the pellet hits the “Kill Zone”\, requiring target-rifle accuracy. Targets are then re-set with a cord from the shooting position. The distance to the targets varies and is unknown\, adding an element of range-finding ability (similar to hunting in the field). All types of air rifles may be used\, up to .22 cal\,  (but NO BB’s) and we do have some loaners available. Junior shooters are welcome and as always\, they shoot FREE when accompanied by an adult club member. \nAirguns have grown up…….Give it a try ! We shoot in all weather\, except for the atypical Lightning storm.
URL:https://gunstuff.tv/event/airgun-field-target-3/
LOCATION:USI Multi Purpose Range\, 4700 Evora Road\, Concord\, CA\, 94520
CATEGORIES:Airgun
ATTACH;FMTTYPE=image/png:https://gunstuff.tv/wp-content/uploads/2025/12/fieldtargetguns580-i92vQ1.png
ORGANIZER;CN="Sam Russo":MAILTO:airgun_fieldtarget@diablorodandgun.com
END:VEVENT
BEGIN:VEVENT
DTSTART;TZID=America/Los_Angeles:20260218T090000
DTEND;TZID=America/Los_Angeles:20260218T120000
DTSTAMP:20260423T030030
CREATED:20260123T191740Z
LAST-MODIFIED:20260213T192138Z
UID:10004699-1771405200-1771416000@gunstuff.tv
SUMMARY:Airgun Wednesdays
DESCRIPTION:Fun Airgun Only shooting session at the MPR- look for the big red flag on the pole that says “MPR”- that’s us! \nOpen to public\, airguns .30 cal and below. Benches available\, targets and stands\, 200 yard range. Good group of people. \nAll types of airguns- springers\, PCP’s\, Pistols.  Eye protection required\, ear protection optional \nNo bb\, darts or airsoft please. \n$15 Guest\n$10 for Diablo members (did you know Diablo membership is only $25 a year?)\n$5 for those special few that have purchased a USI VIP card.\nYouths accompanied by a Club member adult shoot free.\n \n\nUSI waiver must signed prior to shoot\, you can do so prior to attending: \n\n\nWaiver \n\n\nContact: \nSam Russo \nthePelleteer@gmail.com
URL:https://gunstuff.tv/event/airgun-wednesdays-19/
LOCATION:USI Multi Purpose Range\, 4700 Evora Road\, Concord\, CA\, 94520
CATEGORIES:Airgun
ATTACH;FMTTYPE=image/jpeg:https://gunstuff.tv/wp-content/uploads/2025/10/4MRvVFxy_400x400-e1623188943149-4rbkn0.jpg
ORGANIZER;CN="Sam Russo":MAILTO:airgun_fieldtarget@diablorodandgun.com
END:VEVENT
BEGIN:VEVENT
DTSTART;TZID=America/Los_Angeles:20260218T120000
DTEND;TZID=America/Los_Angeles:20260218T160000
DTSTAMP:20260423T030030
CREATED:20260123T191740Z
LAST-MODIFIED:20260213T192138Z
UID:10004700-1771416000-1771430400@gunstuff.tv
SUMMARY:.22 Silhouette Practice and Airguns welcome!
DESCRIPTION:22 Rimfire and Air guns only- Silhouette target shooting at the MPR. \nOffhand/Standing shooting at Metal Animal silhouettes with rifles or pistols\, open or scoped sights allowed. \nBenches are available during this practice period every Wednesday \nMembers of all 5 clubs are welcome.\n Fees are collected at the Multi Purpose Range\, not at the USI Clubhouse .\nThe MPR is the building on the right hand side as you pass the Public Range\, but before the Impalement Arts Range.\nLook for the red MPR flag on the flag post- that’s us!\n\nUSI waiver and a Blue Card issued from the USI clubhouse required prior to the match- there is no charge to these one time processes.\n\nA silhouette is a steel profile of an animal (chicken\, pig\, turkey\, or ram) standing on a pedestal. The object of the game is to knock as many silhouettes as possible off the stand\, shooting one round at each silhouette. It is a very simple competition\, with very simple scoring: Knocking an animal off its stand counts as a hit.\n\nAlthough silhouette is an easy game to learn\, it is not an easy game to master. The animals are rather small and the distances can reach out a bit; you must shoot offhand (standing); a moderate breeze can move a bullet or a pellet the width of an animal; your concentration becomes more difficult to hold as you knock down five in a row or with a close miss.  Silhouette is an endless challenge that makes you a better shooter!\nThis is a reoccurring event every Week- we intend to host this practice barring weather or extraordinary barriers preventing the event from occurring in a safe environment. Heavy fog\, severe weather or other acts of nature could force a postponement.\n\n+ GOOGLE CALENDAR+ ICAL EXPORT\n\n\nRelated Events
URL:https://gunstuff.tv/event/22-silhouette-practice-and-airguns-welcome-19/
LOCATION:USI Multi Purpose Range\, 4700 Evora Road\, Concord\, CA\, 94520
CATEGORIES:Airgun,Silhouette Shooting
ATTACH;FMTTYPE=image/jpeg:https://gunstuff.tv/wp-content/uploads/2025/10/Silhouette_Target_1-05Bdxg.jpg
ORGANIZER;CN="Dennis Winslow":MAILTO:dmwinslow@aol.com
END:VEVENT
BEGIN:VEVENT
DTSTART;TZID=America/Los_Angeles:20260219T090000
DTEND;TZID=America/Los_Angeles:20260219T120000
DTSTAMP:20260423T030030
CREATED:20260123T191740Z
LAST-MODIFIED:20260213T192138Z
UID:10004702-1771491600-1771502400@gunstuff.tv
SUMMARY:Airgun & 22LR Thursdays
DESCRIPTION:Fun Airgun AND .22 LR from NOON ONWARD…  session at the MPR- look for the big red flag on the pole that says “MPR”- that’s us! \nOpen to public\, airguns .30 cal and below AND .22 LR. Benches available\, targets and stands\, 200 yard range. Good group of people. \nAll types of Airguns- springers\, PCP’s\, Pistols.\nAll Types of .22 LR – Rifle and Pistol. \nEye protection required\, ear required \n$15 Guest\n$10 for Diablo members (did you know Diablo membership is only $25 a year?)\n$5 for those special few that have purchased a USI VIP card.\nYouths accompanied by a Club member adult shoot free.\n \n\nUSI waiver must signed prior to shoot\, you can do so prior to attending: \n\n\nWaiver \n\n\nContact: \nSam Russo \nthePelleteer@gmail.com \n 
URL:https://gunstuff.tv/event/airgun-22lr-thursdays-19/
LOCATION:USI Multi Purpose Range\, 4700 Evora Road\, Concord\, CA\, 94520
CATEGORIES:.22lr Shooting,Airgun
ATTACH;FMTTYPE=image/jpeg:https://gunstuff.tv/wp-content/uploads/2025/10/222-YduOUz.jpg
ORGANIZER;CN="Sam Russo":MAILTO:airgun_fieldtarget@diablorodandgun.com
END:VEVENT
BEGIN:VEVENT
DTSTART;TZID=America/Los_Angeles:20260225T090000
DTEND;TZID=America/Los_Angeles:20260225T120000
DTSTAMP:20260423T030030
CREATED:20260130T191634Z
LAST-MODIFIED:20260220T193135Z
UID:10004862-1772010000-1772020800@gunstuff.tv
SUMMARY:Airgun Wednesdays
DESCRIPTION:Fun Airgun Only shooting session at the MPR- look for the big red flag on the pole that says “MPR”- that’s us! \nOpen to public\, airguns .30 cal and below. Benches available\, targets and stands\, 200 yard range. Good group of people. \nAll types of airguns- springers\, PCP’s\, Pistols.  Eye protection required\, ear protection optional \nNo bb\, darts or airsoft please. \n$15 Guest\n$10 for Diablo members (did you know Diablo membership is only $25 a year?)\n$5 for those special few that have purchased a USI VIP card.\nYouths accompanied by a Club member adult shoot free.\n \n\nUSI waiver must signed prior to shoot\, you can do so prior to attending: \n\n\nWaiver \n\n\nContact: \nSam Russo \nthePelleteer@gmail.com
URL:https://gunstuff.tv/event/airgun-wednesdays-20/
LOCATION:USI Multi Purpose Range\, 4700 Evora Road\, Concord\, CA\, 94520
CATEGORIES:Airgun
ATTACH;FMTTYPE=image/jpeg:https://gunstuff.tv/wp-content/uploads/2025/10/4MRvVFxy_400x400-e1623188943149-4rbkn0.jpg
ORGANIZER;CN="Sam Russo":MAILTO:airgun_fieldtarget@diablorodandgun.com
END:VEVENT
BEGIN:VEVENT
DTSTART;TZID=America/Los_Angeles:20260225T120000
DTEND;TZID=America/Los_Angeles:20260225T160000
DTSTAMP:20260423T030030
CREATED:20260130T191634Z
LAST-MODIFIED:20260220T193135Z
UID:10004863-1772020800-1772035200@gunstuff.tv
SUMMARY:.22 Silhouette Practice and Airguns welcome!
DESCRIPTION:22 Rimfire and Air guns only- Silhouette target shooting at the MPR. \nOffhand/Standing shooting at Metal Animal silhouettes with rifles or pistols\, open or scoped sights allowed. \nBenches are available during this practice period every Wednesday \nMembers of all 5 clubs are welcome.\n Fees are collected at the Multi Purpose Range\, not at the USI Clubhouse .\nThe MPR is the building on the right hand side as you pass the Public Range\, but before the Impalement Arts Range.\nLook for the red MPR flag on the flag post- that’s us!\n\nUSI waiver and a Blue Card issued from the USI clubhouse required prior to the match- there is no charge to these one time processes.\n\nA silhouette is a steel profile of an animal (chicken\, pig\, turkey\, or ram) standing on a pedestal. The object of the game is to knock as many silhouettes as possible off the stand\, shooting one round at each silhouette. It is a very simple competition\, with very simple scoring: Knocking an animal off its stand counts as a hit.\n\nAlthough silhouette is an easy game to learn\, it is not an easy game to master. The animals are rather small and the distances can reach out a bit; you must shoot offhand (standing); a moderate breeze can move a bullet or a pellet the width of an animal; your concentration becomes more difficult to hold as you knock down five in a row or with a close miss.  Silhouette is an endless challenge that makes you a better shooter!\nThis is a reoccurring event every Week- we intend to host this practice barring weather or extraordinary barriers preventing the event from occurring in a safe environment. Heavy fog\, severe weather or other acts of nature could force a postponement.\n\n+ GOOGLE CALENDAR+ ICAL EXPORT\n\n\nRelated Events
URL:https://gunstuff.tv/event/22-silhouette-practice-and-airguns-welcome-20/
LOCATION:USI Multi Purpose Range\, 4700 Evora Road\, Concord\, CA\, 94520
CATEGORIES:Airgun,Silhouette Shooting
ATTACH;FMTTYPE=image/jpeg:https://gunstuff.tv/wp-content/uploads/2025/10/Silhouette_Target_1-05Bdxg.jpg
ORGANIZER;CN="Dennis Winslow":MAILTO:dmwinslow@aol.com
END:VEVENT
BEGIN:VEVENT
DTSTART;TZID=America/Los_Angeles:20260226T090000
DTEND;TZID=America/Los_Angeles:20260226T120000
DTSTAMP:20260423T030030
CREATED:20260130T191634Z
LAST-MODIFIED:20260220T193133Z
UID:10004864-1772096400-1772107200@gunstuff.tv
SUMMARY:Airgun & 22LR Thursdays
DESCRIPTION:Fun Airgun AND .22 LR from NOON ONWARD…  session at the MPR- look for the big red flag on the pole that says “MPR”- that’s us! \nOpen to public\, airguns .30 cal and below AND .22 LR. Benches available\, targets and stands\, 200 yard range. Good group of people. \nAll types of Airguns- springers\, PCP’s\, Pistols.\nAll Types of .22 LR – Rifle and Pistol. \nEye protection required\, ear required \n$15 Guest\n$10 for Diablo members (did you know Diablo membership is only $25 a year?)\n$5 for those special few that have purchased a USI VIP card.\nYouths accompanied by a Club member adult shoot free.\n \n\nUSI waiver must signed prior to shoot\, you can do so prior to attending: \n\n\nWaiver \n\n\nContact: \nSam Russo \nthePelleteer@gmail.com \n 
URL:https://gunstuff.tv/event/airgun-22lr-thursdays-20/
LOCATION:USI Multi Purpose Range\, 4700 Evora Road\, Concord\, CA\, 94520
CATEGORIES:.22lr Shooting,Airgun
ATTACH;FMTTYPE=image/jpeg:https://gunstuff.tv/wp-content/uploads/2025/10/222-YduOUz.jpg
ORGANIZER;CN="Sam Russo":MAILTO:airgun_fieldtarget@diablorodandgun.com
END:VEVENT
BEGIN:VEVENT
DTSTART;TZID=America/Los_Angeles:20260227T173000
DTEND;TZID=America/Los_Angeles:20260227T210000
DTSTAMP:20260423T030030
CREATED:20260130T191634Z
LAST-MODIFIED:20260227T193139Z
UID:10004865-1772213400-1772226000@gunstuff.tv
SUMMARY:10 Meter Indoor Airgun Match
DESCRIPTION:The Airgun League runs from January through May. The shoots are on the 2nd and 4th Friday of each of those months with events for rifle and pistol. \nAll shooting is done offhand (standing) at paper targets. The format is “shoulder to shoulder”\, without point dividers\, so some shooting experience is required. There is no coaching or spotting (by another person for the shooter) permitted during the “record” firing periods. \n\nAll shoots are held in the clubhouse and there are club guns available for those of you who don’t have their own.\nJuniors (ages 8 to 18) shoot free\, but those over 16 shoot in the adult classifications.\nCompetition is by classification (shooting against other shooters in your class) except for the high overall scores. A total of twenty (20) shots are fired for record over the course of two ten-minute record firing periods. A five-minute “sight-in” firing period is held before each squad begins shooting for record.\nWe offer two relays per evening ($2.50 relay) – you can shoot rifle/pistol or rifle/rifle if desired\n\nFor further information contact \n\n \n  \nDiabloAirGun@Outlook.com
URL:https://gunstuff.tv/event/10-meter-indoor-airgun-match-3/
LOCATION:USI Clubhouse\, 4700 Evora Rd.\, Concord\, CA\, 94521
CATEGORIES:Airgun
ATTACH;FMTTYPE=image/png:https://gunstuff.tv/wp-content/uploads/2025/12/unnamed-BQHRtY.png
ORGANIZER;CN="Martin O&#8217%3BConnor":MAILTO:Membership@Diablorodandgun.com
END:VEVENT
END:VCALENDAR