BEGIN:VCALENDAR
VERSION:2.0
PRODID:-//GunStuff TV - ECPv6.15.20//NONSGML v1.0//EN
CALSCALE:GREGORIAN
METHOD:PUBLISH
X-WR-CALNAME:GunStuff TV
X-ORIGINAL-URL:https://gunstuff.tv
X-WR-CALDESC:Events for GunStuff TV
REFRESH-INTERVAL;VALUE=DURATION:PT1H
X-Robots-Tag:noindex
X-PUBLISHED-TTL:PT1H
BEGIN:VTIMEZONE
TZID:America/Los_Angeles
BEGIN:DAYLIGHT
TZOFFSETFROM:-0800
TZOFFSETTO:-0700
TZNAME:PDT
DTSTART:20250309T100000
END:DAYLIGHT
BEGIN:STANDARD
TZOFFSETFROM:-0700
TZOFFSETTO:-0800
TZNAME:PST
DTSTART:20251102T090000
END:STANDARD
BEGIN:DAYLIGHT
TZOFFSETFROM:-0800
TZOFFSETTO:-0700
TZNAME:PDT
DTSTART:20260308T100000
END:DAYLIGHT
BEGIN:STANDARD
TZOFFSETFROM:-0700
TZOFFSETTO:-0800
TZNAME:PST
DTSTART:20261101T090000
END:STANDARD
BEGIN:DAYLIGHT
TZOFFSETFROM:-0800
TZOFFSETTO:-0700
TZNAME:PDT
DTSTART:20270314T100000
END:DAYLIGHT
BEGIN:STANDARD
TZOFFSETFROM:-0700
TZOFFSETTO:-0800
TZNAME:PST
DTSTART:20271107T090000
END:STANDARD
END:VTIMEZONE
BEGIN:VEVENT
DTSTART;TZID=America/Los_Angeles:20260516T090000
DTEND;TZID=America/Los_Angeles:20260516T120000
DTSTAMP:20260422T214110
CREATED:20260417T194739Z
LAST-MODIFIED:20260417T194804Z
UID:10008027-1778922000-1778932800@gunstuff.tv
SUMMARY:NRL22 Match
DESCRIPTION:DRGC hosts an NRL22 match every 3rd Saturday of the month.\n\nNRL Matches runs from 8am-1pm for NRL22-style shooting — If you are new\, please speak to the Practice Leader/RSO about how to shoot safely in advance.\n\nMatch Fees:\n$10 for members with a USI VIP card\n$15 for members without a USI VIP card\n$30 for public (non-member)\n\n\nTo register for the match\, go to: https://practiscore.com/clubs/diablo_precision_rimfire_rifle \n  \n\nTo find out more information about NRL22 — Hit us up at nrl-matchsupport@diablorodandgun.com and someone will get back to you ASAP!!
URL:https://gunstuff.tv/event/nrl22-match-8/
LOCATION:USI Multi Purpose Range\, 4700 Evora Road\, Concord\, CA\, 94520
CATEGORIES:.22lr Shooting,NRL Events
ATTACH;FMTTYPE=image/jpeg:https://gunstuff.tv/wp-content/uploads/2025/10/download-nrl-KFUaKm.jpg
ORGANIZER;CN="Richard Carlson":MAILTO:nrl-matchsupport@diablorodandgun.com
END:VEVENT
END:VCALENDAR