BEGIN:VCALENDAR
VERSION:2.0
PRODID:-//GunStuff TV - ECPv6.15.20//NONSGML v1.0//EN
CALSCALE:GREGORIAN
METHOD:PUBLISH
X-WR-CALNAME:GunStuff TV
X-ORIGINAL-URL:https://gunstuff.tv
X-WR-CALDESC:Events for GunStuff TV
REFRESH-INTERVAL;VALUE=DURATION:PT1H
X-Robots-Tag:noindex
X-PUBLISHED-TTL:PT1H
BEGIN:VTIMEZONE
TZID:UTC
BEGIN:STANDARD
TZOFFSETFROM:+0000
TZOFFSETTO:+0000
TZNAME:UTC
DTSTART:20260101T000000
END:STANDARD
END:VTIMEZONE
BEGIN:VEVENT
DTSTART;TZID=UTC:20270123T073000
DTEND;TZID=UTC:20270123T073000
DTSTAMP:20260422T225052
CREATED:20260207T171726Z
LAST-MODIFIED:20260417T114657Z
UID:10005069-1800689400-1800689400@gunstuff.tv
SUMMARY:NNRPA USPSA Match
DESCRIPTION:NNRPA USPSA Match\nDate : 1/23/27\nStart Time: 7:30 AM\nLocation:\nNortheastern Nevada Rifle & Pistol (NV06)\n308 Rifle Range Rd\nElko\, NV\nEvent Contact Information\nDennis Marsh\n775-934-2185\ndenmarsh@aol.com\nEvent Website\nhttp://nnrpa.org
URL:https://gunstuff.tv/event/nnrpa-uspsa-match-14/
LOCATION:Northeastern Nevada Rifle & Pistol (NV06)\, Elko\, NV\, United States
GEO:40.905583;-115.534429
END:VEVENT
BEGIN:VEVENT
DTSTART;TZID=UTC:20270123T100000
DTEND;TZID=UTC:20270123T100000
DTSTAMP:20260422T225052
CREATED:20260107T013351Z
LAST-MODIFIED:20260418T174753Z
UID:10003861-1800698400-1800698400@gunstuff.tv
SUMMARY:Low Country Steel Challenge
DESCRIPTION:Low Country Steel Challenge\nDate: 1/23/27\nStart Time: 10:00 AM\nLocation:\nLow Country SCSA (SCSA430)\n466 Indigo Flats E\nTabor City\, NC\nEvent Contact Information\nAllen Terrell\n843-231-1810\nlowcountrypreserveuspsa@gmail.org\nEvent Website\nhttps://practiscore.com/clubs/low-country-uspsa
URL:https://gunstuff.tv/event/low-country-steel-challenge-15/
LOCATION:Low Country SCSA (SCSA430)\, 466 Indigo Flats E\, Tabor City\, NC\, United States
GEO:34.025696;-78.628674
X-APPLE-STRUCTURED-LOCATION;VALUE=URI;X-ADDRESS=Low Country SCSA (SCSA430) 466 Indigo Flats E Tabor City NC United States;X-APPLE-RADIUS=500;X-TITLE=466 Indigo Flats E:geo:-78.628674,34.025696
END:VEVENT
END:VCALENDAR