BEGIN:VCALENDAR
VERSION:2.0
PRODID:-//GunStuff TV - ECPv6.15.20//NONSGML v1.0//EN
CALSCALE:GREGORIAN
METHOD:PUBLISH
X-ORIGINAL-URL:https://gunstuff.tv
X-WR-CALDESC:Events for GunStuff TV
REFRESH-INTERVAL;VALUE=DURATION:PT1H
X-Robots-Tag:noindex
X-PUBLISHED-TTL:PT1H
BEGIN:VTIMEZONE
TZID:America/Phoenix
BEGIN:STANDARD
TZOFFSETFROM:-0700
TZOFFSETTO:-0700
TZNAME:MST
DTSTART:20250101T000000
END:STANDARD
END:VTIMEZONE
BEGIN:VEVENT
DTSTART;VALUE=DATE:20261210
DTEND;VALUE=DATE:20261211
DTSTAMP:20260421T190012
CREATED:20251003T160032Z
LAST-MODIFIED:20260412T043238Z
UID:10001090-1796860800-1796947199@gunstuff.tv
SUMMARY:1000 Yard Practice 8:00am Pits
DESCRIPTION:
URL:https://gunstuff.tv/event/1000-yard-practice-800am-pits-16/
LOCATION:IL
END:VEVENT
END:VCALENDAR