BEGIN:VCALENDAR
VERSION:2.0
PRODID:-//GunStuff TV - ECPv6.15.20//NONSGML v1.0//EN
CALSCALE:GREGORIAN
METHOD:PUBLISH
X-WR-CALNAME:GunStuff TV
X-ORIGINAL-URL:https://gunstuff.tv
X-WR-CALDESC:Events for GunStuff TV
REFRESH-INTERVAL;VALUE=DURATION:PT1H
X-Robots-Tag:noindex
X-PUBLISHED-TTL:PT1H
BEGIN:VTIMEZONE
TZID:America/New_York
BEGIN:DAYLIGHT
TZOFFSETFROM:-0500
TZOFFSETTO:-0400
TZNAME:EDT
DTSTART:20250309T070000
END:DAYLIGHT
BEGIN:STANDARD
TZOFFSETFROM:-0400
TZOFFSETTO:-0500
TZNAME:EST
DTSTART:20251102T060000
END:STANDARD
BEGIN:DAYLIGHT
TZOFFSETFROM:-0500
TZOFFSETTO:-0400
TZNAME:EDT
DTSTART:20260308T070000
END:DAYLIGHT
BEGIN:STANDARD
TZOFFSETFROM:-0400
TZOFFSETTO:-0500
TZNAME:EST
DTSTART:20261101T060000
END:STANDARD
BEGIN:DAYLIGHT
TZOFFSETFROM:-0500
TZOFFSETTO:-0400
TZNAME:EDT
DTSTART:20270314T070000
END:DAYLIGHT
BEGIN:STANDARD
TZOFFSETFROM:-0400
TZOFFSETTO:-0500
TZNAME:EST
DTSTART:20271107T060000
END:STANDARD
END:VTIMEZONE
BEGIN:VTIMEZONE
TZID:America/Phoenix
BEGIN:STANDARD
TZOFFSETFROM:-0700
TZOFFSETTO:-0700
TZNAME:MST
DTSTART:20250101T000000
END:STANDARD
END:VTIMEZONE
BEGIN:VTIMEZONE
TZID:UTC
BEGIN:STANDARD
TZOFFSETFROM:+0000
TZOFFSETTO:+0000
TZNAME:UTC
DTSTART:20250101T000000
END:STANDARD
END:VTIMEZONE
BEGIN:VEVENT
DTSTART;TZID=America/New_York:20261121T090000
DTEND;TZID=America/New_York:20261122T170000
DTSTAMP:20260421T173106
CREATED:20251003T162536Z
LAST-MODIFIED:20260412T184757Z
UID:10001295-1795251600-1795366800@gunstuff.tv
SUMMARY:2G-ACM Match
DESCRIPTION:See the Club web page for 2G-ACM for more details (https://www.fxrgc.org/practical-shooting/2g-acm/). Subscribe to the 2GACM mailing list to get match announcements. 
URL:https://gunstuff.tv/event/2g-acm-match-12/
LOCATION:Culver Range
END:VEVENT
BEGIN:VEVENT
DTSTART;VALUE=DATE:20261122
DTEND;VALUE=DATE:20261123
DTSTAMP:20260421T173106
CREATED:20251003T160031Z
LAST-MODIFIED:20260412T043237Z
UID:10001079-1795305600-1795391999@gunstuff.tv
SUMMARY:Winter Smallbore League Smallbore Range
DESCRIPTION:
URL:https://gunstuff.tv/event/winter-smallbore-league-smallbore-range-5/
LOCATION:IL
END:VEVENT
BEGIN:VEVENT
DTSTART;VALUE=DATE:20261122
DTEND;VALUE=DATE:20261123
DTSTAMP:20260421T173106
CREATED:20251003T160031Z
LAST-MODIFIED:20260412T043237Z
UID:10001080-1795305600-1795391999@gunstuff.tv
SUMMARY:1000 Yard Practice 8:00am Pits
DESCRIPTION:
URL:https://gunstuff.tv/event/1000-yard-practice-800am-pits-14/
LOCATION:IL
END:VEVENT
BEGIN:VEVENT
DTSTART;TZID=America/New_York:20261122T070000
DTEND;TZID=America/New_York:20261122T120000
DTSTAMP:20260421T173106
CREATED:20251010T163000Z
LAST-MODIFIED:20260410T200155Z
UID:10002010-1795330800-1795348800@gunstuff.tv
SUMMARY:MRPC 200 yard Steel at AGC
DESCRIPTION:
URL:https://gunstuff.tv/event/mrpc-200-yard-steel-at-agc-2/
LOCATION:IL
END:VEVENT
BEGIN:VEVENT
DTSTART;TZID=America/New_York:20261122T090000
DTEND;TZID=America/New_York:20261122T120000
DTSTAMP:20260421T173106
CREATED:20251003T162644Z
LAST-MODIFIED:20260411T214640Z
UID:10001530-1795338000-1795348800@gunstuff.tv
SUMMARY:Weekly Trap League
DESCRIPTION:
URL:https://gunstuff.tv/event/weekly-trap-league-60/
LOCATION:Shotgun Range
END:VEVENT
BEGIN:VEVENT
DTSTART;TZID=America/New_York:20261122T090000
DTEND;TZID=America/New_York:20261122T140000
DTSTAMP:20260421T173106
CREATED:20251003T031216Z
LAST-MODIFIED:20260410T070131Z
UID:10000662-1795338000-1795356000@gunstuff.tv
SUMMARY:Wyoming Antelope NRA 2700
DESCRIPTION:
URL:https://gunstuff.tv/event/wyoming-antelope-nra-2700-14/
LOCATION:Wyoming Antelope Club-Florida\, 3700 126th Ave N\, Clearwater\, FL\, United States
GEO:27.886432;-82.683263
X-APPLE-STRUCTURED-LOCATION;VALUE=URI;X-ADDRESS=Wyoming Antelope Club-Florida 3700 126th Ave N Clearwater FL United States;X-APPLE-RADIUS=500;X-TITLE=3700 126th Ave N:geo:-82.683263,27.886432
END:VEVENT
BEGIN:VEVENT
DTSTART;TZID=UTC:20261122T100000
DTEND;TZID=UTC:20261122T100000
DTSTAMP:20260421T173106
CREATED:20260121T014639Z
LAST-MODIFIED:20260401T070149Z
UID:10004663-1795341600-1795341600@gunstuff.tv
SUMMARY:PGC Steel Challenge
DESCRIPTION:PGC Steel Challenge\nDate: 11/22/26\nStart Time: 10:00 AM\nLocation:\nPalmetto Gun Club (SCSA077)\n951 Summers Dr\nRidgeville\, SC\nEvent Contact Information\nThomas Happel\n843-270-9250\nthedeltais@hotmail.com\nMatch Information\nMonthly 6-stage club match at Palmetto Gun Club.\nEvent Website\nhttps://www.palmettogunclub.org/
URL:https://gunstuff.tv/event/pgc-steel-challenge-13/
LOCATION:Palmetto Gun Club (SCSA077)\, 951 Summers Dr\, Ridgeville\, SC\, United States
GEO:32.923478;-80.292014
X-APPLE-STRUCTURED-LOCATION;VALUE=URI;X-ADDRESS=Palmetto Gun Club (SCSA077) 951 Summers Dr Ridgeville SC United States;X-APPLE-RADIUS=500;X-TITLE=951 Summers Dr:geo:-80.292014,32.923478
END:VEVENT
END:VCALENDAR