BEGIN:VCALENDAR
VERSION:2.0
PRODID:-//GunStuff TV - ECPv6.15.20//NONSGML v1.0//EN
CALSCALE:GREGORIAN
METHOD:PUBLISH
X-ORIGINAL-URL:https://gunstuff.tv
X-WR-CALDESC:Events for GunStuff TV
REFRESH-INTERVAL;VALUE=DURATION:PT1H
X-Robots-Tag:noindex
X-PUBLISHED-TTL:PT1H
BEGIN:VTIMEZONE
TZID:America/Phoenix
BEGIN:STANDARD
TZOFFSETFROM:-0700
TZOFFSETTO:-0700
TZNAME:MST
DTSTART:20250101T000000
END:STANDARD
END:VTIMEZONE
BEGIN:VTIMEZONE
TZID:UTC
BEGIN:STANDARD
TZOFFSETFROM:+0000
TZOFFSETTO:+0000
TZNAME:UTC
DTSTART:20250101T000000
END:STANDARD
END:VTIMEZONE
BEGIN:VEVENT
DTSTART;VALUE=DATE:20261025
DTEND;VALUE=DATE:20261029
DTSTAMP:20260421T160749
CREATED:20260227T171641Z
LAST-MODIFIED:20260412T043236Z
UID:10005868-1792886400-1793231999@gunstuff.tv
SUMMARY:NRA F-Class Mid Range National Championships
DESCRIPTION:
URL:https://gunstuff.tv/event/nra-f-class-mid-range-national-championships/
LOCATION:IL
END:VEVENT
BEGIN:VEVENT
DTSTART;VALUE=DATE:20261025
DTEND;VALUE=DATE:20261102
DTSTAMP:20260421T160749
CREATED:20260130T170142Z
LAST-MODIFIED:20260220T171635Z
UID:10004853-1792886400-1793577599@gunstuff.tv
SUMMARY:F Class Nationals
DESCRIPTION:
URL:https://gunstuff.tv/event/f-class-nationals-2/
LOCATION:IL
END:VEVENT
BEGIN:VEVENT
DTSTART;VALUE=DATE:20261028
DTEND;VALUE=DATE:20261029
DTSTAMP:20260421T160749
CREATED:20251003T160031Z
LAST-MODIFIED:20260412T043236Z
UID:10001063-1793145600-1793231999@gunstuff.tv
SUMMARY:Centerfire and Smallbore Practice - Smallbore Range
DESCRIPTION:
URL:https://gunstuff.tv/event/centerfire-and-smallbore-practice-smallbore-range-19/
LOCATION:IL
END:VEVENT
BEGIN:VEVENT
DTSTART;TZID=UTC:20261028T180000
DTEND;TZID=UTC:20261028T180000
DTSTAMP:20260421T160749
CREATED:20260304T061644Z
LAST-MODIFIED:20260401T070148Z
UID:10006105-1793210400-1793210400@gunstuff.tv
SUMMARY:West Houston 4th Wed Steel Challenge
DESCRIPTION:West Houston 4th Wed Steel Challenge\nDate: 10/28/26\nStart Time: 6:00 PM\nLocation:\nWest Houston Shooters Club (SCSA146)\n40440 FM 529\nHempstead\, TX\nEvent Contact Information\nJim Schultz\n7135426832\nwesthoustonshootersclub@gmail.com\nMatch Information\nMatch is every 4th Wednesday\, January thru October\, weather permitting.\nEvent Website\nhttp://westhoustonshootersclub@gmail.com
URL:https://gunstuff.tv/event/west-houston-4th-wed-steel-challenge-8/
LOCATION:West Houston Shooters Club (SCSA146)\, 39798 FM 529\, Hempstead\, TX\, United States
GEO:29.914986;-96.048349
X-APPLE-STRUCTURED-LOCATION;VALUE=URI;X-ADDRESS=West Houston Shooters Club (SCSA146) 39798 FM 529 Hempstead TX United States;X-APPLE-RADIUS=500;X-TITLE=39798 FM 529:geo:-96.048349,29.914986
END:VEVENT
END:VCALENDAR