BEGIN:VCALENDAR
VERSION:2.0
PRODID:-//GunStuff TV - ECPv6.15.20//NONSGML v1.0//EN
CALSCALE:GREGORIAN
METHOD:PUBLISH
X-ORIGINAL-URL:https://gunstuff.tv
X-WR-CALDESC:Events for GunStuff TV
REFRESH-INTERVAL;VALUE=DURATION:PT1H
X-Robots-Tag:noindex
X-PUBLISHED-TTL:PT1H
BEGIN:VTIMEZONE
TZID:America/Phoenix
BEGIN:STANDARD
TZOFFSETFROM:-0700
TZOFFSETTO:-0700
TZNAME:MST
DTSTART:20250101T000000
END:STANDARD
END:VTIMEZONE
BEGIN:VTIMEZONE
TZID:America/New_York
BEGIN:DAYLIGHT
TZOFFSETFROM:-0500
TZOFFSETTO:-0400
TZNAME:EDT
DTSTART:20250309T070000
END:DAYLIGHT
BEGIN:STANDARD
TZOFFSETFROM:-0400
TZOFFSETTO:-0500
TZNAME:EST
DTSTART:20251102T060000
END:STANDARD
BEGIN:DAYLIGHT
TZOFFSETFROM:-0500
TZOFFSETTO:-0400
TZNAME:EDT
DTSTART:20260308T070000
END:DAYLIGHT
BEGIN:STANDARD
TZOFFSETFROM:-0400
TZOFFSETTO:-0500
TZNAME:EST
DTSTART:20261101T060000
END:STANDARD
BEGIN:DAYLIGHT
TZOFFSETFROM:-0500
TZOFFSETTO:-0400
TZNAME:EDT
DTSTART:20270314T070000
END:DAYLIGHT
BEGIN:STANDARD
TZOFFSETFROM:-0400
TZOFFSETTO:-0500
TZNAME:EST
DTSTART:20271107T060000
END:STANDARD
END:VTIMEZONE
BEGIN:VEVENT
DTSTART;VALUE=DATE:20261025
DTEND;VALUE=DATE:20261029
DTSTAMP:20260421T144041
CREATED:20260227T171641Z
LAST-MODIFIED:20260412T043236Z
UID:10005868-1792886400-1793231999@gunstuff.tv
SUMMARY:NRA F-Class Mid Range National Championships
DESCRIPTION:
URL:https://gunstuff.tv/event/nra-f-class-mid-range-national-championships/
END:VEVENT
BEGIN:VEVENT
DTSTART;VALUE=DATE:20261025
DTEND;VALUE=DATE:20261102
DTSTAMP:20260421T144041
CREATED:20260130T170142Z
LAST-MODIFIED:20260220T171635Z
UID:10004853-1792886400-1793577599@gunstuff.tv
SUMMARY:F Class Nationals
DESCRIPTION:
URL:https://gunstuff.tv/event/f-class-nationals-2/
END:VEVENT
BEGIN:VEVENT
DTSTART;VALUE=DATE:20261026
DTEND;VALUE=DATE:20261027
DTSTAMP:20260421T144041
CREATED:20260213T031102Z
LAST-MODIFIED:20260410T034706Z
UID:10005325-1792972800-1793059199@gunstuff.tv
SUMMARY:Club Closed
DESCRIPTION:
URL:https://gunstuff.tv/event/club-closed-73/
END:VEVENT
BEGIN:VEVENT
DTSTART;TZID=America/New_York:20261026T090000
DTEND;TZID=America/New_York:20261026T100000
DTSTAMP:20260421T144041
CREATED:20251003T162644Z
LAST-MODIFIED:20251010T162932Z
UID:10001517-1793005200-1793008800@gunstuff.tv
SUMMARY:4-H Class Indoors
DESCRIPTION:Indoor reserved for 4-H class.
URL:https://gunstuff.tv/event/4-h-class-indoors-56/
LOCATION:Indoor Range
END:VEVENT
BEGIN:VEVENT
DTSTART;TZID=America/New_York:20261026T160000
DTEND;TZID=America/New_York:20261026T180000
DTSTAMP:20260421T144041
CREATED:20251003T162644Z
LAST-MODIFIED:20251205T181711Z
UID:10001518-1793030400-1793037600@gunstuff.tv
SUMMARY:Skeet League
DESCRIPTION:Contact Frank Andrews with Questions.
URL:https://gunstuff.tv/event/skeet-league-56/
END:VEVENT
BEGIN:VEVENT
DTSTART;TZID=America/New_York:20261026T160000
DTEND;TZID=America/New_York:20261026T180000
DTSTAMP:20260421T144041
CREATED:20251212T181643Z
LAST-MODIFIED:20260411T214639Z
UID:10003557-1793030400-1793037600@gunstuff.tv
SUMMARY:Skeet League
DESCRIPTION:Contact Frank Andrews with Questions.
URL:https://gunstuff.tv/event/skeet-league-146/
LOCATION:Skeet Range
END:VEVENT
END:VCALENDAR