BEGIN:VCALENDAR
VERSION:2.0
PRODID:-//GunStuff TV - ECPv6.15.20//NONSGML v1.0//EN
CALSCALE:GREGORIAN
METHOD:PUBLISH
X-WR-CALNAME:GunStuff TV
X-ORIGINAL-URL:https://gunstuff.tv
X-WR-CALDESC:Events for GunStuff TV
REFRESH-INTERVAL;VALUE=DURATION:PT1H
X-Robots-Tag:noindex
X-PUBLISHED-TTL:PT1H
BEGIN:VTIMEZONE
TZID:America/Phoenix
BEGIN:STANDARD
TZOFFSETFROM:-0700
TZOFFSETTO:-0700
TZNAME:MST
DTSTART:20250101T000000
END:STANDARD
END:VTIMEZONE
BEGIN:VTIMEZONE
TZID:America/Chicago
BEGIN:DAYLIGHT
TZOFFSETFROM:-0600
TZOFFSETTO:-0500
TZNAME:CDT
DTSTART:20250309T080000
END:DAYLIGHT
BEGIN:STANDARD
TZOFFSETFROM:-0500
TZOFFSETTO:-0600
TZNAME:CST
DTSTART:20251102T070000
END:STANDARD
BEGIN:DAYLIGHT
TZOFFSETFROM:-0600
TZOFFSETTO:-0500
TZNAME:CDT
DTSTART:20260308T080000
END:DAYLIGHT
BEGIN:STANDARD
TZOFFSETFROM:-0500
TZOFFSETTO:-0600
TZNAME:CST
DTSTART:20261101T070000
END:STANDARD
BEGIN:DAYLIGHT
TZOFFSETFROM:-0600
TZOFFSETTO:-0500
TZNAME:CDT
DTSTART:20270314T080000
END:DAYLIGHT
BEGIN:STANDARD
TZOFFSETFROM:-0500
TZOFFSETTO:-0600
TZNAME:CST
DTSTART:20271107T070000
END:STANDARD
END:VTIMEZONE
BEGIN:VTIMEZONE
TZID:UTC
BEGIN:STANDARD
TZOFFSETFROM:+0000
TZOFFSETTO:+0000
TZNAME:UTC
DTSTART:20250101T000000
END:STANDARD
END:VTIMEZONE
BEGIN:VEVENT
DTSTART;VALUE=DATE:20261009
DTEND;VALUE=DATE:20261019
DTSTAMP:20260421T160714
CREATED:20251003T160031Z
LAST-MODIFIED:20260412T043235Z
UID:10001055-1791504000-1792367999@gunstuff.tv
SUMMARY:CMP Western Games
DESCRIPTION:
URL:https://gunstuff.tv/event/cmp-western-games-2/
LOCATION:IL
END:VEVENT
BEGIN:VEVENT
DTSTART;VALUE=DATE:20261015
DTEND;VALUE=DATE:20261026
DTSTAMP:20260421T160714
CREATED:20251005T190051Z
LAST-MODIFIED:20260412T200156Z
UID:10001690-1792022400-1792972799@gunstuff.tv
SUMMARY:National Sporting Clays Championship
DESCRIPTION:Information and registration
URL:https://gunstuff.tv/event/national-sporting-clays-championship-2/
LOCATION:National Shooting Complex\, 5931 Roft Rd\, San Antonio\, TX\, United States
GEO:29.492881;-98.741985
X-APPLE-STRUCTURED-LOCATION;VALUE=URI;X-ADDRESS=National Shooting Complex 5931 Roft Rd San Antonio TX United States;X-APPLE-RADIUS=500;X-TITLE=5931 Roft Rd:geo:-98.741985,29.492881
END:VEVENT
BEGIN:VEVENT
DTSTART;TZID=UTC:20261015T210000
DTEND;TZID=UTC:20261015T230000
DTSTAMP:20260421T160714
CREATED:20260111T213127Z
LAST-MODIFIED:20260414T084802Z
UID:10004412-1792098000-1792105200@gunstuff.tv
SUMMARY:RMSCA Board of Directors Meeting
DESCRIPTION:
URL:https://gunstuff.tv/event/rmsca-board-of-directors-meeting-5/
LOCATION:IL
ORGANIZER;CN="Rocky Mountain Steel Construction Association":MAILTO:info@rmsca.org
END:VEVENT
END:VCALENDAR