BEGIN:VCALENDAR
VERSION:2.0
PRODID:-//GunStuff TV - ECPv6.15.20//NONSGML v1.0//EN
CALSCALE:GREGORIAN
METHOD:PUBLISH
X-WR-CALNAME:GunStuff TV
X-ORIGINAL-URL:https://gunstuff.tv
X-WR-CALDESC:Events for GunStuff TV
REFRESH-INTERVAL;VALUE=DURATION:PT1H
X-Robots-Tag:noindex
X-PUBLISHED-TTL:PT1H
BEGIN:VTIMEZONE
TZID:America/New_York
BEGIN:DAYLIGHT
TZOFFSETFROM:-0500
TZOFFSETTO:-0400
TZNAME:EDT
DTSTART:20250309T070000
END:DAYLIGHT
BEGIN:STANDARD
TZOFFSETFROM:-0400
TZOFFSETTO:-0500
TZNAME:EST
DTSTART:20251102T060000
END:STANDARD
BEGIN:DAYLIGHT
TZOFFSETFROM:-0500
TZOFFSETTO:-0400
TZNAME:EDT
DTSTART:20260308T070000
END:DAYLIGHT
BEGIN:STANDARD
TZOFFSETFROM:-0400
TZOFFSETTO:-0500
TZNAME:EST
DTSTART:20261101T060000
END:STANDARD
BEGIN:DAYLIGHT
TZOFFSETFROM:-0500
TZOFFSETTO:-0400
TZNAME:EDT
DTSTART:20270314T070000
END:DAYLIGHT
BEGIN:STANDARD
TZOFFSETFROM:-0400
TZOFFSETTO:-0500
TZNAME:EST
DTSTART:20271107T060000
END:STANDARD
END:VTIMEZONE
BEGIN:VTIMEZONE
TZID:America/Phoenix
BEGIN:STANDARD
TZOFFSETFROM:-0700
TZOFFSETTO:-0700
TZNAME:MST
DTSTART:20250101T000000
END:STANDARD
END:VTIMEZONE
BEGIN:VEVENT
DTSTART;TZID=America/New_York:20260831T080000
DTEND;TZID=America/New_York:20260901T163000
DTSTAMP:20260421T095039
CREATED:20260404T214735Z
LAST-MODIFIED:20260411T214636Z
UID:10006769-1788163200-1788280200@gunstuff.tv
SUMMARY:Rifles Only- Rifle Clinic
DESCRIPTION:Mike Mayo POC\nDaily Schedule 8:30 am to 4:30 pm
URL:https://gunstuff.tv/event/rifles-only-rifle-clinic-3/
LOCATION:Long Range
END:VEVENT
BEGIN:VEVENT
DTSTART;VALUE=DATE:20260901
DTEND;VALUE=DATE:20260902
DTSTAMP:20260421T095039
CREATED:20251003T160030Z
LAST-MODIFIED:20260412T043234Z
UID:10001028-1788220800-1788307199@gunstuff.tv
SUMMARY:100\, 200\, 300 Yard Practice Benchrest Range
DESCRIPTION:
URL:https://gunstuff.tv/event/100-200-300-yard-practice-benchrest-range-40/
END:VEVENT
BEGIN:VEVENT
DTSTART;VALUE=DATE:20260901
DTEND;VALUE=DATE:20260902
DTSTAMP:20260421T095039
CREATED:20260213T031100Z
LAST-MODIFIED:20260410T034703Z
UID:10005291-1788220800-1788307199@gunstuff.tv
SUMMARY:Club closed
DESCRIPTION:
URL:https://gunstuff.tv/event/club-closed-57/
END:VEVENT
BEGIN:VEVENT
DTSTART;TZID=America/New_York:20260901T090000
DTEND;TZID=America/New_York:20260901T160000
DTSTAMP:20260421T095039
CREATED:20251012T173817Z
LAST-MODIFIED:20260412T184750Z
UID:10002124-1788253200-1788278400@gunstuff.tv
SUMMARY:US Army 3rd Infantry GAFPB Quals
DESCRIPTION:Host members of the 3rd Infantry Regiment (Old Guard) for the pistol segment of their qualification for the German Army Proficiency Badge
URL:https://gunstuff.tv/event/us-army-3rd-infantry-gafpb-quals-7/
LOCATION:Walsh & Sieger Ranges
END:VEVENT
BEGIN:VEVENT
DTSTART;TZID=America/New_York:20260901T170000
DTEND;TZID=America/New_York:20260901T200000
DTSTAMP:20260421T095039
CREATED:20260328T214634Z
LAST-MODIFIED:20260411T214636Z
UID:10006598-1788282000-1788292800@gunstuff.tv
SUMMARY:Tactical Tuesday IDPA Practice
DESCRIPTION:Shooters new to Action Shooting contact Eric Zaharee at ABSAIDPA@gmail .com\nSee (Alder Brook) PractiScore.com for sign up Cost $5
URL:https://gunstuff.tv/event/tactical-tuesday-idpa-practice-21/
LOCATION:Action Bays
END:VEVENT
END:VCALENDAR