BEGIN:VCALENDAR
VERSION:2.0
PRODID:-//GunStuff TV - ECPv6.15.20//NONSGML v1.0//EN
CALSCALE:GREGORIAN
METHOD:PUBLISH
X-WR-CALNAME:GunStuff TV
X-ORIGINAL-URL:https://gunstuff.tv
X-WR-CALDESC:Events for GunStuff TV
REFRESH-INTERVAL;VALUE=DURATION:PT1H
X-Robots-Tag:noindex
X-PUBLISHED-TTL:PT1H
BEGIN:VTIMEZONE
TZID:America/New_York
BEGIN:DAYLIGHT
TZOFFSETFROM:-0500
TZOFFSETTO:-0400
TZNAME:EDT
DTSTART:20250309T070000
END:DAYLIGHT
BEGIN:STANDARD
TZOFFSETFROM:-0400
TZOFFSETTO:-0500
TZNAME:EST
DTSTART:20251102T060000
END:STANDARD
BEGIN:DAYLIGHT
TZOFFSETFROM:-0500
TZOFFSETTO:-0400
TZNAME:EDT
DTSTART:20260308T070000
END:DAYLIGHT
BEGIN:STANDARD
TZOFFSETFROM:-0400
TZOFFSETTO:-0500
TZNAME:EST
DTSTART:20261101T060000
END:STANDARD
BEGIN:DAYLIGHT
TZOFFSETFROM:-0500
TZOFFSETTO:-0400
TZNAME:EDT
DTSTART:20270314T070000
END:DAYLIGHT
BEGIN:STANDARD
TZOFFSETFROM:-0400
TZOFFSETTO:-0500
TZNAME:EST
DTSTART:20271107T060000
END:STANDARD
END:VTIMEZONE
BEGIN:VEVENT
DTSTART;VALUE=DATE:20260831
DTEND;VALUE=DATE:20260901
DTSTAMP:20260421T081632
CREATED:20260213T031100Z
LAST-MODIFIED:20260410T034703Z
UID:10005292-1788134400-1788220799@gunstuff.tv
SUMMARY:Club Closed
DESCRIPTION:
URL:https://gunstuff.tv/event/club-closed-58/
END:VEVENT
BEGIN:VEVENT
DTSTART;TZID=America/New_York:20260831T080000
DTEND;TZID=America/New_York:20260901T163000
DTSTAMP:20260421T081632
CREATED:20260404T214735Z
LAST-MODIFIED:20260411T214636Z
UID:10006769-1788163200-1788280200@gunstuff.tv
SUMMARY:Rifles Only- Rifle Clinic
DESCRIPTION:Mike Mayo POC\nDaily Schedule 8:30 am to 4:30 pm
URL:https://gunstuff.tv/event/rifles-only-rifle-clinic-3/
LOCATION:Long Range
END:VEVENT
BEGIN:VEVENT
DTSTART;TZID=America/New_York:20260831T090000
DTEND;TZID=America/New_York:20260831T100000
DTSTAMP:20260421T081632
CREATED:20251003T162643Z
LAST-MODIFIED:20251010T162930Z
UID:10001489-1788166800-1788170400@gunstuff.tv
SUMMARY:4-H Class Indoors
DESCRIPTION:Indoor reserved for 4-H class.
URL:https://gunstuff.tv/event/4-h-class-indoors-48/
LOCATION:Indoor Range
END:VEVENT
BEGIN:VEVENT
DTSTART;TZID=America/New_York:20260831T160000
DTEND;TZID=America/New_York:20260831T180000
DTSTAMP:20260421T081632
CREATED:20251003T162643Z
LAST-MODIFIED:20251205T181710Z
UID:10001490-1788192000-1788199200@gunstuff.tv
SUMMARY:Skeet League
DESCRIPTION:Contact Frank Andrews with Questions.
URL:https://gunstuff.tv/event/skeet-league-48/
END:VEVENT
BEGIN:VEVENT
DTSTART;TZID=America/New_York:20260831T160000
DTEND;TZID=America/New_York:20260831T180000
DTSTAMP:20260421T081632
CREATED:20251212T181642Z
LAST-MODIFIED:20260411T214636Z
UID:10003549-1788192000-1788199200@gunstuff.tv
SUMMARY:Skeet League
DESCRIPTION:Contact Frank Andrews with Questions.
URL:https://gunstuff.tv/event/skeet-league-138/
LOCATION:Skeet Range
END:VEVENT
END:VCALENDAR