BEGIN:VCALENDAR
VERSION:2.0
PRODID:-//GunStuff TV - ECPv6.15.20//NONSGML v1.0//EN
CALSCALE:GREGORIAN
METHOD:PUBLISH
X-WR-CALNAME:GunStuff TV
X-ORIGINAL-URL:https://gunstuff.tv
X-WR-CALDESC:Events for GunStuff TV
REFRESH-INTERVAL;VALUE=DURATION:PT1H
X-Robots-Tag:noindex
X-PUBLISHED-TTL:PT1H
BEGIN:VTIMEZONE
TZID:America/New_York
BEGIN:DAYLIGHT
TZOFFSETFROM:-0500
TZOFFSETTO:-0400
TZNAME:EDT
DTSTART:20250309T070000
END:DAYLIGHT
BEGIN:STANDARD
TZOFFSETFROM:-0400
TZOFFSETTO:-0500
TZNAME:EST
DTSTART:20251102T060000
END:STANDARD
BEGIN:DAYLIGHT
TZOFFSETFROM:-0500
TZOFFSETTO:-0400
TZNAME:EDT
DTSTART:20260308T070000
END:DAYLIGHT
BEGIN:STANDARD
TZOFFSETFROM:-0400
TZOFFSETTO:-0500
TZNAME:EST
DTSTART:20261101T060000
END:STANDARD
BEGIN:DAYLIGHT
TZOFFSETFROM:-0500
TZOFFSETTO:-0400
TZNAME:EDT
DTSTART:20270314T070000
END:DAYLIGHT
BEGIN:STANDARD
TZOFFSETFROM:-0400
TZOFFSETTO:-0500
TZNAME:EST
DTSTART:20271107T060000
END:STANDARD
END:VTIMEZONE
BEGIN:VTIMEZONE
TZID:UTC
BEGIN:STANDARD
TZOFFSETFROM:+0000
TZOFFSETTO:+0000
TZNAME:UTC
DTSTART:20250101T000000
END:STANDARD
END:VTIMEZONE
BEGIN:VEVENT
DTSTART;TZID=America/New_York:20260830T080000
DTEND;TZID=America/New_York:20260830T183000
DTSTAMP:20260421T063556
CREATED:20251012T173817Z
LAST-MODIFIED:20260412T184750Z
UID:10002123-1788076800-1788114600@gunstuff.tv
SUMMARY:CMP 2700 Bullseye Pistol Match
DESCRIPTION:For info & position requests\, contact bullseye@fxrgc.org
URL:https://gunstuff.tv/event/cmp-2700-bullseye-pistol-match-3/
LOCATION:Walsh Range
END:VEVENT
BEGIN:VEVENT
DTSTART;TZID=UTC:20260830T090000
DTEND;TZID=UTC:20260830T090000
DTSTAMP:20260421T063556
CREATED:20260207T171720Z
LAST-MODIFIED:20260410T113145Z
UID:10005056-1788080400-1788080400@gunstuff.tv
SUMMARY:BSPSC August 30 Special Classifier
DESCRIPTION:BSPSC August 30 Special Classifier\nDate : 8/30/26\nStart Time: 9:00 AM\nLocation:\nBig Sky Practical Shooting Club (NR02)\n1142 Deer Creek Road\nEast Missoula\, MT\nEvent Contact Information\nSean Boushie\n406-370-6927\nflintlocknfur@hotmail.com\nMatch Information\n8 Stages of Exciting Classifier fun!! Limit of 2 guns. No Holster changes allowed.\nEvent Website\nhttps://bspsc.org/index.php
URL:https://gunstuff.tv/event/bspsc-august-30-special-classifier/
LOCATION:Big Sky Practical Shooting Club (NR02)\, 1142 Deer Creek Rd\, Missoula\, MT\, United States
GEO:46.862716;-113.891053
X-APPLE-STRUCTURED-LOCATION;VALUE=URI;X-ADDRESS=Big Sky Practical Shooting Club (NR02) 1142 Deer Creek Rd Missoula MT United States;X-APPLE-RADIUS=500;X-TITLE=1142 Deer Creek Rd:geo:-113.891053,46.862716
END:VEVENT
BEGIN:VEVENT
DTSTART;TZID=America/New_York:20260830T090000
DTEND;TZID=America/New_York:20260830T120000
DTSTAMP:20260421T063557
CREATED:20251003T162643Z
LAST-MODIFIED:20260411T214636Z
UID:10001488-1788080400-1788091200@gunstuff.tv
SUMMARY:Weekly Trap League
DESCRIPTION:
URL:https://gunstuff.tv/event/weekly-trap-league-48/
LOCATION:Shotgun Range
END:VEVENT
BEGIN:VEVENT
DTSTART;TZID=America/New_York:20260830T090000
DTEND;TZID=America/New_York:20260830T120000
DTSTAMP:20260421T063557
CREATED:20260404T214735Z
LAST-MODIFIED:20260411T214636Z
UID:10006767-1788080400-1788091200@gunstuff.tv
SUMMARY:22 LR Marksmanship Challenge (AKA) Aspirin Shoot
DESCRIPTION:Range Closed to non-competitors using larger caliber firearms
URL:https://gunstuff.tv/event/22-lr-marksmanship-challenge-aka-aspirin-shoot-4/
LOCATION:Square Range
END:VEVENT
BEGIN:VEVENT
DTSTART;TZID=America/New_York:20260830T090000
DTEND;TZID=America/New_York:20260830T130000
DTSTAMP:20260421T063557
CREATED:20251003T162536Z
LAST-MODIFIED:20260412T184750Z
UID:10001280-1788080400-1788094800@gunstuff.tv
SUMMARY:Bud Meyer Black Powder Silhouette
DESCRIPTION:
URL:https://gunstuff.tv/event/bud-meyer-black-powder-silhouette-5/
LOCATION:Lea Valley
END:VEVENT
BEGIN:VEVENT
DTSTART;TZID=America/New_York:20260830T100000
DTEND;TZID=America/New_York:20260830T120000
DTSTAMP:20260421T063557
CREATED:20251003T162643Z
LAST-MODIFIED:20251107T180149Z
UID:10001487-1788084000-1788091200@gunstuff.tv
SUMMARY:22 Marksmanship Challenge (Aspirin Shoot)
DESCRIPTION:Aspirin @ 50 yrds\nTums @ 100 yrds\nSteel @ 150 & 200 yrds\nCenterfire prohibited during event.
URL:https://gunstuff.tv/event/22-marksmanship-challenge-aspirin-shoot-11/
LOCATION:Square Range
END:VEVENT
BEGIN:VEVENT
DTSTART;TZID=America/New_York:20260830T123000
DTEND;TZID=America/New_York:20260830T143000
DTSTAMP:20260421T063557
CREATED:20260404T214735Z
LAST-MODIFIED:20260411T214636Z
UID:10006768-1788093000-1788100200@gunstuff.tv
SUMMARY:New Member Orientation
DESCRIPTION:Reservation required contact Eric Zaharee at absaidpa@gmail.com to attend
URL:https://gunstuff.tv/event/new-member-orientation-18/
LOCATION:Classroom and Ranges
END:VEVENT
BEGIN:VEVENT
DTSTART;TZID=America/New_York:20260830T130000
DTEND;TZID=America/New_York:20260830T150000
DTSTAMP:20260421T063557
CREATED:20251019T193324Z
LAST-MODIFIED:20260414T083130Z
UID:10002468-1788094800-1788102000@gunstuff.tv
SUMMARY:Open Trap Shoot - Weather Permitting
DESCRIPTION:Open shoot\, $5.00 per round.  The trap field is 2/10ths of a mile past the clubhouse. \nFor the latest information visit:https://www.facebook.com/groups/1663932967427026
URL:https://gunstuff.tv/event/open-trap-shoot-weather-permitting-19/
LOCATION:523 Sizer Run Road Emporium\, Emporium\, PA\, United States
GEO:41.500749;-78.322815
END:VEVENT
BEGIN:VEVENT
DTSTART;TZID=UTC:20260830T140000
DTEND;TZID=UTC:20260830T140000
DTSTAMP:20260421T063557
CREATED:20260318T064642Z
LAST-MODIFIED:20260401T070146Z
UID:10006364-1788098400-1788098400@gunstuff.tv
SUMMARY:BVSA 2026 STEEL CHALLENGE - August 30
DESCRIPTION:BVSA 2026 STEEL CHALLENGE – August 30\nDate: 8/30/26\nStart Time: 2:00 PM\nLocation:\nBuffalo Valley Sportsmen’s Association (SCSA389)\n950 Sportsmens Club Rd\nMifflinburg\, PA\nEvent Contact Information\nLuke Walter\n5709391444\nlbw2@pct.edu\nEvent Website\nhttp://bvsportsman.org
URL:https://gunstuff.tv/event/bvsa-2026-steel-challenge-august-30/
LOCATION:Buffalo Valley Sportsmen’s Association (SCSA389)\, 1300 Sportsmens Club Rd\, Mifflinburg\, PA\, United States
GEO:40.947311;-77.103732
X-APPLE-STRUCTURED-LOCATION;VALUE=URI;X-ADDRESS=Buffalo Valley Sportsmen’s Association (SCSA389) 1300 Sportsmens Club Rd Mifflinburg PA United States;X-APPLE-RADIUS=500;X-TITLE=1300 Sportsmens Club Rd:geo:-77.103732,40.947311
END:VEVENT
END:VCALENDAR