BEGIN:VCALENDAR
VERSION:2.0
PRODID:-//GunStuff TV - ECPv6.15.20//NONSGML v1.0//EN
CALSCALE:GREGORIAN
METHOD:PUBLISH
X-WR-CALNAME:GunStuff TV
X-ORIGINAL-URL:https://gunstuff.tv
X-WR-CALDESC:Events for GunStuff TV
REFRESH-INTERVAL;VALUE=DURATION:PT1H
X-Robots-Tag:noindex
X-PUBLISHED-TTL:PT1H
BEGIN:VTIMEZONE
TZID:America/Phoenix
BEGIN:STANDARD
TZOFFSETFROM:-0700
TZOFFSETTO:-0700
TZNAME:MST
DTSTART:20250101T000000
END:STANDARD
END:VTIMEZONE
BEGIN:VTIMEZONE
TZID:America/Chicago
BEGIN:DAYLIGHT
TZOFFSETFROM:-0600
TZOFFSETTO:-0500
TZNAME:CDT
DTSTART:20250309T080000
END:DAYLIGHT
BEGIN:STANDARD
TZOFFSETFROM:-0500
TZOFFSETTO:-0600
TZNAME:CST
DTSTART:20251102T070000
END:STANDARD
BEGIN:DAYLIGHT
TZOFFSETFROM:-0600
TZOFFSETTO:-0500
TZNAME:CDT
DTSTART:20260308T080000
END:DAYLIGHT
BEGIN:STANDARD
TZOFFSETFROM:-0500
TZOFFSETTO:-0600
TZNAME:CST
DTSTART:20261101T070000
END:STANDARD
BEGIN:DAYLIGHT
TZOFFSETFROM:-0600
TZOFFSETTO:-0500
TZNAME:CDT
DTSTART:20270314T080000
END:DAYLIGHT
BEGIN:STANDARD
TZOFFSETFROM:-0500
TZOFFSETTO:-0600
TZNAME:CST
DTSTART:20271107T070000
END:STANDARD
END:VTIMEZONE
BEGIN:VTIMEZONE
TZID:America/New_York
BEGIN:DAYLIGHT
TZOFFSETFROM:-0500
TZOFFSETTO:-0400
TZNAME:EDT
DTSTART:20250309T070000
END:DAYLIGHT
BEGIN:STANDARD
TZOFFSETFROM:-0400
TZOFFSETTO:-0500
TZNAME:EST
DTSTART:20251102T060000
END:STANDARD
BEGIN:DAYLIGHT
TZOFFSETFROM:-0500
TZOFFSETTO:-0400
TZNAME:EDT
DTSTART:20260308T070000
END:DAYLIGHT
BEGIN:STANDARD
TZOFFSETFROM:-0400
TZOFFSETTO:-0500
TZNAME:EST
DTSTART:20261101T060000
END:STANDARD
BEGIN:DAYLIGHT
TZOFFSETFROM:-0500
TZOFFSETTO:-0400
TZNAME:EDT
DTSTART:20270314T070000
END:DAYLIGHT
BEGIN:STANDARD
TZOFFSETFROM:-0400
TZOFFSETTO:-0500
TZNAME:EST
DTSTART:20271107T060000
END:STANDARD
END:VTIMEZONE
BEGIN:VEVENT
DTSTART;VALUE=DATE:20260827
DTEND;VALUE=DATE:20260828
DTSTAMP:20260421T020026
CREATED:20251003T160030Z
LAST-MODIFIED:20260412T043233Z
UID:10001026-1787788800-1787875199@gunstuff.tv
SUMMARY:1000 Yard Practice 6:30am Pits
DESCRIPTION:
URL:https://gunstuff.tv/event/1000-yard-practice-630am-pits-17/
END:VEVENT
BEGIN:VEVENT
DTSTART;VALUE=DATE:20260827
DTEND;VALUE=DATE:20260828
DTSTAMP:20260421T020026
CREATED:20251005T190547Z
LAST-MODIFIED:20260412T203315Z
UID:10001725-1787788800-1787875199@gunstuff.tv
SUMMARY:Central Catholic High School
DESCRIPTION:Sporting Clay Fundraiser.
URL:https://gunstuff.tv/event/central-catholic-high-school/
END:VEVENT
BEGIN:VEVENT
DTSTART;TZID=America/New_York:20260827T180000
DTEND;TZID=America/New_York:20260827T183000
DTSTAMP:20260421T020026
CREATED:20251003T162642Z
LAST-MODIFIED:20260411T214636Z
UID:10001486-1787853600-1787855400@gunstuff.tv
SUMMARY:Member Session
DESCRIPTION:Hear committee reports\, ask questions\, make requests of the board.
URL:https://gunstuff.tv/event/member-session-11/
LOCATION:Indoor Range
END:VEVENT
BEGIN:VEVENT
DTSTART;TZID=America/New_York:20260827T183000
DTEND;TZID=America/New_York:20260827T203000
DTSTAMP:20260421T020026
CREATED:20251003T162642Z
LAST-MODIFIED:20260411T214636Z
UID:10001485-1787855400-1787862600@gunstuff.tv
SUMMARY:Board Meeting
DESCRIPTION:All members welcome.
URL:https://gunstuff.tv/event/board-meeting-14/
LOCATION:Indoor Range
END:VEVENT
END:VCALENDAR