BEGIN:VCALENDAR
VERSION:2.0
PRODID:-//GunStuff TV - ECPv6.15.20//NONSGML v1.0//EN
CALSCALE:GREGORIAN
METHOD:PUBLISH
X-ORIGINAL-URL:https://gunstuff.tv
X-WR-CALDESC:Events for GunStuff TV
REFRESH-INTERVAL;VALUE=DURATION:PT1H
X-Robots-Tag:noindex
X-PUBLISHED-TTL:PT1H
BEGIN:VTIMEZONE
TZID:America/New_York
BEGIN:DAYLIGHT
TZOFFSETFROM:-0500
TZOFFSETTO:-0400
TZNAME:EDT
DTSTART:20250309T070000
END:DAYLIGHT
BEGIN:STANDARD
TZOFFSETFROM:-0400
TZOFFSETTO:-0500
TZNAME:EST
DTSTART:20251102T060000
END:STANDARD
BEGIN:DAYLIGHT
TZOFFSETFROM:-0500
TZOFFSETTO:-0400
TZNAME:EDT
DTSTART:20260308T070000
END:DAYLIGHT
BEGIN:STANDARD
TZOFFSETFROM:-0400
TZOFFSETTO:-0500
TZNAME:EST
DTSTART:20261101T060000
END:STANDARD
BEGIN:DAYLIGHT
TZOFFSETFROM:-0500
TZOFFSETTO:-0400
TZNAME:EDT
DTSTART:20270314T070000
END:DAYLIGHT
BEGIN:STANDARD
TZOFFSETFROM:-0400
TZOFFSETTO:-0500
TZNAME:EST
DTSTART:20271107T060000
END:STANDARD
END:VTIMEZONE
BEGIN:VTIMEZONE
TZID:America/Phoenix
BEGIN:STANDARD
TZOFFSETFROM:-0700
TZOFFSETTO:-0700
TZNAME:MST
DTSTART:20250101T000000
END:STANDARD
END:VTIMEZONE
BEGIN:VTIMEZONE
TZID:UTC
BEGIN:STANDARD
TZOFFSETFROM:+0000
TZOFFSETTO:+0000
TZNAME:UTC
DTSTART:20250101T000000
END:STANDARD
END:VTIMEZONE
BEGIN:VEVENT
DTSTART;TZID=America/New_York:20260822T090000
DTEND;TZID=America/New_York:20260823T170000
DTSTAMP:20260420T201723
CREATED:20251003T162536Z
LAST-MODIFIED:20260412T184750Z
UID:10001278-1787389200-1787504400@gunstuff.tv
SUMMARY:2G-ACM Match
DESCRIPTION:See the Club web page for 2G-ACM for more details (https://www.fxrgc.org/practical-shooting/2g-acm/). Subscribe to the 2GACM mailing list to get match announcements. 
URL:https://gunstuff.tv/event/2g-acm-match-10/
LOCATION:Culver & Benson Ranges
END:VEVENT
BEGIN:VEVENT
DTSTART;VALUE=DATE:20260823
DTEND;VALUE=DATE:20260824
DTSTAMP:20260420T201723
CREATED:20251003T160030Z
LAST-MODIFIED:20260412T043233Z
UID:10001023-1787443200-1787529599@gunstuff.tv
SUMMARY:600 Yard Practice 6:30am Pits
DESCRIPTION:
URL:https://gunstuff.tv/event/600-yard-practice-630am-pits-16/
LOCATION:OK
END:VEVENT
BEGIN:VEVENT
DTSTART;TZID=America/New_York:20260823T090000
DTEND;TZID=America/New_York:20260823T120000
DTSTAMP:20260420T201723
CREATED:20251003T162642Z
LAST-MODIFIED:20260411T214636Z
UID:10001482-1787475600-1787486400@gunstuff.tv
SUMMARY:Weekly Trap League
DESCRIPTION:
URL:https://gunstuff.tv/event/weekly-trap-league-47/
LOCATION:Shotgun Range
END:VEVENT
BEGIN:VEVENT
DTSTART;TZID=America/New_York:20260823T090000
DTEND;TZID=America/New_York:20260823T140000
DTSTAMP:20260420T201723
CREATED:20251003T031216Z
LAST-MODIFIED:20260410T070130Z
UID:10000644-1787475600-1787493600@gunstuff.tv
SUMMARY:Wyoming Antelope NRA 2700
DESCRIPTION:
URL:https://gunstuff.tv/event/wyoming-antelope-nra-2700-11/
LOCATION:Wyoming Antelope Club-Florida\, 3700 126th Ave N\, Clearwater\, FL\, United States
GEO:27.886432;-82.683263
X-APPLE-STRUCTURED-LOCATION;VALUE=URI;X-ADDRESS=Wyoming Antelope Club-Florida 3700 126th Ave N Clearwater FL United States;X-APPLE-RADIUS=500;X-TITLE=3700 126th Ave N:geo:-82.683263,27.886432
END:VEVENT
BEGIN:VEVENT
DTSTART;TZID=UTC:20260823T100000
DTEND;TZID=UTC:20260823T100000
DTSTAMP:20260420T201723
CREATED:20260121T014638Z
LAST-MODIFIED:20260401T070146Z
UID:10004655-1787479200-1787479200@gunstuff.tv
SUMMARY:PGC Steel Challenge
DESCRIPTION:PGC Steel Challenge\nDate: 8/23/26\nStart Time: 10:00 AM\nLocation:\nPalmetto Gun Club (SCSA077)\n951 Summers Dr\nRidgeville\, SC\nEvent Contact Information\nThomas Happel\n843-270-9250\nthedeltais@hotmail.com\nMatch Information\nMonthly 6-stage club match at Palmetto Gun Club.\nEvent Website\nhttps://www.palmettogunclub.org/
URL:https://gunstuff.tv/event/pgc-steel-challenge-10/
LOCATION:Palmetto Gun Club (SCSA077)\, 951 Summers Dr\, Ridgeville\, SC\, United States
GEO:32.923478;-80.292014
X-APPLE-STRUCTURED-LOCATION;VALUE=URI;X-ADDRESS=Palmetto Gun Club (SCSA077) 951 Summers Dr Ridgeville SC United States;X-APPLE-RADIUS=500;X-TITLE=951 Summers Dr:geo:-80.292014,32.923478
END:VEVENT
BEGIN:VEVENT
DTSTART;TZID=UTC:20260823T114500
DTEND;TZID=UTC:20260823T114500
DTSTAMP:20260420T201723
CREATED:20260107T013350Z
LAST-MODIFIED:20260401T070146Z
UID:10003846-1787485500-1787485500@gunstuff.tv
SUMMARY:Shadow Hawk Defense Steel Challenge Beginner Friendly Match
DESCRIPTION:Shadow Hawk Defense Steel Challenge Beginner Friendly Match\nDate: 8/23/26\nStart Time: 11:45 AM\nLocation:\nShadow Hawk Defense (SCSA271)\n436 Apple Harvest Drive\nHedgesville\, WV\nEvent Contact Information\nLynn Kasic\n3046166582\ninfo@shadowhawkdefense.com\nMatch Information\nSame match on Saturday and Sunday. The squad you select determines the day and time that you shoot. All eight stages. Approximately *200* rounds. $30\, Second gun 1/2 price. Pay at the door.\nEvent Website\nhttp://www.ShadowHawkDefense.com
URL:https://gunstuff.tv/event/shadow-hawk-defense-steel-challenge-14/
LOCATION:Shadow Hawk Defense (SCSA271)\, 399 Apple Harvest Dr\, Hedgesville\, WV\, United States
GEO:39.389611;-78.197586
X-APPLE-STRUCTURED-LOCATION;VALUE=URI;X-ADDRESS=Shadow Hawk Defense (SCSA271) 399 Apple Harvest Dr Hedgesville WV United States;X-APPLE-RADIUS=500;X-TITLE=399 Apple Harvest Dr:geo:-78.197586,39.389611
END:VEVENT
BEGIN:VEVENT
DTSTART;TZID=America/New_York:20260823T120000
DTEND;TZID=America/New_York:20260823T200000
DTSTAMP:20260420T201724
CREATED:20251228T204646Z
LAST-MODIFIED:20260414T083130Z
UID:10003680-1787486400-1787515200@gunstuff.tv
SUMMARY:Ed Bailey Memorial Trap Shoot
DESCRIPTION:Rain date is September 15 @ noon. \nMore info (when available) – https://www.facebook.com/profile.php?id=61566336863879
URL:https://gunstuff.tv/event/ed-bailey-memorial-trap-shoot/
LOCATION:523 Sizer Run Rd.\, Emporium\, PA\, United States
GEO:41.51031;-78.23157
END:VEVENT
BEGIN:VEVENT
DTSTART;TZID=America/New_York:20260823T130000
DTEND;TZID=America/New_York:20260823T150000
DTSTAMP:20260420T201724
CREATED:20251019T193324Z
LAST-MODIFIED:20251221T204640Z
UID:10002467-1787490000-1787497200@gunstuff.tv
SUMMARY:Open Trap Shoot - Weather Permitting
DESCRIPTION:Open shoot\, $5.00 per round.  \nThe trap field is 2/10ths of a mile past the clubhouse.
URL:https://gunstuff.tv/event/open-trap-shoot-weather-permitting-18/
LOCATION:523 Sizer Run Road Emporium\, Emporium\, PA\, United States
GEO:41.500749;-78.322815
END:VEVENT
BEGIN:VEVENT
DTSTART;TZID=UTC:20260823T140000
DTEND;TZID=UTC:20260823T140000
DTSTAMP:20260420T201724
CREATED:20260311T063141Z
LAST-MODIFIED:20260311T063141Z
UID:10006271-1787493600-1787493600@gunstuff.tv
SUMMARY:BVSA 2026 STEEL CHALLENGE - August 23
DESCRIPTION:BVSA 2026 STEEL CHALLENGE – August 23\nDate: 8/23/26\nStart Time: 2:00 PM\nLocation:\nBuffalo Valley Sportsmen’s Association (SCSA389)\n950 Sportsmens Club Rd\nMifflinburg\, PA\nEvent Contact Information\nLuke Walter\n5709391444\nlbw2@pct.edu\nEvent Website\nhttp://bvsportsman.org
URL:https://gunstuff.tv/event/bvsa-2026-steel-challenge-august-23/
LOCATION:Buffalo Valley Sportsmen’s Association (SCSA389)\, 1300 Sportsmens Club Rd\, Mifflinburg\, PA\, United States
GEO:40.947311;-77.103732
X-APPLE-STRUCTURED-LOCATION;VALUE=URI;X-ADDRESS=Buffalo Valley Sportsmen’s Association (SCSA389) 1300 Sportsmens Club Rd Mifflinburg PA United States;X-APPLE-RADIUS=500;X-TITLE=1300 Sportsmens Club Rd:geo:-77.103732,40.947311
END:VEVENT
END:VCALENDAR