BEGIN:VCALENDAR
VERSION:2.0
PRODID:-//GunStuff TV - ECPv6.15.20//NONSGML v1.0//EN
CALSCALE:GREGORIAN
METHOD:PUBLISH
X-ORIGINAL-URL:https://gunstuff.tv
X-WR-CALDESC:Events for GunStuff TV
REFRESH-INTERVAL;VALUE=DURATION:PT1H
X-Robots-Tag:noindex
X-PUBLISHED-TTL:PT1H
BEGIN:VTIMEZONE
TZID:America/New_York
BEGIN:DAYLIGHT
TZOFFSETFROM:-0500
TZOFFSETTO:-0400
TZNAME:EDT
DTSTART:20250309T070000
END:DAYLIGHT
BEGIN:STANDARD
TZOFFSETFROM:-0400
TZOFFSETTO:-0500
TZNAME:EST
DTSTART:20251102T060000
END:STANDARD
BEGIN:DAYLIGHT
TZOFFSETFROM:-0500
TZOFFSETTO:-0400
TZNAME:EDT
DTSTART:20260308T070000
END:DAYLIGHT
BEGIN:STANDARD
TZOFFSETFROM:-0400
TZOFFSETTO:-0500
TZNAME:EST
DTSTART:20261101T060000
END:STANDARD
BEGIN:DAYLIGHT
TZOFFSETFROM:-0500
TZOFFSETTO:-0400
TZNAME:EDT
DTSTART:20270314T070000
END:DAYLIGHT
BEGIN:STANDARD
TZOFFSETFROM:-0400
TZOFFSETTO:-0500
TZNAME:EST
DTSTART:20271107T060000
END:STANDARD
END:VTIMEZONE
BEGIN:VTIMEZONE
TZID:UTC
BEGIN:STANDARD
TZOFFSETFROM:+0000
TZOFFSETTO:+0000
TZNAME:UTC
DTSTART:20250101T000000
END:STANDARD
END:VTIMEZONE
BEGIN:VEVENT
DTSTART;VALUE=DATE:20260713
DTEND;VALUE=DATE:20260714
DTSTAMP:20260419T120333
CREATED:20260213T031058Z
LAST-MODIFIED:20260410T034702Z
UID:10005266-1783900800-1783987199@gunstuff.tv
SUMMARY:Club Closed
DESCRIPTION:
URL:https://gunstuff.tv/event/club-closed-43/
END:VEVENT
BEGIN:VEVENT
DTSTART;TZID=America/New_York:20260713T080000
DTEND;TZID=America/New_York:20260714T163000
DTSTAMP:20260419T120333
CREATED:20260404T214732Z
LAST-MODIFIED:20260411T214633Z
UID:10006759-1783929600-1784046600@gunstuff.tv
SUMMARY:Rifles Only - 5-Day Rifle Course
DESCRIPTION:POC Mike Mayo Daily Schedule\nM-T Classroom 830- 10 Square Range 10-2 Long Range 2-430 pm
URL:https://gunstuff.tv/event/rifles-only-5-day-rifle-course/
LOCATION:Classroom and Ranges
END:VEVENT
BEGIN:VEVENT
DTSTART;TZID=UTC:20260713T090000
DTEND;TZID=UTC:20260713T090000
DTSTAMP:20260419T120333
CREATED:20260110T165504Z
LAST-MODIFIED:20260412T110150Z
UID:10004092-1783933200-1783933200@gunstuff.tv
SUMMARY:Appleseed
DESCRIPTION:Fairfax\, VA – NRA Headquarters\nJuly 13\, 2026 (One Day Event)\nThis is a traditional 25m Project Appleseed rifle event.\nBoth Centerfire and 22 Rimfire rifles are allowed at this event.\nRegister Now\nAddress: 11250 Waples Mills Rd\, Fairfax\, VA 22030\nWebsite: nrarange.nra.org\nPlease Read:  How to Prepare for an Event\nSafety Notice:\n–  Keep ALL firearms in your vehicle until after the safety briefing and you are instructed to bring them to the firing line.\n–  No illegal firearms are allowed.\n–  At centerfire-friendly ranges\, rifle cartridges are limited to 8mm (rifle) or .45 caliber (pistol and pistol caliber carbines).\n–  Effective 8/8/2025\, Project Appleseed has temporarily suspended the SIG-Sauer P320/M17/M18 (all variants) in our Pistol Clinics.\n–  Parents of youth attending\, please read our Message to Parents.\nSubject to state and local laws\, Instructors at your event may have discounted .22 ammo available. Reach out to the contact at the bottom of this page for availability.\nRange Fee:  $20 per shooter for the entire event\nCamping Available:\nNo\nHotels:\nClose to lodging and food\nDirections:\nSee map on range website\nGPS: 38.863118\,-77.335499\nState Laws to be aware of:\nIt is the responsibility of attendees to know and comply with all State and Federal Firearms Laws.\nVirginia State Firearms Laws\nMisc:\nALL participants MUST have photo ID.\nAll MINORS MUST be accompanied by a PARENT.\nALL attendees MUST take a range safety test.\nAmmo available for purchase onsite.\nNO Alcohol Permitted.\nFor more information contact:\nName: VA State Coordinator Email Address: VA@appleseedinfo.org\nName: Brian Swift – Private Message to “BeSwift” on the Appleseed Forum Email Address: appleseedmaryland@gmail.com
URL:https://gunstuff.tv/event/appleseed-121/
LOCATION:NRA Headquarters\, 11209 Waples Mill Rd\, Fairfax\, VA\, United States
GEO:38.859803;-77.335133
X-APPLE-STRUCTURED-LOCATION;VALUE=URI;X-ADDRESS=NRA Headquarters 11209 Waples Mill Rd Fairfax VA United States;X-APPLE-RADIUS=500;X-TITLE=11209 Waples Mill Rd:geo:-77.335133,38.859803
END:VEVENT
BEGIN:VEVENT
DTSTART;TZID=America/New_York:20260713T090000
DTEND;TZID=America/New_York:20260713T100000
DTSTAMP:20260419T120333
CREATED:20251003T162642Z
LAST-MODIFIED:20251010T162929Z
UID:10001462-1783933200-1783936800@gunstuff.tv
SUMMARY:4-H Class Indoors
DESCRIPTION:Indoor reserved for 4-H class.
URL:https://gunstuff.tv/event/4-h-class-indoors-41/
LOCATION:Indoor Range
END:VEVENT
BEGIN:VEVENT
DTSTART;TZID=America/New_York:20260713T160000
DTEND;TZID=America/New_York:20260713T180000
DTSTAMP:20260419T120333
CREATED:20251003T162642Z
LAST-MODIFIED:20251205T181709Z
UID:10001463-1783958400-1783965600@gunstuff.tv
SUMMARY:Skeet League
DESCRIPTION:Contact Frank Andrews with Questions.
URL:https://gunstuff.tv/event/skeet-league-41/
END:VEVENT
BEGIN:VEVENT
DTSTART;TZID=America/New_York:20260713T160000
DTEND;TZID=America/New_York:20260713T180000
DTSTAMP:20260419T120333
CREATED:20251212T181641Z
LAST-MODIFIED:20260411T214633Z
UID:10003542-1783958400-1783965600@gunstuff.tv
SUMMARY:Skeet League
DESCRIPTION:Contact Frank Andrews with Questions.
URL:https://gunstuff.tv/event/skeet-league-131/
LOCATION:Skeet Range
END:VEVENT
END:VCALENDAR