BEGIN:VCALENDAR
VERSION:2.0
PRODID:-//GunStuff TV - ECPv6.15.20//NONSGML v1.0//EN
CALSCALE:GREGORIAN
METHOD:PUBLISH
X-WR-CALNAME:GunStuff TV
X-ORIGINAL-URL:https://gunstuff.tv
X-WR-CALDESC:Events for GunStuff TV
REFRESH-INTERVAL;VALUE=DURATION:PT1H
X-Robots-Tag:noindex
X-PUBLISHED-TTL:PT1H
BEGIN:VTIMEZONE
TZID:America/Chicago
BEGIN:DAYLIGHT
TZOFFSETFROM:-0600
TZOFFSETTO:-0500
TZNAME:CDT
DTSTART:20250309T080000
END:DAYLIGHT
BEGIN:STANDARD
TZOFFSETFROM:-0500
TZOFFSETTO:-0600
TZNAME:CST
DTSTART:20251102T070000
END:STANDARD
BEGIN:DAYLIGHT
TZOFFSETFROM:-0600
TZOFFSETTO:-0500
TZNAME:CDT
DTSTART:20260308T080000
END:DAYLIGHT
BEGIN:STANDARD
TZOFFSETFROM:-0500
TZOFFSETTO:-0600
TZNAME:CST
DTSTART:20261101T070000
END:STANDARD
BEGIN:DAYLIGHT
TZOFFSETFROM:-0600
TZOFFSETTO:-0500
TZNAME:CDT
DTSTART:20270314T080000
END:DAYLIGHT
BEGIN:STANDARD
TZOFFSETFROM:-0500
TZOFFSETTO:-0600
TZNAME:CST
DTSTART:20271107T070000
END:STANDARD
END:VTIMEZONE
BEGIN:VTIMEZONE
TZID:America/Los_Angeles
BEGIN:DAYLIGHT
TZOFFSETFROM:-0800
TZOFFSETTO:-0700
TZNAME:PDT
DTSTART:20250309T100000
END:DAYLIGHT
BEGIN:STANDARD
TZOFFSETFROM:-0700
TZOFFSETTO:-0800
TZNAME:PST
DTSTART:20251102T090000
END:STANDARD
BEGIN:DAYLIGHT
TZOFFSETFROM:-0800
TZOFFSETTO:-0700
TZNAME:PDT
DTSTART:20260308T100000
END:DAYLIGHT
BEGIN:STANDARD
TZOFFSETFROM:-0700
TZOFFSETTO:-0800
TZNAME:PST
DTSTART:20261101T090000
END:STANDARD
BEGIN:DAYLIGHT
TZOFFSETFROM:-0800
TZOFFSETTO:-0700
TZNAME:PDT
DTSTART:20270314T100000
END:DAYLIGHT
BEGIN:STANDARD
TZOFFSETFROM:-0700
TZOFFSETTO:-0800
TZNAME:PST
DTSTART:20271107T090000
END:STANDARD
END:VTIMEZONE
BEGIN:VTIMEZONE
TZID:America/Phoenix
BEGIN:STANDARD
TZOFFSETFROM:-0700
TZOFFSETTO:-0700
TZNAME:MST
DTSTART:20250101T000000
END:STANDARD
END:VTIMEZONE
BEGIN:VTIMEZONE
TZID:UTC
BEGIN:STANDARD
TZOFFSETFROM:+0000
TZOFFSETTO:+0000
TZNAME:UTC
DTSTART:20250101T000000
END:STANDARD
END:VTIMEZONE
BEGIN:VTIMEZONE
TZID:America/New_York
BEGIN:DAYLIGHT
TZOFFSETFROM:-0500
TZOFFSETTO:-0400
TZNAME:EDT
DTSTART:20250309T070000
END:DAYLIGHT
BEGIN:STANDARD
TZOFFSETFROM:-0400
TZOFFSETTO:-0500
TZNAME:EST
DTSTART:20251102T060000
END:STANDARD
BEGIN:DAYLIGHT
TZOFFSETFROM:-0500
TZOFFSETTO:-0400
TZNAME:EDT
DTSTART:20260308T070000
END:DAYLIGHT
BEGIN:STANDARD
TZOFFSETFROM:-0400
TZOFFSETTO:-0500
TZNAME:EST
DTSTART:20261101T060000
END:STANDARD
BEGIN:DAYLIGHT
TZOFFSETFROM:-0500
TZOFFSETTO:-0400
TZNAME:EDT
DTSTART:20270314T070000
END:DAYLIGHT
BEGIN:STANDARD
TZOFFSETFROM:-0400
TZOFFSETTO:-0500
TZNAME:EST
DTSTART:20271107T060000
END:STANDARD
END:VTIMEZONE
BEGIN:VEVENT
DTSTART;VALUE=DATE:20260630
DTEND;VALUE=DATE:20260706
DTSTAMP:20260419T115916
CREATED:20251005T190051Z
LAST-MODIFIED:20260412T200143Z
UID:10001678-1782777600-1783295999@gunstuff.tv
SUMMARY:TTA State Trap Tournament
DESCRIPTION:
URL:https://gunstuff.tv/event/tta-state-trap-tournament/
LOCATION:PA
END:VEVENT
BEGIN:VEVENT
DTSTART;TZID=America/Chicago:20260703T080000
DTEND;TZID=America/Chicago:20260705T170000
DTSTAMP:20260419T115916
CREATED:20251102T201640Z
LAST-MODIFIED:20260412T211742Z
UID:10002867-1783065600-1783270800@gunstuff.tv
SUMMARY:Hill Country Freedom Blast! 2026
DESCRIPTION:Stay tuned as we finalize plans for the 2026 Hill Country Freedom Blast with Austin Gun Club\, Copperhead Creek Shooting Club & Capital City Clays!
URL:https://gunstuff.tv/event/hill-country-freedom-blast-2026/
LOCATION:Austin Gun Club\, 1999 S Key Ave\, Lampasas\, TX\, United States
CATEGORIES:NSCA Registered Shoot
ATTACH;FMTTYPE=image/png:https://gunstuff.tv/wp-content/uploads/2025/11/2026-NSCA-Events-850-3RANT6.png
GEO:31.050454;-98.174788
X-APPLE-STRUCTURED-LOCATION;VALUE=URI;X-ADDRESS=Austin Gun Club 1999 S Key Ave Lampasas TX United States;X-APPLE-RADIUS=500;X-TITLE=1999 S Key Ave:geo:-98.174788,31.050454
END:VEVENT
BEGIN:VEVENT
DTSTART;TZID=America/Los_Angeles:20260705T000000
DTEND;TZID=America/Los_Angeles:20260705T235900
DTSTAMP:20260419T115916
CREATED:20260308T221638Z
LAST-MODIFIED:20260405T223147Z
UID:10006221-1783209600-1783295940@gunstuff.tv
SUMMARY:BIG BONANZA BLAST AT MOORE N MOORE
DESCRIPTION:For more information\, contact Moore N Moore at https://www.moorenmoore.com/big-bonanza-blast/
URL:https://gunstuff.tv/event/big-bonanza-blast-at-moore-n-moore-11/
LOCATION:Moore N Moore Sporting Clays\, 12653 Little Tujunga Canyon Rd\, Sylmar\, CA\, United States
CATEGORIES:Moore N Moore
ATTACH;FMTTYPE=image/png:https://gunstuff.tv/wp-content/uploads/2025/10/bigbonanzaLogo2-PIf6Qo.png
ORGANIZER;CN="Moore N Moore Sporting Clays":MAILTO:info@moorenmoore.com
GEO:34.282317;-118.371281
X-APPLE-STRUCTURED-LOCATION;VALUE=URI;X-ADDRESS=Moore N Moore Sporting Clays 12653 Little Tujunga Canyon Rd Sylmar CA United States;X-APPLE-RADIUS=500;X-TITLE=12653 Little Tujunga Canyon Rd:geo:-118.371281,34.282317
END:VEVENT
BEGIN:VEVENT
DTSTART;VALUE=DATE:20260705
DTEND;VALUE=DATE:20260706
DTSTAMP:20260419T115916
CREATED:20251003T160029Z
LAST-MODIFIED:20260412T043233Z
UID:10000999-1783209600-1783295999@gunstuff.tv
SUMMARY:1000 Yard Practice 6:30am Pits
DESCRIPTION:
URL:https://gunstuff.tv/event/1000-yard-practice-630am-pits-8/
LOCATION:PA
END:VEVENT
BEGIN:VEVENT
DTSTART;TZID=UTC:20260705T080000
DTEND;TZID=UTC:20260705T080000
DTSTAMP:20260419T115916
CREATED:20260410T113140Z
LAST-MODIFIED:20260410T113140Z
UID:10007413-1783238400-1783238400@gunstuff.tv
SUMMARY:Klamath USPSA 07-05-26 JSPS OR09
DESCRIPTION:Klamath USPSA 07-05-26 JSPS OR09\nDate : 7/05/26\nStart Time: 8:00 AM\nLocation:\nJefferson State Practical Shooters (OR09)\n22811 OR-66\nKeno\, OR\nEvent Contact Information\nJake Nelson\n5418870467\njspsuspsa@gmail.com\nMatch Information\nLocation:\n22811 OR-66\nKeno\, Oregon 97627\nMatches are held at the Bill Scholtes’ Sportsman’s Park\, West of Keno\, Oregon. Visit and like our Facebook page at https://www.facebook.com/JeffersonStateShootingAssociation\nFive stages to test your skills and for your shooting enjoyment (approx. 135 rounds).\nPlease arrive between 0800-0830 to register/check-in if needed and to help finalize stage setup. $15 match fee ($10 for Juniors). Refunds\, less credit card handling fees\, allowed until registration closes. No refunds after registration is closed.\nAll shooters must sign-in and pay the day-use fee at the park kiosk as required ($10 per individual or $5 for persons 17 and under. This must be paid at the park. Annual memberships for the park are available for $70 and cover spouses and dependent children 18 and under).\n2026 Points Match Schedule:\n22 March – Grants Pass\n26 April – Grants Pass\n17 May – Medford\n7 June – Klamath\n19 July – Medford\n2 August – Klamath\n19-20 September – Medford (Oregon Open/Section Championship)\nTo qualify for the points series you must shoot 3 of the 6 available regular matches and the Section Championship (Section Championship counts for two). The best 5 of 8 scores will count towards your point total.\nEvent Website\nhttps://practiscore.com/klamath-uspsa-07-05-26-jsps-or09/register
URL:https://gunstuff.tv/event/klamath-uspsa-07-05-26-jsps-or09/
LOCATION:Jefferson State Practical Shooters (OR09)\, Keno\, OR\, United States
GEO:42.12653;-121.93001
END:VEVENT
BEGIN:VEVENT
DTSTART;TZID=UTC:20260705T083000
DTEND;TZID=UTC:20260705T083000
DTSTAMP:20260419T115916
CREATED:20251031T195459Z
LAST-MODIFIED:20260401T070144Z
UID:10002792-1783240200-1783240200@gunstuff.tv
SUMMARY:EDSS Level I Steel Challenge
DESCRIPTION:EDSS Level I Steel Challenge\nDate: 7/05/26\nStart Time: 8:30 AM\nLocation:\nEl Dorado Steel Shooters (SCSA522)\n5941 Union Mine Rd\nEl Dorado\, CA\nEvent Contact Information\nAmer Sahtout\n9162964076\nedss.public@gmail.com\nMatch Information\nEDSS Level I Club Match. Sign-ups available on Practiscore.com. 5941 Union Mine Rd.\, El Dorado Ca 95623\nEvent Website \nHome
URL:https://gunstuff.tv/event/edss-level-i-steel-challenge-9/
LOCATION:El Dorado Steel Shooters (SCSA522)\, 5941 Union Mine Rd\, El Dorado\, CA\, United States
GEO:38.652465;-120.833266
X-APPLE-STRUCTURED-LOCATION;VALUE=URI;X-ADDRESS=El Dorado Steel Shooters (SCSA522) 5941 Union Mine Rd El Dorado CA United States;X-APPLE-RADIUS=500;X-TITLE=5941 Union Mine Rd:geo:-120.833266,38.652465
END:VEVENT
BEGIN:VEVENT
DTSTART;TZID=UTC:20260705T090000
DTEND;TZID=UTC:20260705T090000
DTSTAMP:20260419T115916
CREATED:20260110T171711Z
LAST-MODIFIED:20260410T113140Z
UID:10004287-1783242000-1783242000@gunstuff.tv
SUMMARY:LPC Monthly USPSA
DESCRIPTION:LPC Monthly USPSA\nDate : 7/05/26\nStart Time: 9:00 AM\nLocation:\nLewiston Pistol Club (IPSC31)\n1240 Lenville Rd\nGenesee\, ID\nEvent Contact Information\nErik Peterson\n208-301-8067\nlewistonpistolclub@gmail.com\nMatch Information\nLocation: J5P6+GR Lenville\, Idaho 83832 The Lewiston Pistol Club holds USPSA Pistol matches the first Sunday of each month. Setup/registration starts at 9 AM\, new shooter orientation is at 9:30 AM\, please arrive by 9:30 AM\, match starts at 10 AM. We will plan to shoot five stages\, one of which will be a USPSA Classifier stage. The cost is $15 for LPC members and $20 for non-members. First time match attendees shoot for free. For more info\, please see http://www.lewistonpistol.org/Action.php. Bring at minimum 200-250 rounds of ammo\, but more is always better in case you miss! Eye and ear protection is required for all competitors and guests. We run a “cold range” on match days. Be sure to have all firearms unloaded and bagged when you come up to registration. This includes carry pistols. NEW SHOOTERS: Please read info at http://www.lewistonpistol.org/NewShooterInstructions.php before heading to the range. Side matches after the USPSA match are: Jan\, Apr\, Jul\, Oct – Pistol Caliber Rifle Feb\, May\, Aug\, Nov – Rifle Mar\, Jun\, Sept\, Dec – Shotgun Due to the fire hazard\, metal piercing\, incendiary\, and/or tracer ammunition\, steel jacketed and steel core bullets are prohibited at the Bernie Petersen Memorial Range. Thank You\, Lewiston Pistol Club.\nEvent Website\nhttp://lewistonpistolclub.org
URL:https://gunstuff.tv/event/lpc-monthly-uspsa-8/
LOCATION:Lewiston Pistol Club (IPSC31)\, 3400 Lenville Rd\, Moscow\, ID\, United States
GEO:46.722361;-116.959118
X-APPLE-STRUCTURED-LOCATION;VALUE=URI;X-ADDRESS=Lewiston Pistol Club (IPSC31) 3400 Lenville Rd Moscow ID United States;X-APPLE-RADIUS=500;X-TITLE=3400 Lenville Rd:geo:-116.959118,46.722361
END:VEVENT
BEGIN:VEVENT
DTSTART;TZID=America/New_York:20260705T090000
DTEND;TZID=America/New_York:20260705T120000
DTSTAMP:20260419T115916
CREATED:20251003T162641Z
LAST-MODIFIED:20260411T214633Z
UID:10001458-1783242000-1783252800@gunstuff.tv
SUMMARY:Weekly Trap League
DESCRIPTION:
URL:https://gunstuff.tv/event/weekly-trap-league-40/
LOCATION:Shotgun Range
END:VEVENT
BEGIN:VEVENT
DTSTART;TZID=America/New_York:20260705T090000
DTEND;TZID=America/New_York:20260705T163000
DTSTAMP:20260419T115916
CREATED:20260208T183207Z
LAST-MODIFIED:20260412T184747Z
UID:10005104-1783242000-1783269000@gunstuff.tv
SUMMARY:High Power Silhouette
DESCRIPTION:Contact Roger Estes @ rce497@comcast.net \nThis is a High Power Silhouette match per month from March thru November\, 2026\, These will be high power rifle silhouette matches fired on the Lea Valley Range with a total of 40 rounds for record. Records will be kept and sent to the NRA for classification purposes. For the matches practice will begin at 9a.m. and matches will begin at 10.Rules will follow the NRA High Power Rifle Silhouette Rules. Briefly\, rifles for Highpower silhouette have to be at least a minimum center-fire caliber of 6mm\, no maximum. Ammo cannot be belted magnum by Club Rules for ammo.Clothes can be commensurate with the weather but cannot be made specifically silhouette competition\, with the exception that leather vest specifically for rifle silhouette can be used.The match firing will be on relays\, each relay\, consisting of 4 shooting competitors and spotters . Spotters are not mandatory for these matches. Scoring can be done by a spotter or by the competitor's person. The relay is called to the line\, the command of ready is given which is 15 seconds to get prepared to fire the 5 shots in 2 1/2 minutes\, then a short rest\, then 5 more rounds in 2 1/2 minutes. Following these shots\, competitors will show their scores to the stat officer so the scores are recorded. Relays will continue till all animals are fired at. Scores are counted by the knock down of animals off the range rail\, to a maximum of 40 animals. Once the relays are complete\, scores will be counted up and the winner gets cash for the award\, total of 25 for aggregate match winner. $20 for Class winner. Each 3 competitors will get a n award of cash. A plaque award can be substituted for the cash. There is a separate category in which AR-15 rifles are allowed. AR's don't follow the silhouette rules\, mostly because of the shape of the rifle and caliber which is .223. They are allowed in a separate category in this match to get more competitors to shoot these matches\, just generating interest in this sport. They have no classification in the match\, just for fun. The matches are fired on the first Sunday of the month.
URL:https://gunstuff.tv/event/high-power-silhouette-5/
LOCATION:Lea Valley Range
END:VEVENT
BEGIN:VEVENT
DTSTART;TZID=UTC:20260705T094500
DTEND;TZID=UTC:20260705T094500
DTSTAMP:20260419T115916
CREATED:20260117T171707Z
LAST-MODIFIED:20260410T113141Z
UID:10004575-1783244700-1783244700@gunstuff.tv
SUMMARY:Bass River July Match
DESCRIPTION:Bass River July Match\nDate : 7/05/26\nStart Time: 9:45 AM\nLocation:\nBass River Rod & Gun Club (NE12)\nBass River Rod &Gun 620 Rt. 6A\nYarmouthport\, MA\nEvent Contact Information\nTimothy J Kent\n5082372137\ntjkent@comcast.net\nEvent Website\nhttps://www.bassriverrodandgun.com/
URL:https://gunstuff.tv/event/bass-river-july-match/
LOCATION:Bass River Rod & Gun Club (NE12)\, 79 State Rte 6 Alt\, Dennis\, MA\, United States
GEO:41.721025;-70.196653
X-APPLE-STRUCTURED-LOCATION;VALUE=URI;X-ADDRESS=Bass River Rod & Gun Club (NE12) 79 State Rte 6 Alt Dennis MA United States;X-APPLE-RADIUS=500;X-TITLE=79 State Rte 6 Alt:geo:-70.196653,41.721025
END:VEVENT
BEGIN:VEVENT
DTSTART;TZID=UTC:20260705T100000
DTEND;TZID=UTC:20260705T100000
DTSTAMP:20260419T115916
CREATED:20260227T113145Z
LAST-MODIFIED:20260410T113141Z
UID:10005846-1783245600-1783245600@gunstuff.tv
SUMMARY:Ripon USPSA
DESCRIPTION:Ripon USPSA\nDate : 7/05/26\nStart Time: 10:00 AM\nLocation:\nRipon Gun Club (WI18)\nN9089 Koro rd\nRipon\, WI\nEvent Contact Information\nBill Hatfield\n920-538-4178\nBhatfield1@charter.net
URL:https://gunstuff.tv/event/ripon-uspsa-3/
LOCATION:Ripon Gun Club (WI18)\, 1699 Koro Rd\, Berlin\, WI\, United States
GEO:43.953345;-88.865982
X-APPLE-STRUCTURED-LOCATION;VALUE=URI;X-ADDRESS=Ripon Gun Club (WI18) 1699 Koro Rd Berlin WI United States;X-APPLE-RADIUS=500;X-TITLE=1699 Koro Rd:geo:-88.865982,43.953345
END:VEVENT
BEGIN:VEVENT
DTSTART;TZID=America/New_York:20260705T130000
DTEND;TZID=America/New_York:20260705T150000
DTSTAMP:20260419T115916
CREATED:20251019T193323Z
LAST-MODIFIED:20260414T083129Z
UID:10002460-1783256400-1783263600@gunstuff.tv
SUMMARY:Open Trap Shoot - Weather Permitting
DESCRIPTION:Open shoot\, $5.00 per round.  The trap field is 2/10ths of a mile past the clubhouse. \nFor the latest information visit:https://www.facebook.com/groups/1663932967427026
URL:https://gunstuff.tv/event/open-trap-shoot-weather-permitting-11/
LOCATION:523 Sizer Run Road Emporium\, Emporium\, PA\, United States
GEO:41.500749;-78.322815
END:VEVENT
END:VCALENDAR