BEGIN:VCALENDAR
VERSION:2.0
PRODID:-//GunStuff TV - ECPv6.15.20//NONSGML v1.0//EN
CALSCALE:GREGORIAN
METHOD:PUBLISH
X-ORIGINAL-URL:https://gunstuff.tv
X-WR-CALDESC:Events for GunStuff TV
REFRESH-INTERVAL;VALUE=DURATION:PT1H
X-Robots-Tag:noindex
X-PUBLISHED-TTL:PT1H
BEGIN:VTIMEZONE
TZID:UTC
BEGIN:STANDARD
TZOFFSETFROM:+0000
TZOFFSETTO:+0000
TZNAME:UTC
DTSTART:20250101T000000
END:STANDARD
END:VTIMEZONE
BEGIN:VTIMEZONE
TZID:America/New_York
BEGIN:DAYLIGHT
TZOFFSETFROM:-0500
TZOFFSETTO:-0400
TZNAME:EDT
DTSTART:20250309T070000
END:DAYLIGHT
BEGIN:STANDARD
TZOFFSETFROM:-0400
TZOFFSETTO:-0500
TZNAME:EST
DTSTART:20251102T060000
END:STANDARD
BEGIN:DAYLIGHT
TZOFFSETFROM:-0500
TZOFFSETTO:-0400
TZNAME:EDT
DTSTART:20260308T070000
END:DAYLIGHT
BEGIN:STANDARD
TZOFFSETFROM:-0400
TZOFFSETTO:-0500
TZNAME:EST
DTSTART:20261101T060000
END:STANDARD
BEGIN:DAYLIGHT
TZOFFSETFROM:-0500
TZOFFSETTO:-0400
TZNAME:EDT
DTSTART:20270314T070000
END:DAYLIGHT
BEGIN:STANDARD
TZOFFSETFROM:-0400
TZOFFSETTO:-0500
TZNAME:EST
DTSTART:20271107T060000
END:STANDARD
END:VTIMEZONE
BEGIN:VTIMEZONE
TZID:America/Chicago
BEGIN:DAYLIGHT
TZOFFSETFROM:-0600
TZOFFSETTO:-0500
TZNAME:CDT
DTSTART:20250309T080000
END:DAYLIGHT
BEGIN:STANDARD
TZOFFSETFROM:-0500
TZOFFSETTO:-0600
TZNAME:CST
DTSTART:20251102T070000
END:STANDARD
BEGIN:DAYLIGHT
TZOFFSETFROM:-0600
TZOFFSETTO:-0500
TZNAME:CDT
DTSTART:20260308T080000
END:DAYLIGHT
BEGIN:STANDARD
TZOFFSETFROM:-0500
TZOFFSETTO:-0600
TZNAME:CST
DTSTART:20261101T070000
END:STANDARD
BEGIN:DAYLIGHT
TZOFFSETFROM:-0600
TZOFFSETTO:-0500
TZNAME:CDT
DTSTART:20270314T080000
END:DAYLIGHT
BEGIN:STANDARD
TZOFFSETFROM:-0500
TZOFFSETTO:-0600
TZNAME:CST
DTSTART:20271107T070000
END:STANDARD
END:VTIMEZONE
BEGIN:VEVENT
DTSTART;TZID=UTC:20260329T090000
DTEND;TZID=UTC:20260703T210000
DTSTAMP:20260419T102458
CREATED:20260330T200138Z
LAST-MODIFIED:20260406T200144Z
UID:10006626-1774774800-1783112400@gunstuff.tv
SUMMARY:Open Range W/C 29/03/2026
DESCRIPTION:
URL:https://gunstuff.tv/event/open-range-w-c-29-03-2026/
LOCATION:Tiverton Small-bore Rifle Club
END:VEVENT
BEGIN:VEVENT
DTSTART;VALUE=DATE:20260621
DTEND;VALUE=DATE:20260622
DTSTAMP:20260419T102458
CREATED:20251003T162535Z
LAST-MODIFIED:20260412T184746Z
UID:10001266-1782000000-1782086399@gunstuff.tv
SUMMARY:Father's Day
DESCRIPTION:
URL:https://gunstuff.tv/event/fathers-day/
LOCATION:PA
END:VEVENT
BEGIN:VEVENT
DTSTART;VALUE=DATE:20260621
DTEND;VALUE=DATE:20260622
DTSTAMP:20260419T102458
CREATED:20251026T194656Z
LAST-MODIFIED:20260414T083129Z
UID:10002571-1782000000-1782086399@gunstuff.tv
SUMMARY:Club Rental
DESCRIPTION:
URL:https://gunstuff.tv/event/club-rental-5/
LOCATION:523 Sizer Run Rd\, Emporium\, PA\, United States
GEO:41.51031;-78.23157
END:VEVENT
BEGIN:VEVENT
DTSTART;VALUE=DATE:20260621
DTEND;VALUE=DATE:20260622
DTSTAMP:20260419T102458
CREATED:20251123T191632Z
LAST-MODIFIED:20260412T200143Z
UID:10003201-1782000000-1782086399@gunstuff.tv
SUMMARY:June Open
DESCRIPTION:Registered Sporting Clays.  For more information\, see the Registered Sporting Clays flyer.
URL:https://gunstuff.tv/event/june-open/
LOCATION:National Shooting Complex\, 5931 Roft Rd\, San Antonio\, TX\, United States
GEO:29.492881;-98.741985
X-APPLE-STRUCTURED-LOCATION;VALUE=URI;X-ADDRESS=National Shooting Complex 5931 Roft Rd San Antonio TX United States;X-APPLE-RADIUS=500;X-TITLE=5931 Roft Rd:geo:-98.741985,29.492881
END:VEVENT
BEGIN:VEVENT
DTSTART;TZID=America/New_York:20260621T080000
DTEND;TZID=America/New_York:20260621T170000
DTSTAMP:20260419T102458
CREATED:20251109T181649Z
LAST-MODIFIED:20260412T184746Z
UID:10003027-1782028800-1782061200@gunstuff.tv
SUMMARY:Green Ops Tactical Defensive Pistol I Class
DESCRIPTION:see https://www.green-ops.com/schedule-registration-virginia for class registration info
URL:https://gunstuff.tv/event/green-ops-tactical-defensive-pistol-i-class/
LOCATION:Culver Range
END:VEVENT
BEGIN:VEVENT
DTSTART;TZID=UTC:20260621T083000
DTEND;TZID=UTC:20260621T083000
DTSTAMP:20260419T102458
CREATED:20260128T014753Z
LAST-MODIFIED:20260401T070143Z
UID:10004805-1782030600-1782030600@gunstuff.tv
SUMMARY:Las Vegas Steel @ DSRPC
DESCRIPTION:Las Vegas Steel @ DSRPC\nDate: 6/21/26\nStart Time: 8:30 AM\nLocation:\nLas Vegas Steel at DSRPC (SCSA473)\n12201 W Charleston Blvd\nLas Vegas \, NV\nEvent Contact Information\nLas Vegas Steel At DSRPC\n7024960837\nlasvegassteel5@gmail.com\nEvent Website\nhttp://
URL:https://gunstuff.tv/event/las-vegas-steel-dsrpc-5/
LOCATION:Las Vegas Steel at DSRPC (SCSA473)\, 11099 W Charleston Blvd\, Las Vegas\, NV\, United States
GEO:36.158975;-115.337075
X-APPLE-STRUCTURED-LOCATION;VALUE=URI;X-ADDRESS=Las Vegas Steel at DSRPC (SCSA473) 11099 W Charleston Blvd Las Vegas NV United States;X-APPLE-RADIUS=500;X-TITLE=11099 W Charleston Blvd:geo:-115.337075,36.158975
END:VEVENT
BEGIN:VEVENT
DTSTART;TZID=UTC:20260621T090000
DTEND;TZID=UTC:20260621T090000
DTSTAMP:20260419T102458
CREATED:20260110T171711Z
LAST-MODIFIED:20260410T113139Z
UID:10004282-1782032400-1782032400@gunstuff.tv
SUMMARY:York Practical Shooters
DESCRIPTION:York Practical Shooters\nDate : 6/21/26\nStart Time: 9:00 AM\nLocation:\nYork Practical Shooters (MID13)\n7131 Iron Stone Hill Rd\nDallastown\, PA\nEvent Contact Information\nRussell Fortney\n9999999999\nYorkUSPSA@gmail.com\nMatch Information\nRegistration opens in Practiscore on the 2nd Sunday of the month at 7:00PM.\nEvent Website\nhttps://www.facebook.com/YorkPracticalShooters
URL:https://gunstuff.tv/event/york-practical-shooters-4/
LOCATION:York Practical Shooters (MID13)\, 7131 Ironstone Hill Way\, Dallastown\, PA\, United States
GEO:39.870491;-76.677504
X-APPLE-STRUCTURED-LOCATION;VALUE=URI;X-ADDRESS=York Practical Shooters (MID13) 7131 Ironstone Hill Way Dallastown PA United States;X-APPLE-RADIUS=500;X-TITLE=7131 Ironstone Hill Way:geo:-76.677504,39.870491
END:VEVENT
BEGIN:VEVENT
DTSTART;TZID=America/New_York:20260621T090000
DTEND;TZID=America/New_York:20260621T120000
DTSTAMP:20260419T102458
CREATED:20251003T162641Z
LAST-MODIFIED:20260411T214632Z
UID:10001449-1782032400-1782043200@gunstuff.tv
SUMMARY:Weekly Trap League
DESCRIPTION:
URL:https://gunstuff.tv/event/weekly-trap-league-38/
LOCATION:Shotgun Range
END:VEVENT
BEGIN:VEVENT
DTSTART;TZID=America/New_York:20260621T090000
DTEND;TZID=America/New_York:20260621T123000
DTSTAMP:20260419T102458
CREATED:20251003T031215Z
LAST-MODIFIED:20260410T070129Z
UID:10000631-1782032400-1782045000@gunstuff.tv
SUMMARY:GRPC NRA 1800
DESCRIPTION:
URL:https://gunstuff.tv/event/grpc-nra-1800-9/
LOCATION:Gateway Rifle & Pistol Club\, 9301 Zambito Ave\, Jacksonville\, FL\, United States
GEO:30.262025;-81.814577
X-APPLE-STRUCTURED-LOCATION;VALUE=URI;X-ADDRESS=Gateway Rifle & Pistol Club 9301 Zambito Ave Jacksonville FL United States;X-APPLE-RADIUS=500;X-TITLE=9301 Zambito Ave:geo:-81.814577,30.262025
END:VEVENT
BEGIN:VEVENT
DTSTART;TZID=America/New_York:20260621T090000
DTEND;TZID=America/New_York:20260621T130000
DTSTAMP:20260419T102458
CREATED:20251003T162535Z
LAST-MODIFIED:20260412T184746Z
UID:10001267-1782032400-1782046800@gunstuff.tv
SUMMARY:Bud Meyer Black Powder Silhouette
DESCRIPTION:
URL:https://gunstuff.tv/event/bud-meyer-black-powder-silhouette-3/
LOCATION:Lea Valley
END:VEVENT
BEGIN:VEVENT
DTSTART;TZID=America/New_York:20260621T090000
DTEND;TZID=America/New_York:20260621T140000
DTSTAMP:20260419T102458
CREATED:20251003T031215Z
LAST-MODIFIED:20260410T070129Z
UID:10000630-1782032400-1782050400@gunstuff.tv
SUMMARY:Wyoming Antelope 2700
DESCRIPTION:
URL:https://gunstuff.tv/event/wyoming-antelope-2700-18/
LOCATION:Wyoming Antelope Club-Florida\, 3700 126th Ave N\, Clearwater\, FL\, United States
GEO:27.886432;-82.683263
X-APPLE-STRUCTURED-LOCATION;VALUE=URI;X-ADDRESS=Wyoming Antelope Club-Florida 3700 126th Ave N Clearwater FL United States;X-APPLE-RADIUS=500;X-TITLE=3700 126th Ave N:geo:-82.683263,27.886432
END:VEVENT
BEGIN:VEVENT
DTSTART;TZID=UTC:20260621T100000
DTEND;TZID=UTC:20260621T100000
DTSTAMP:20260419T102458
CREATED:20260124T171825Z
LAST-MODIFIED:20260410T113139Z
UID:10004719-1782036000-1782036000@gunstuff.tv
SUMMARY:EWPSA Monthly USPSA Match
DESCRIPTION:EWPSA Monthly USPSA Match\nDate : 6/21/26\nStart Time: 10:00 AM\nLocation:\nEastern Wa. Practical Shooters (IE02)\n93315 N SR 225\nBenton City\, WA\nEvent Contact Information\nWarren Harper\n1\newpsa.stats@gmail.com\nMatch Information\nMatch Information\nThis is the EWPSA monthly match. Gates will be open by 9 am\, new shooter briefing at 9:30 am\, and shooters meeting at 10 am. We start shooting after the shooters meeting. The match will be $25 for non-members\, $20 for TCSA members\, juniors shoot for free\, new shooters to USPSA shoot for free\, and setup staff shoots for free. Setup for the match will begin at 9 am on Saturday before the match and targets will be put up around 8am on Sunday. Refunds will be given for cancellations minus Stripe fee. Typically 5-6 stages and around 180 rounds\, including a classifier. If you are a new shooter\, feel free to contact the Match Director (below) if you have any questions. Match Director Contact: ewpsa.stats@gmail.com\nEvent Website\nhttps://practiscore.com/search/matches?refinementList%5Bstate%5D%5B0%5D=Washington&refinementList%5Btype%5D%5B0%5D=USPSA&query=ewpsa
URL:https://gunstuff.tv/event/ewpsa-monthly-uspsa-match-8/
LOCATION:Eastern Wa. Practical Shooters (IE02)\, 71598 N State Rte 225 NW\, Benton City\, WA\, United States
GEO:46.31731;-119.493158
X-APPLE-STRUCTURED-LOCATION;VALUE=URI;X-ADDRESS=Eastern Wa. Practical Shooters (IE02) 71598 N State Rte 225 NW Benton City WA United States;X-APPLE-RADIUS=500;X-TITLE=71598 N State Rte 225 NW:geo:-119.493158,46.31731
END:VEVENT
BEGIN:VEVENT
DTSTART;TZID=America/New_York:20260621T100000
DTEND;TZID=America/New_York:20260621T150000
DTSTAMP:20260419T102458
CREATED:20260308T183136Z
LAST-MODIFIED:20260412T184746Z
UID:10006210-1782036000-1782054000@gunstuff.tv
SUMMARY:Running Deer Match
DESCRIPTION:See https://www.fxrgc.org/rifle/running-deer/ for more info
URL:https://gunstuff.tv/event/running-deer-match-3/
LOCATION:Porasky Range
END:VEVENT
BEGIN:VEVENT
DTSTART;TZID=America/New_York:20260621T130000
DTEND;TZID=America/New_York:20260621T150000
DTSTAMP:20260419T102458
CREATED:20251019T193323Z
LAST-MODIFIED:20260414T083129Z
UID:10002458-1782046800-1782054000@gunstuff.tv
SUMMARY:Open Trap Shoot - Weather Permitting
DESCRIPTION:Open shoot\, $5.00 per round.  The trap field is 2/10ths of a mile past the clubhouse. \nFor the latest information visit:https://www.facebook.com/groups/1663932967427026
URL:https://gunstuff.tv/event/open-trap-shoot-weather-permitting-9/
LOCATION:523 Sizer Run Road Emporium\, Emporium\, PA\, United States
GEO:41.500749;-78.322815
END:VEVENT
END:VCALENDAR