BEGIN:VCALENDAR
VERSION:2.0
PRODID:-//GunStuff TV - ECPv6.15.20//NONSGML v1.0//EN
CALSCALE:GREGORIAN
METHOD:PUBLISH
X-WR-CALNAME:GunStuff TV
X-ORIGINAL-URL:https://gunstuff.tv
X-WR-CALDESC:Events for GunStuff TV
REFRESH-INTERVAL;VALUE=DURATION:PT1H
X-Robots-Tag:noindex
X-PUBLISHED-TTL:PT1H
BEGIN:VTIMEZONE
TZID:UTC
BEGIN:STANDARD
TZOFFSETFROM:+0000
TZOFFSETTO:+0000
TZNAME:UTC
DTSTART:20250101T000000
END:STANDARD
END:VTIMEZONE
BEGIN:VTIMEZONE
TZID:America/Phoenix
BEGIN:STANDARD
TZOFFSETFROM:-0700
TZOFFSETTO:-0700
TZNAME:MST
DTSTART:20250101T000000
END:STANDARD
END:VTIMEZONE
BEGIN:VTIMEZONE
TZID:America/Chicago
BEGIN:DAYLIGHT
TZOFFSETFROM:-0600
TZOFFSETTO:-0500
TZNAME:CDT
DTSTART:20250309T080000
END:DAYLIGHT
BEGIN:STANDARD
TZOFFSETFROM:-0500
TZOFFSETTO:-0600
TZNAME:CST
DTSTART:20251102T070000
END:STANDARD
BEGIN:DAYLIGHT
TZOFFSETFROM:-0600
TZOFFSETTO:-0500
TZNAME:CDT
DTSTART:20260308T080000
END:DAYLIGHT
BEGIN:STANDARD
TZOFFSETFROM:-0500
TZOFFSETTO:-0600
TZNAME:CST
DTSTART:20261101T070000
END:STANDARD
BEGIN:DAYLIGHT
TZOFFSETFROM:-0600
TZOFFSETTO:-0500
TZNAME:CDT
DTSTART:20270314T080000
END:DAYLIGHT
BEGIN:STANDARD
TZOFFSETFROM:-0500
TZOFFSETTO:-0600
TZNAME:CST
DTSTART:20271107T070000
END:STANDARD
END:VTIMEZONE
BEGIN:VTIMEZONE
TZID:America/New_York
BEGIN:DAYLIGHT
TZOFFSETFROM:-0500
TZOFFSETTO:-0400
TZNAME:EDT
DTSTART:20250309T070000
END:DAYLIGHT
BEGIN:STANDARD
TZOFFSETFROM:-0400
TZOFFSETTO:-0500
TZNAME:EST
DTSTART:20251102T060000
END:STANDARD
BEGIN:DAYLIGHT
TZOFFSETFROM:-0500
TZOFFSETTO:-0400
TZNAME:EDT
DTSTART:20260308T070000
END:DAYLIGHT
BEGIN:STANDARD
TZOFFSETFROM:-0400
TZOFFSETTO:-0500
TZNAME:EST
DTSTART:20261101T060000
END:STANDARD
BEGIN:DAYLIGHT
TZOFFSETFROM:-0500
TZOFFSETTO:-0400
TZNAME:EDT
DTSTART:20270314T070000
END:DAYLIGHT
BEGIN:STANDARD
TZOFFSETFROM:-0400
TZOFFSETTO:-0500
TZNAME:EST
DTSTART:20271107T060000
END:STANDARD
END:VTIMEZONE
BEGIN:VEVENT
DTSTART;TZID=UTC:20260329T090000
DTEND;TZID=UTC:20260703T210000
DTSTAMP:20260419T102407
CREATED:20260330T200138Z
LAST-MODIFIED:20260406T200144Z
UID:10006626-1774774800-1783112400@gunstuff.tv
SUMMARY:Open Range W/C 29/03/2026
DESCRIPTION:
URL:https://gunstuff.tv/event/open-range-w-c-29-03-2026/
LOCATION:Tiverton Small-bore Rifle Club
END:VEVENT
BEGIN:VEVENT
DTSTART;VALUE=DATE:20260605
DTEND;VALUE=DATE:20260606
DTSTAMP:20260419T102407
CREATED:20251003T160029Z
LAST-MODIFIED:20260412T043230Z
UID:10000983-1780617600-1780703999@gunstuff.tv
SUMMARY:Across the Course Practice 6:30am Pits
DESCRIPTION:
URL:https://gunstuff.tv/event/across-the-course-practice-630am-pits-6/
LOCATION:PA
END:VEVENT
BEGIN:VEVENT
DTSTART;VALUE=DATE:20260605
DTEND;VALUE=DATE:20260606
DTSTAMP:20260419T102407
CREATED:20251005T190547Z
LAST-MODIFIED:20260412T203314Z
UID:10001721-1780617600-1780703999@gunstuff.tv
SUMMARY:Oilfield Helping Hands
DESCRIPTION:Charity sporting clays event. \nEvent flyer
URL:https://gunstuff.tv/event/oilfield-helping-hands/
LOCATION:PA
END:VEVENT
BEGIN:VEVENT
DTSTART;VALUE=DATE:20260605
DTEND;VALUE=DATE:20260606
DTSTAMP:20260419T102407
CREATED:20260213T031057Z
LAST-MODIFIED:20260410T034700Z
UID:10005245-1780617600-1780703999@gunstuff.tv
SUMMARY:Rifle range closed for steel challenge setup & shoot.
DESCRIPTION:
URL:https://gunstuff.tv/event/rifle-range-closed-for-steel-challenge-setup-shoot-6/
LOCATION:PA
END:VEVENT
BEGIN:VEVENT
DTSTART;VALUE=DATE:20260605
DTEND;VALUE=DATE:20260606
DTSTAMP:20260419T102407
CREATED:20260213T031057Z
LAST-MODIFIED:20260410T034700Z
UID:10005243-1780617600-1780703999@gunstuff.tv
SUMMARY:Competition Bays Closed for steel challenge set up
DESCRIPTION:
URL:https://gunstuff.tv/event/competition-bays-closed-for-steel-challenge-set-up-4/
LOCATION:PA
END:VEVENT
BEGIN:VEVENT
DTSTART;TZID=UTC:20260605T090000
DTEND;TZID=UTC:20260605T090000
DTSTAMP:20260419T102407
CREATED:20251031T195552Z
LAST-MODIFIED:20260415T070236Z
UID:10002825-1780650000-1780650000@gunstuff.tv
SUMMARY:2026 Kenai Peninsula Steel Challenge Classic
DESCRIPTION:2026 Kenai Peninsula Steel Challenge Classic\nMatch Status: Approved by DNROI\nMatch Starts on Jun 05\, 2026\nMatch will end Jun 07\, 2026\nMatch Location:\nSnowshoe Gun Club\n40450 Shotgun Dr.\nKenai\, AK 99611\nManaged by:\nSnowshoe Gun Club\nStage Count: 8\nRound Count: 195\nMatch Entry Fee: $25.00\nMatch Director: Steve Sheldon\nRange Master: Kevin Feller\nAdditional Details\nRegister!\nhttps://practiscore.com/2026-kenai-peninsula-steel-challenge-classic/register
URL:https://gunstuff.tv/event/2026-kenai-peninsula-steel-challenge-classic/
LOCATION:Snowshoe Gun Club\, 2298 Shotgun Dr\, Big Lake\, AK\, United States
GEO:61.559478;-149.797394
X-APPLE-STRUCTURED-LOCATION;VALUE=URI;X-ADDRESS=Snowshoe Gun Club 2298 Shotgun Dr Big Lake AK United States;X-APPLE-RADIUS=500;X-TITLE=2298 Shotgun Dr:geo:-149.797394,61.559478
END:VEVENT
BEGIN:VEVENT
DTSTART;TZID=UTC:20260605T090000
DTEND;TZID=UTC:20260605T090000
DTSTAMP:20260419T102407
CREATED:20251031T195552Z
LAST-MODIFIED:20260415T070235Z
UID:10002826-1780650000-1780650000@gunstuff.tv
SUMMARY:2026 Michigan State Steel Challenge Championship presented by American Reloading
DESCRIPTION:2026 Michigan State Steel Challenge Championship presented by American Reloading\nMatch Status: Approved by DNROI\nMatch Starts on Jun 05\, 2026\nMatch will end Jun 07\, 2026\nMatch Location:\nOakland County Sportsman’s Club\n4770 Waterford Rd\nClarkston\, MI 48346\nManaged by:\nOakland County Sportsman’s Club\nStage Count: 8\nRound Count: 195\nMatch Entry Fee: $60.00\nMatch Director: Mike Stailey\nRange Master: Eric Larsen\nAdditional Details\nRegister!\nhttps://practiscore.com/2026-michigan-state-steel-challenge-championship-presented-by-americal-reloading/register
URL:https://gunstuff.tv/event/2026-michigan-state-steel-challenge-championship/
LOCATION:Oakland County Sportsman’s Club\, 4770 Waterford Rd\, Clarkston\, MI\, United States
GEO:42.705297;-83.4014
X-APPLE-STRUCTURED-LOCATION;VALUE=URI;X-ADDRESS=Oakland County Sportsman’s Club 4770 Waterford Rd Clarkston MI United States;X-APPLE-RADIUS=500;X-TITLE=4770 Waterford Rd:geo:-83.4014,42.705297
END:VEVENT
BEGIN:VEVENT
DTSTART;TZID=UTC:20260605T090000
DTEND;TZID=UTC:20260605T090000
DTSTAMP:20260419T102407
CREATED:20260107T013338Z
LAST-MODIFIED:20260415T070235Z
UID:10003787-1780650000-1780650000@gunstuff.tv
SUMMARY:Colorado State Steel Challenge Championship
DESCRIPTION:Colorado State Steel Challenge Championship\nMatch Status: Approved by DNROI\nMatch Starts on Jun 05\, 2026\nMatch will end Jun 07\, 2026\nMatch Location:\nWeld County Practical Shooters\n38997 CR 51\nEaton\, CO 80615\nManaged by:\nWeld County Practical Shooters\nStage Count: 8\nRound Count: 250\nMatch Entry Fee: $115.00\nMatch Director: Pat Miller TY61205\nRange Master: Dave Mantelli A14102\nAdditional Details\nRegistration opened January 5\, 2026. If you are interested in ROing please contact the Match Director before registering.\nRegister!\nhttps://practiscore.com/2026-colorado-state-steel-challenge-shooting-association-championship-june-5-7-2026/register
URL:https://gunstuff.tv/event/colorado-state-steel-challenge-championship/
LOCATION:Weld County Practical Shooters\, 38997 Co Rd 51\, Eaton\, CO\, United States
GEO:40.565653;-104.583083
X-APPLE-STRUCTURED-LOCATION;VALUE=URI;X-ADDRESS=Weld County Practical Shooters 38997 Co Rd 51 Eaton CO United States;X-APPLE-RADIUS=500;X-TITLE=38997 Co Rd 51:geo:-104.583083,40.565653
END:VEVENT
BEGIN:VEVENT
DTSTART;TZID=UTC:20260605T090000
DTEND;TZID=UTC:20260605T090000
DTSTAMP:20260419T102407
CREATED:20260110T165501Z
LAST-MODIFIED:20260412T110145Z
UID:10004062-1780650000-1780650000@gunstuff.tv
SUMMARY:Pistol Clinic
DESCRIPTION:Laramie\, WY – Laramie Rifle Range\nJune 05\, 2026 (One Day Event)\nThis is a Pistol Clinic. The Pistol Clinic teaches the fundamentals of pistol/handgun safety\, accuracy\, and many other topics.\nYou must be at least 18 years of age to attend a pistol event in the State of Wyoming.\nBoth 22LR and centerfire pistol cartridges are allowed at this event.\nRegister Now\nAddress: 73 Rifle Range Road\, Laramie\, WY 82072\nWebsite: laramieriflerange.org\nPlease Read:  How to Prepare for an Event\nSafety Notice:\n–  Keep ALL firearms in your vehicle until after the safety briefing and you are instructed to bring them to the firing line.\n–  No illegal firearms are allowed.\n–  At centerfire-friendly ranges\, rifle cartridges are limited to 8mm (rifle) or .45 caliber (pistol and pistol caliber carbines).\n–  Effective 8/8/2025\, Project Appleseed has temporarily suspended the SIG-Sauer P320/M17/M18 (all variants) in our Pistol Clinics.\n–  Parents of youth attending\, please read our Message to Parents.\nSubject to state and local laws\, Instructors at your event may have discounted .22 ammo available. Reach out to the contact at the bottom of this page for availability.\nRange Fee:  $10/day range fee per person (to include LRR members).\nCamping Available:\nDry camping is available if arranged with Laramie Rifle Range one week in advance.\nHotels:\nLaramie is a University town with many hotels & restaurants within a 20 minute drive from the range.  Please check TripAdvisor.com for locations\, descriptions and ratings.\nLaramie KOA Campground\n1271 West Baker Street\, Laramie  Wyoming\n307.742.6553\nDirections:\nFrom I-80 take Curtis Street Exit (Exit 310); head East on Curtis. Cross US30/287.  Curtis becomes Reynolds. Continue East to 9th Street (approximately 1.8 miles East if I-80). Turn  left (North) on 9th Street\, which turns into Roger Canyon Road.  The Laramie Rifle Range is 4.4 miles North of Curtis/Reynolds.\nYour first landmark is the landfill on your LEFT (west side of road) about halfway between 9th Street and Rifle Range Rd.  Your second landmark is the deep right-hand curve leading to the tan metal barn with the faded Kelly green roof immediately after the curve; turn a sharp right onto Rifle Range Road immediately after the barn. Please observe speed limits; signs are badly faded and the road is well patrolled. Speeds are 30 mph in town\, 40 mph leaving town towards the dump\, and 55 mph between the dump and Rifle Range Road.\nTurn right (East) on Rifle Range Road and follow the dirt road approximately 0.5 miles to the parking lot and the Range Office.\nCanyon Range Complex\nLong range events will be held at the part of the club called the Canyon Range Complex.\nContinue up the hill about 300 yards\, turning off the road to your left. Continue to the Canyon Range sign\, turning right at the fork going up\, and then downhill to the large parking area at the 600 yard line (near the wooden outhouse). Please park with your tail to the dirt bank\, as the lot will fill quickly.\nGPS: 41.375702\,-105.539973\nState Laws to be aware of:\nIt is the responsibility of attendees to know and comply with all State and Federal Firearms Laws.\nWyoming State Firearms Laws\nMisc:\nFor more information contact:\nName: WY State Coordinator Email Address: WY@appleseedinfo.org\nName: Private Message ‘regularguy’ on Appleseed Forum Email Address: regularguy@linuxmail.org.com Phone: 307-343-5284\nName: Laramie Rifle Range Club President Email Address: president@laramieriflerange.org Phone: 307-223-1818
URL:https://gunstuff.tv/event/pistol-clinic-21/
LOCATION:Laramie Rifle Range\, 73 Rifle Range Rd\, Laramie\, WY\, United States
GEO:41.378637;-105.539887
X-APPLE-STRUCTURED-LOCATION;VALUE=URI;X-ADDRESS=Laramie Rifle Range 73 Rifle Range Rd Laramie WY United States;X-APPLE-RADIUS=500;X-TITLE=73 Rifle Range Rd:geo:-105.539887,41.378637
END:VEVENT
END:VCALENDAR