BEGIN:VCALENDAR
VERSION:2.0
PRODID:-//GunStuff TV - ECPv6.15.20//NONSGML v1.0//EN
CALSCALE:GREGORIAN
METHOD:PUBLISH
X-WR-CALNAME:GunStuff TV
X-ORIGINAL-URL:https://gunstuff.tv
X-WR-CALDESC:Events for GunStuff TV
REFRESH-INTERVAL;VALUE=DURATION:PT1H
X-Robots-Tag:noindex
X-PUBLISHED-TTL:PT1H
BEGIN:VTIMEZONE
TZID:UTC
BEGIN:STANDARD
TZOFFSETFROM:+0000
TZOFFSETTO:+0000
TZNAME:UTC
DTSTART:20250101T000000
END:STANDARD
END:VTIMEZONE
BEGIN:VTIMEZONE
TZID:America/Phoenix
BEGIN:STANDARD
TZOFFSETFROM:-0700
TZOFFSETTO:-0700
TZNAME:MST
DTSTART:20250101T000000
END:STANDARD
END:VTIMEZONE
BEGIN:VTIMEZONE
TZID:America/Chicago
BEGIN:DAYLIGHT
TZOFFSETFROM:-0600
TZOFFSETTO:-0500
TZNAME:CDT
DTSTART:20250309T080000
END:DAYLIGHT
BEGIN:STANDARD
TZOFFSETFROM:-0500
TZOFFSETTO:-0600
TZNAME:CST
DTSTART:20251102T070000
END:STANDARD
BEGIN:DAYLIGHT
TZOFFSETFROM:-0600
TZOFFSETTO:-0500
TZNAME:CDT
DTSTART:20260308T080000
END:DAYLIGHT
BEGIN:STANDARD
TZOFFSETFROM:-0500
TZOFFSETTO:-0600
TZNAME:CST
DTSTART:20261101T070000
END:STANDARD
BEGIN:DAYLIGHT
TZOFFSETFROM:-0600
TZOFFSETTO:-0500
TZNAME:CDT
DTSTART:20270314T080000
END:DAYLIGHT
BEGIN:STANDARD
TZOFFSETFROM:-0500
TZOFFSETTO:-0600
TZNAME:CST
DTSTART:20271107T070000
END:STANDARD
END:VTIMEZONE
BEGIN:VTIMEZONE
TZID:America/New_York
BEGIN:DAYLIGHT
TZOFFSETFROM:-0500
TZOFFSETTO:-0400
TZNAME:EDT
DTSTART:20250309T070000
END:DAYLIGHT
BEGIN:STANDARD
TZOFFSETFROM:-0400
TZOFFSETTO:-0500
TZNAME:EST
DTSTART:20251102T060000
END:STANDARD
BEGIN:DAYLIGHT
TZOFFSETFROM:-0500
TZOFFSETTO:-0400
TZNAME:EDT
DTSTART:20260308T070000
END:DAYLIGHT
BEGIN:STANDARD
TZOFFSETFROM:-0400
TZOFFSETTO:-0500
TZNAME:EST
DTSTART:20261101T060000
END:STANDARD
BEGIN:DAYLIGHT
TZOFFSETFROM:-0500
TZOFFSETTO:-0400
TZNAME:EDT
DTSTART:20270314T070000
END:DAYLIGHT
BEGIN:STANDARD
TZOFFSETFROM:-0400
TZOFFSETTO:-0500
TZNAME:EST
DTSTART:20271107T060000
END:STANDARD
END:VTIMEZONE
BEGIN:VEVENT
DTSTART;TZID=UTC:20260329T090000
DTEND;TZID=UTC:20260703T210000
DTSTAMP:20260419T085245
CREATED:20260330T200138Z
LAST-MODIFIED:20260406T200144Z
UID:10006626-1774774800-1783112400@gunstuff.tv
SUMMARY:Open Range W/C 29/03/2026
DESCRIPTION:
URL:https://gunstuff.tv/event/open-range-w-c-29-03-2026/
LOCATION:Tiverton Small-bore Rifle Club
END:VEVENT
BEGIN:VEVENT
DTSTART;TZID=UTC:20260521T220000
DTEND;TZID=UTC:20260522T003000
DTSTAMP:20260419T085245
CREATED:20260111T213127Z
LAST-MODIFIED:20260414T084802Z
UID:10004408-1779400800-1779409800@gunstuff.tv
SUMMARY:RMSCA Member Networking ~ South
DESCRIPTION:
URL:https://gunstuff.tv/event/rmsca-member-networking-south/
LOCATION:TBD
ORGANIZER;CN="Rocky Mountain Steel Construction Association":MAILTO:info@rmsca.org
END:VEVENT
BEGIN:VEVENT
DTSTART;VALUE=DATE:20260522
DTEND;VALUE=DATE:20260523
DTSTAMP:20260419T085245
CREATED:20251003T160029Z
LAST-MODIFIED:20260412T043230Z
UID:10000973-1779408000-1779494399@gunstuff.tv
SUMMARY:Across the Course Practice 6:30am Pits
DESCRIPTION:
URL:https://gunstuff.tv/event/across-the-course-practice-630am-pits-4/
LOCATION:PA
END:VEVENT
BEGIN:VEVENT
DTSTART;VALUE=DATE:20260522
DTEND;VALUE=DATE:20260523
DTSTAMP:20260419T085245
CREATED:20251005T190547Z
LAST-MODIFIED:20260412T203314Z
UID:10001717-1779408000-1779494399@gunstuff.tv
SUMMARY:Private Event - American Public Works Association
DESCRIPTION:
URL:https://gunstuff.tv/event/private-event-american-public-works-association/
LOCATION:PA
END:VEVENT
BEGIN:VEVENT
DTSTART;VALUE=DATE:20260522
DTEND;VALUE=DATE:20260525
DTSTAMP:20260419T085245
CREATED:20251026T194644Z
LAST-MODIFIED:20260414T083128Z
UID:10002569-1779408000-1779667199@gunstuff.tv
SUMMARY:Club Rental
DESCRIPTION:
URL:https://gunstuff.tv/event/club-rental-3/
LOCATION:523 Sizer Run Rd\, Emporium\, PA\, United States
GEO:41.51031;-78.23157
END:VEVENT
BEGIN:VEVENT
DTSTART;TZID=UTC:20260522T090000
DTEND;TZID=UTC:20260522T090000
DTSTAMP:20260419T085245
CREATED:20260228T173133Z
LAST-MODIFIED:20260415T070235Z
UID:10005885-1779440400-1779440400@gunstuff.tv
SUMMARY:2026 Utah State Steel Challenge Championship
DESCRIPTION:2026 Utah State Steel Challenge Championship\nMatch Status: Approved by DNROI\nMatch Starts on May 22\, 2026\nMatch will end May 23\, 2026\nMatch Location:\nSalt Lake Practical Shooting\n6000 W 2100 S\nSalt Lake City\, UT 84128\nManaged by:\nSalt Lake Practical Shooting\nStage Count: 8\nRound Count: 195\nMatch Entry Fee: $60.00\nMatch Director: Kepler Kramer\nRange Master: Dave Moore\nAdditional Details\nThis is an eight stage State Championship L2 match. Staff shoots on Friday 5/23 with the regular match on Saturday 5/24/26 with two flights\, morning and afternoon\, on Saturday. Competitors requesting to shoot on Friday require MD approval. Two practice stages will be available for competitors on Friday and Saturday.\nRegister!\nhttps://practiscore.com/2026-utah-state-level-2-steel-challenge-championship/register
URL:https://gunstuff.tv/event/2026-utah-state-steel-challenge-championship/
LOCATION:Salt Lake Practical Shooting\, 6000 W 2100 S\, Salt Lake City\, UT\, United States
GEO:40.726064;-112.032676
X-APPLE-STRUCTURED-LOCATION;VALUE=URI;X-ADDRESS=Salt Lake Practical Shooting 6000 W 2100 S Salt Lake City UT United States;X-APPLE-RADIUS=500;X-TITLE=6000 W 2100 S:geo:-112.032676,40.726064
END:VEVENT
END:VCALENDAR