BEGIN:VCALENDAR
VERSION:2.0
PRODID:-//GunStuff TV - ECPv6.15.20//NONSGML v1.0//EN
CALSCALE:GREGORIAN
METHOD:PUBLISH
X-ORIGINAL-URL:https://gunstuff.tv
X-WR-CALDESC:Events for GunStuff TV
REFRESH-INTERVAL;VALUE=DURATION:PT1H
X-Robots-Tag:noindex
X-PUBLISHED-TTL:PT1H
BEGIN:VTIMEZONE
TZID:UTC
BEGIN:STANDARD
TZOFFSETFROM:+0000
TZOFFSETTO:+0000
TZNAME:UTC
DTSTART:20250101T000000
END:STANDARD
END:VTIMEZONE
BEGIN:VTIMEZONE
TZID:America/Phoenix
BEGIN:STANDARD
TZOFFSETFROM:-0700
TZOFFSETTO:-0700
TZNAME:MST
DTSTART:20250101T000000
END:STANDARD
END:VTIMEZONE
BEGIN:VTIMEZONE
TZID:America/Chicago
BEGIN:DAYLIGHT
TZOFFSETFROM:-0600
TZOFFSETTO:-0500
TZNAME:CDT
DTSTART:20250309T080000
END:DAYLIGHT
BEGIN:STANDARD
TZOFFSETFROM:-0500
TZOFFSETTO:-0600
TZNAME:CST
DTSTART:20251102T070000
END:STANDARD
BEGIN:DAYLIGHT
TZOFFSETFROM:-0600
TZOFFSETTO:-0500
TZNAME:CDT
DTSTART:20260308T080000
END:DAYLIGHT
BEGIN:STANDARD
TZOFFSETFROM:-0500
TZOFFSETTO:-0600
TZNAME:CST
DTSTART:20261101T070000
END:STANDARD
BEGIN:DAYLIGHT
TZOFFSETFROM:-0600
TZOFFSETTO:-0500
TZNAME:CDT
DTSTART:20270314T080000
END:DAYLIGHT
BEGIN:STANDARD
TZOFFSETFROM:-0500
TZOFFSETTO:-0600
TZNAME:CST
DTSTART:20271107T070000
END:STANDARD
END:VTIMEZONE
BEGIN:VTIMEZONE
TZID:Europe/Berlin
BEGIN:DAYLIGHT
TZOFFSETFROM:+0100
TZOFFSETTO:+0200
TZNAME:CEST
DTSTART:20250330T010000
END:DAYLIGHT
BEGIN:STANDARD
TZOFFSETFROM:+0200
TZOFFSETTO:+0100
TZNAME:CET
DTSTART:20251026T010000
END:STANDARD
BEGIN:DAYLIGHT
TZOFFSETFROM:+0100
TZOFFSETTO:+0200
TZNAME:CEST
DTSTART:20260329T010000
END:DAYLIGHT
BEGIN:STANDARD
TZOFFSETFROM:+0200
TZOFFSETTO:+0100
TZNAME:CET
DTSTART:20261025T010000
END:STANDARD
BEGIN:DAYLIGHT
TZOFFSETFROM:+0100
TZOFFSETTO:+0200
TZNAME:CEST
DTSTART:20270328T010000
END:DAYLIGHT
BEGIN:STANDARD
TZOFFSETFROM:+0200
TZOFFSETTO:+0100
TZNAME:CET
DTSTART:20271031T010000
END:STANDARD
END:VTIMEZONE
BEGIN:VTIMEZONE
TZID:America/Los_Angeles
BEGIN:DAYLIGHT
TZOFFSETFROM:-0800
TZOFFSETTO:-0700
TZNAME:PDT
DTSTART:20250309T100000
END:DAYLIGHT
BEGIN:STANDARD
TZOFFSETFROM:-0700
TZOFFSETTO:-0800
TZNAME:PST
DTSTART:20251102T090000
END:STANDARD
BEGIN:DAYLIGHT
TZOFFSETFROM:-0800
TZOFFSETTO:-0700
TZNAME:PDT
DTSTART:20260308T100000
END:DAYLIGHT
BEGIN:STANDARD
TZOFFSETFROM:-0700
TZOFFSETTO:-0800
TZNAME:PST
DTSTART:20261101T090000
END:STANDARD
BEGIN:DAYLIGHT
TZOFFSETFROM:-0800
TZOFFSETTO:-0700
TZNAME:PDT
DTSTART:20270314T100000
END:DAYLIGHT
BEGIN:STANDARD
TZOFFSETFROM:-0700
TZOFFSETTO:-0800
TZNAME:PST
DTSTART:20271107T090000
END:STANDARD
END:VTIMEZONE
BEGIN:VTIMEZONE
TZID:America/New_York
BEGIN:DAYLIGHT
TZOFFSETFROM:-0500
TZOFFSETTO:-0400
TZNAME:EDT
DTSTART:20250309T070000
END:DAYLIGHT
BEGIN:STANDARD
TZOFFSETFROM:-0400
TZOFFSETTO:-0500
TZNAME:EST
DTSTART:20251102T060000
END:STANDARD
BEGIN:DAYLIGHT
TZOFFSETFROM:-0500
TZOFFSETTO:-0400
TZNAME:EDT
DTSTART:20260308T070000
END:DAYLIGHT
BEGIN:STANDARD
TZOFFSETFROM:-0400
TZOFFSETTO:-0500
TZNAME:EST
DTSTART:20261101T060000
END:STANDARD
BEGIN:DAYLIGHT
TZOFFSETFROM:-0500
TZOFFSETTO:-0400
TZNAME:EDT
DTSTART:20270314T070000
END:DAYLIGHT
BEGIN:STANDARD
TZOFFSETFROM:-0400
TZOFFSETTO:-0500
TZNAME:EST
DTSTART:20271107T060000
END:STANDARD
END:VTIMEZONE
BEGIN:VEVENT
DTSTART;TZID=UTC:20260329T090000
DTEND;TZID=UTC:20260703T210000
DTSTAMP:20260419T085444
CREATED:20260330T200138Z
LAST-MODIFIED:20260406T200144Z
UID:10006626-1774774800-1783112400@gunstuff.tv
SUMMARY:Open Range W/C 29/03/2026
DESCRIPTION:
URL:https://gunstuff.tv/event/open-range-w-c-29-03-2026/
LOCATION:Tiverton Small-bore Rifle Club
END:VEVENT
BEGIN:VEVENT
DTSTART;VALUE=DATE:20260508
DTEND;VALUE=DATE:20260509
DTSTAMP:20260419T085444
CREATED:20251003T160028Z
LAST-MODIFIED:20260412T043229Z
UID:10000964-1778198400-1778284799@gunstuff.tv
SUMMARY:Across the Course Practice 6:30am Pits
DESCRIPTION:
URL:https://gunstuff.tv/event/across-the-course-practice-630am-pits-2/
LOCATION:PA
END:VEVENT
BEGIN:VEVENT
DTSTART;VALUE=DATE:20260508
DTEND;VALUE=DATE:20260509
DTSTAMP:20260419T085444
CREATED:20251005T190547Z
LAST-MODIFIED:20260412T203314Z
UID:10001715-1778198400-1778284799@gunstuff.tv
SUMMARY:SA Pipeliners Midstream Classic
DESCRIPTION:Sporting Clay Charity Shoot.
URL:https://gunstuff.tv/event/sa-pipeliners-midstream-classic/
LOCATION:PA
END:VEVENT
BEGIN:VEVENT
DTSTART;TZID=Europe/Berlin:20260508T000000
DTEND;TZID=Europe/Berlin:20260510T235900
DTSTAMP:20260419T085444
CREATED:20251106T204551Z
LAST-MODIFIED:20260411T174700Z
UID:10002936-1778198400-1778457540@gunstuff.tv
SUMMARY:Benelli German National Shotgun 2026
DESCRIPTION:https://ipscmatch.de/m/Benelli_German_National_Shotgun_2026
URL:https://gunstuff.tv/event/benelli-german-national-shotgun-2026/
LOCATION:Philippsburg
ORGANIZER;CN="Bund Deutscher Sportsch%C3%BCtzen 1975 e.V.%2C Birkenring 5%2C 16356 Ahrensfelde%2C Email%3A info@bdsnet.de":MAILTO:sportdirektor@bdsnet.de
END:VEVENT
BEGIN:VEVENT
DTSTART;TZID=America/Chicago:20260508T080000
DTEND;TZID=America/Chicago:20260508T130000
DTSTAMP:20260419T085444
CREATED:20260414T024729Z
LAST-MODIFIED:20260414T024729Z
UID:10007481-1778227200-1778245200@gunstuff.tv
SUMMARY:Clays for Cabins
DESCRIPTION:Join us for our 6th Annual Clays 4 Cabins Clay Shoot!\n\n\nClays 4 Cabins helps raise funds to restore historic Log Cabins in Pioneer Park at the Doss Heritage and Culture Center. This event helps support our park project and bring it to life for future generations through educational programs and tours\n\nSchedule:\n\n\n8:45 AM Welcome and safety Meeting\n9 AM shooting starts\nLunch and Awards after shooting concludes \n\n\nFor Sponsorship opportunities contact Lorraine Crutcher – development@dosscenter.org\nFor more information visit our website or contact Lorraine Crutcher (817) 599-6168 or development@dosscenter.org \nREGISTER HERE
URL:https://gunstuff.tv/event/clays-for-cabins/
LOCATION:Clay Sports Ranch\, 8270 Aledo Road\, Fort Worth\, TX\, 76126\, United States
CATEGORIES:Clay Sports Ranch Events
ATTACH;FMTTYPE=image/png:https://gunstuff.tv/wp-content/uploads/2026/04/Clays-for-Cabins-Sponsorship-Opportunities-2025-1-D5hE2Q.png
ORGANIZER;CN="Doss Heritage &#038%3B Culture Center":MAILTO:events@dosscenter.org
END:VEVENT
BEGIN:VEVENT
DTSTART;TZID=America/Chicago:20260508T080000
DTEND;TZID=America/Chicago:20260508T150000
DTSTAMP:20260419T085444
CREATED:20260410T054722Z
LAST-MODIFIED:20260410T054816Z
UID:10007403-1778227200-1778252400@gunstuff.tv
SUMMARY:Humphrey and Assoc
DESCRIPTION:Sporting Clay Shoot on one of our three sporting clay shoots.
URL:https://gunstuff.tv/event/humphrey-and-assoc/
LOCATION:5H Shooting Sports\, 19105 Co Rd 4235\, Frankston\, TX\, United States
END:VEVENT
BEGIN:VEVENT
DTSTART;TZID=America/Los_Angeles:20260508T090000
DTEND;TZID=America/Los_Angeles:20260508T170000
DTSTAMP:20260419T085444
CREATED:20260410T194640Z
LAST-MODIFIED:20260410T194640Z
UID:10007431-1778230800-1778259600@gunstuff.tv
SUMMARY:Action Pistol – RO Practice
DESCRIPTION:This practice is for Diablo Range Officers only.  Do not show up if you are not a Diablo Range Officer.
URL:https://gunstuff.tv/event/action-pistol-ro-practice-31/
LOCATION:Action Pistol Range\, 4700 Evora Road\, Concord\, CA\, 94520
CATEGORIES:Diablo Action Pistol
ATTACH;FMTTYPE=image/jpeg:https://gunstuff.tv/wp-content/uploads/2025/10/range_officer-e1638567606101-fR8pOy.jpg
ORGANIZER;CN="Blade Benson":MAILTO:matchsupport@diabloactionpistol.com
GEO:42.705297;-83.4014
X-APPLE-STRUCTURED-LOCATION;VALUE=URI;X-ADDRESS=Action Pistol Range 4700 Evora Road Concord CA 94520;X-APPLE-RADIUS=500;X-TITLE=4700 Evora Road:geo:-83.4014,42.705297
END:VEVENT
BEGIN:VEVENT
DTSTART;TZID=America/Chicago:20260508T100000
DTEND;TZID=America/Chicago:20260508T170000
DTSTAMP:20260419T085444
CREATED:20260414T024732Z
LAST-MODIFIED:20260414T024732Z
UID:10007482-1778234400-1778259600@gunstuff.tv
SUMMARY:Full Auto Friday
DESCRIPTION:Every Friday is Full Auto Friday at Defender! Pick any full auto you want from our rental wall\, and then just buy the box of ammo\, and you’re on your way to having some serious fun. Shoot as much as you want because your target\, eye and ear protection\, range fee* and machine gun rental is all included! \n*Range fee only for full auto use. Standard range fees apply for general pistol and rifle shooting lanes.
URL:https://gunstuff.tv/event/full-auto-friday-36/
LOCATION:Shooting Center\, 2900 Shotts Street\, Fort Worth\, TX\, 76107
CATEGORIES:Shooting Center,Shooting Center Events
ATTACH;FMTTYPE=image/jpeg:https://gunstuff.tv/wp-content/uploads/2026/03/Full-Auto-Friday-Hahtdd-tZAQXN.jpg
ORGANIZER;CN="Defender Outdoors Shooting Center Events":MAILTO:info@defenderoutdoors.com
END:VEVENT
BEGIN:VEVENT
DTSTART;TZID=America/New_York:20260508T120000
DTEND;TZID=America/New_York:20260508T200000
DTSTAMP:20260419T085444
CREATED:20251012T173815Z
LAST-MODIFIED:20260412T184749Z
UID:10002098-1778241600-1778270400@gunstuff.tv
SUMMARY:IDPA/GPA Match Setup
DESCRIPTION:Culver Range closed for monthly IDPA Match setup. Contact idpa@fxrgc.org for more info.
URL:https://gunstuff.tv/event/idpa-match-setup-5/
LOCATION:Culver Range
END:VEVENT
BEGIN:VEVENT
DTSTART;TZID=America/Los_Angeles:20260508T173000
DTEND;TZID=America/Los_Angeles:20260508T200000
DTSTAMP:20260419T085444
CREATED:20260410T194638Z
LAST-MODIFIED:20260410T194638Z
UID:10007425-1778261400-1778270400@gunstuff.tv
SUMMARY:10 Meter Indoor Airgun Match
DESCRIPTION:The Airgun League runs from January through May. The shoots are on the 2nd and 4th Friday of each of those months with events for rifle and pistol. \nAll shooting is done offhand (standing) at paper targets. The format is “shoulder to shoulder”\, without point dividers\, so some shooting experience is required. There is no coaching or spotting (by another person for the shooter) permitted during the “record” firing periods. \n\nAll shoots are held in the clubhouse and there are club guns available for those of you who don’t have their own.\nJuniors (ages 8 to 18) shoot free\, but those over 16 shoot in the adult classifications.\nCompetition is by classification (shooting against other shooters in your class) except for the high overall scores. A total of twenty (20) shots are fired for record over the course of two ten-minute record firing periods. A five-minute “sight-in” firing period is held before each squad begins shooting for record.\nWe offer two relays per evening ($2.50 relay) – you can shoot rifle/pistol or rifle/rifle if desired\n\nFor further information contact \n\n \n  \nDiabloAirGun@Outlook.com
URL:https://gunstuff.tv/event/10-meter-indoor-airgun-match-8/
LOCATION:USI Clubhouse\, 4700 Evora Rd.\, Concord\, CA\, 94521
CATEGORIES:Airgun
ATTACH;FMTTYPE=image/png:https://gunstuff.tv/wp-content/uploads/2025/12/unnamed-BQHRtY.png
ORGANIZER;CN="Martin O&#8217%3BConnor":MAILTO:Membership@Diablorodandgun.com
END:VEVENT
END:VCALENDAR