BEGIN:VCALENDAR
VERSION:2.0
PRODID:-//GunStuff TV - ECPv6.15.20//NONSGML v1.0//EN
CALSCALE:GREGORIAN
METHOD:PUBLISH
X-WR-CALNAME:GunStuff TV
X-ORIGINAL-URL:https://gunstuff.tv
X-WR-CALDESC:Events for GunStuff TV
REFRESH-INTERVAL;VALUE=DURATION:PT1H
X-Robots-Tag:noindex
X-PUBLISHED-TTL:PT1H
BEGIN:VTIMEZONE
TZID:UTC
BEGIN:STANDARD
TZOFFSETFROM:+0000
TZOFFSETTO:+0000
TZNAME:UTC
DTSTART:20250101T000000
END:STANDARD
END:VTIMEZONE
BEGIN:VTIMEZONE
TZID:America/Chicago
BEGIN:DAYLIGHT
TZOFFSETFROM:-0600
TZOFFSETTO:-0500
TZNAME:CDT
DTSTART:20250309T080000
END:DAYLIGHT
BEGIN:STANDARD
TZOFFSETFROM:-0500
TZOFFSETTO:-0600
TZNAME:CST
DTSTART:20251102T070000
END:STANDARD
BEGIN:DAYLIGHT
TZOFFSETFROM:-0600
TZOFFSETTO:-0500
TZNAME:CDT
DTSTART:20260308T080000
END:DAYLIGHT
BEGIN:STANDARD
TZOFFSETFROM:-0500
TZOFFSETTO:-0600
TZNAME:CST
DTSTART:20261101T070000
END:STANDARD
BEGIN:DAYLIGHT
TZOFFSETFROM:-0600
TZOFFSETTO:-0500
TZNAME:CDT
DTSTART:20270314T080000
END:DAYLIGHT
BEGIN:STANDARD
TZOFFSETFROM:-0500
TZOFFSETTO:-0600
TZNAME:CST
DTSTART:20271107T070000
END:STANDARD
END:VTIMEZONE
BEGIN:VTIMEZONE
TZID:America/Los_Angeles
BEGIN:DAYLIGHT
TZOFFSETFROM:-0800
TZOFFSETTO:-0700
TZNAME:PDT
DTSTART:20250309T100000
END:DAYLIGHT
BEGIN:STANDARD
TZOFFSETFROM:-0700
TZOFFSETTO:-0800
TZNAME:PST
DTSTART:20251102T090000
END:STANDARD
BEGIN:DAYLIGHT
TZOFFSETFROM:-0800
TZOFFSETTO:-0700
TZNAME:PDT
DTSTART:20260308T100000
END:DAYLIGHT
BEGIN:STANDARD
TZOFFSETFROM:-0700
TZOFFSETTO:-0800
TZNAME:PST
DTSTART:20261101T090000
END:STANDARD
BEGIN:DAYLIGHT
TZOFFSETFROM:-0800
TZOFFSETTO:-0700
TZNAME:PDT
DTSTART:20270314T100000
END:DAYLIGHT
BEGIN:STANDARD
TZOFFSETFROM:-0700
TZOFFSETTO:-0800
TZNAME:PST
DTSTART:20271107T090000
END:STANDARD
END:VTIMEZONE
BEGIN:VTIMEZONE
TZID:America/New_York
BEGIN:DAYLIGHT
TZOFFSETFROM:-0500
TZOFFSETTO:-0400
TZNAME:EDT
DTSTART:20250309T070000
END:DAYLIGHT
BEGIN:STANDARD
TZOFFSETFROM:-0400
TZOFFSETTO:-0500
TZNAME:EST
DTSTART:20251102T060000
END:STANDARD
BEGIN:DAYLIGHT
TZOFFSETFROM:-0500
TZOFFSETTO:-0400
TZNAME:EDT
DTSTART:20260308T070000
END:DAYLIGHT
BEGIN:STANDARD
TZOFFSETFROM:-0400
TZOFFSETTO:-0500
TZNAME:EST
DTSTART:20261101T060000
END:STANDARD
BEGIN:DAYLIGHT
TZOFFSETFROM:-0500
TZOFFSETTO:-0400
TZNAME:EDT
DTSTART:20270314T070000
END:DAYLIGHT
BEGIN:STANDARD
TZOFFSETFROM:-0400
TZOFFSETTO:-0500
TZNAME:EST
DTSTART:20271107T060000
END:STANDARD
END:VTIMEZONE
BEGIN:VEVENT
DTSTART;TZID=UTC:20260329T090000
DTEND;TZID=UTC:20260703T210000
DTSTAMP:20260419T102423
CREATED:20260330T200138Z
LAST-MODIFIED:20260406T200144Z
UID:10006626-1774774800-1783112400@gunstuff.tv
SUMMARY:Open Range W/C 29/03/2026
DESCRIPTION:
URL:https://gunstuff.tv/event/open-range-w-c-29-03-2026/
LOCATION:Tiverton Small-bore Rifle Club
END:VEVENT
BEGIN:VEVENT
DTSTART;VALUE=DATE:20260506
DTEND;VALUE=DATE:20260507
DTSTAMP:20260419T102423
CREATED:20251005T190050Z
LAST-MODIFIED:20260412T200129Z
UID:10001669-1778025600-1778111999@gunstuff.tv
SUMMARY:Wednesday Registered Skeet
DESCRIPTION:Registered Skeet.  Contact Jerry Adams at 240-605-3220 for details. \nClick here for flyer
URL:https://gunstuff.tv/event/wednesday-registered-skeet-9/
LOCATION:PA
END:VEVENT
BEGIN:VEVENT
DTSTART;TZID=America/Los_Angeles:20260506T090000
DTEND;TZID=America/Los_Angeles:20260506T120000
DTSTAMP:20260419T102423
CREATED:20260410T194637Z
LAST-MODIFIED:20260410T194637Z
UID:10007419-1778058000-1778068800@gunstuff.tv
SUMMARY:Airgun Wednesdays
DESCRIPTION:Fun Airgun Only shooting session at the MPR- look for the big red flag on the pole that says “MPR”- that’s us! \nOpen to public\, airguns .30 cal and below. Benches available\, targets and stands\, 200 yard range. Good group of people. \nAll types of airguns- springers\, PCP’s\, Pistols.  Eye protection required\, ear protection optional \nNo bb\, darts or airsoft please. \n$15 Guest\n$10 for Diablo members (did you know Diablo membership is only $25 a year?)\n$5 for those special few that have purchased a USI VIP card.\nYouths accompanied by a Club member adult shoot free.\n \n\nUSI waiver must signed prior to shoot\, you can do so prior to attending: \n\n\nWaiver \n\n\nContact: \nSam Russo \nthePelleteer@gmail.com
URL:https://gunstuff.tv/event/airgun-wednesdays-30/
LOCATION:USI Multi Purpose Range\, 4700 Evora Road\, Concord\, CA\, 94520
CATEGORIES:Airgun
ATTACH;FMTTYPE=image/jpeg:https://gunstuff.tv/wp-content/uploads/2025/10/4MRvVFxy_400x400-e1623188943149-4rbkn0.jpg
ORGANIZER;CN="Sam Russo":MAILTO:airgun_fieldtarget@diablorodandgun.com
END:VEVENT
BEGIN:VEVENT
DTSTART;TZID=America/Chicago:20260506T090000
DTEND;TZID=America/Chicago:20260506T180000
DTSTAMP:20260419T102423
CREATED:20260407T023239Z
LAST-MODIFIED:20260414T024729Z
UID:10006872-1778058000-1778090400@gunstuff.tv
SUMMARY:Spring League
DESCRIPTION:Birds are flying and spring is in the air and you know what else in the skies? Some clays ready to get dusted! The Defender Outdoors Clay Sports Ranch Spring League is an 8 week shooting league where you’ll squad up and compete for awards and bragging rights. Then we’ll all get together at the end to party it up and toast to a season well shot! \nWHEN:\nStart the week of March 18th\, Shoot on 3/18\, 3/25\, 4/1\, 4/8\, SKIP 4/15 week due to State\, 4/22\, 4/29\, 5/6\, 5/13 and League Dinner Party/Awards on May 20th \n***Teams and Individuals can shoot anytime between Wednesday at 10AM and Sunday close of business each week.*** \nBASICS:\nLeague scores based on 50 targets per week.   \n(Practice course and 5-stand will also be available prior and after weekly rounds)  \nTARGETS:\nEnjoyable targets will be set by Gary Madigan and Team \nPRICE:\nPrice for league is $290 for all 8 weeks which includes the League Party dinner/awards.   \nTEAMS:\nA team is required to have a minimum of 4 shooters and a maximum of 6 shooters. Team scores will take the highest 4 shooters including handicap for the weekly total. Team rosters must be finalized by the end of the first week. Individual shooters will be grouped to form teams as needed\, and each shooter may compete on only one team per league. \nHANDICAPS:\nHandicaps are calculated by using the shooter’s weekly score\, then subtracting it from “par”\, which is 45 and multiplying the difference times .70 (70%) Example: If a shooter’s score is 30 the equation is 45-30=15 x .70 = 10.5. the product (in the example 10.5) will be added to the shooter’s score. Handicaps adjusted each week. Maximum score with handicap is 45. \nWEATHER and MAKE-UP ROUNDS:\nIf you are not able to make it on the scheduled evening\, bank scores must be made up by Sunday of that week or you will be given an average of 2 other weeks scores for that week. The same for weather related cancelations. \nTROPHIES and AWARDS:\n\nIndividual awards:\n\nHOA\, HOA Runner-Up\, A Class First\, B Class First\, High Junior\, RU Junior\, High Lady\, RU Lady\, Lady 3rd\, Lady 4th\, Most Improved\n\n\nTeam Awards:\n\nFirst\, Second\, A Class First Place\n\n\n\nSign-Up:\nSign up on Scorechaser.com and email Jessica@defenderoutdoors.com with any registration questions. \nQUESTIONS AND CONCERNS:\nPlease contact Travis Mears at 817-980-4345 or travis@defenderoutdoors.com
URL:https://gunstuff.tv/event/spring-league-12/
LOCATION:Clay Sports Ranch\, 8270 Aledo Road\, Fort Worth\, TX\, 76126\, United States
CATEGORIES:Clay Sports Ranch Events
ATTACH;FMTTYPE=image/jpeg:https://gunstuff.tv/wp-content/uploads/2026/03/Spring-League-2026-Flyer-scaled-t3z5IU-ZDm5RB.jpg
ORGANIZER;CN="Defender Outdoors Clay Sports Ranch":MAILTO:jessica@defenderoutdoors.com
END:VEVENT
BEGIN:VEVENT
DTSTART;TZID=America/Chicago:20260506T100000
DTEND;TZID=America/Chicago:20260506T110000
DTSTAMP:20260419T102423
CREATED:20260407T023239Z
LAST-MODIFIED:20260414T024729Z
UID:10006873-1778061600-1778065200@gunstuff.tv
SUMMARY:LTC Qualification
DESCRIPTION:Are you a student who has taken an online LTC Course and need to complete your shooting qualification? Defender offers the LTC shooting proficiency portion every week. \nThe shooting qualification requires that you must be able to load\, unload\, and fire the handgun proficiently. If you are new to or inexperienced with shooting we strongly recommend taking either the LTC Prep or Handgun Fundamentals course. This course does not teach basic firearm skills or shooting instruction. (More info) \nPlease arrive a few minutes early to check in and bring a printed copy of your LTC 104 form. \nOur shooting qualification schedule is as follows: \n\nWednesdays – 10:00am\nSaturdays – 8:00am\n\nNo appointment needed\, you can simply walk-in during these available times. \nPlease bring the following: \n\nLTC 104 Form\nFirearm (rental available at additional charge)\n1 magazine\n50 rounds of ammo (ammunition is available for purchase at time of session)\nEye and Ear Protection (rentals available)\n\nREGISTER NOW
URL:https://gunstuff.tv/event/ltc-qualification-64/
LOCATION:Shooting Center\, 2900 Shotts Street\, Fort Worth\, TX\, 76107
CATEGORIES:Shooting Center,Shooting Center Training
ATTACH;FMTTYPE=image/jpeg:https://gunstuff.tv/wp-content/uploads/2025/10/LTC-Qualification-vTp9PG.jpg
ORGANIZER;CN="Defender Outdoors Shooting Center Training":MAILTO:info@defenderoutdoors.com
END:VEVENT
BEGIN:VEVENT
DTSTART;TZID=America/Los_Angeles:20260506T120000
DTEND;TZID=America/Los_Angeles:20260506T160000
DTSTAMP:20260419T102423
CREATED:20260410T194637Z
LAST-MODIFIED:20260410T194637Z
UID:10007420-1778068800-1778083200@gunstuff.tv
SUMMARY:.22 Silhouette Practice and Airguns welcome!
DESCRIPTION:22 Rimfire and Air guns only- Silhouette target shooting at the MPR. \nOffhand/Standing shooting at Metal Animal silhouettes with rifles or pistols\, open or scoped sights allowed. \nBenches are available during this practice period every Wednesday \nMembers of all 5 clubs are welcome.\n Fees are collected at the Multi Purpose Range\, not at the USI Clubhouse .\nThe MPR is the building on the right hand side as you pass the Public Range\, but before the Impalement Arts Range.\nLook for the red MPR flag on the flag post- that’s us!\n\nUSI waiver and a Blue Card issued from the USI clubhouse required prior to the match- there is no charge to these one time processes.\n\nA silhouette is a steel profile of an animal (chicken\, pig\, turkey\, or ram) standing on a pedestal. The object of the game is to knock as many silhouettes as possible off the stand\, shooting one round at each silhouette. It is a very simple competition\, with very simple scoring: Knocking an animal off its stand counts as a hit.\n\nAlthough silhouette is an easy game to learn\, it is not an easy game to master. The animals are rather small and the distances can reach out a bit; you must shoot offhand (standing); a moderate breeze can move a bullet or a pellet the width of an animal; your concentration becomes more difficult to hold as you knock down five in a row or with a close miss.  Silhouette is an endless challenge that makes you a better shooter!\nThis is a reoccurring event every Week- we intend to host this practice barring weather or extraordinary barriers preventing the event from occurring in a safe environment. Heavy fog\, severe weather or other acts of nature could force a postponement.\n\n+ GOOGLE CALENDAR+ ICAL EXPORT\n\n\nRelated Events
URL:https://gunstuff.tv/event/22-silhouette-practice-and-airguns-welcome-30/
LOCATION:USI Multi Purpose Range\, 4700 Evora Road\, Concord\, CA\, 94520
CATEGORIES:Airgun,Silhouette Shooting
ATTACH;FMTTYPE=image/jpeg:https://gunstuff.tv/wp-content/uploads/2025/10/Silhouette_Target_1-05Bdxg.jpg
ORGANIZER;CN="Dennis Winslow":MAILTO:dmwinslow@aol.com
END:VEVENT
BEGIN:VEVENT
DTSTART;TZID=America/New_York:20260506T130000
DTEND;TZID=America/New_York:20260506T160000
DTSTAMP:20260419T102423
CREATED:20260407T020229Z
LAST-MODIFIED:20260414T021701Z
UID:10006863-1778072400-1778083200@gunstuff.tv
SUMMARY:Intro to How to Use your Conceal Carry Purse\, Bag.
DESCRIPTION:Hey Everyone \n\n\nDo you want to carry concealed\, but are just not ready to carry on body? \n\n\nDo you normally carry on body but occasionally wish for another safe option? \n\n\nDo you ever just throw a gun in your purse and think you’re good to go? \n\n\nIt’s time to elevate your off body carry skills and be responsible for your own personal safety. \n\n\nSign up for our CONCEAL Carry Course today and you will empower yourself with the skills and knowledge to properly carry your handgun \n\n\n\nStudents need to bring their purse /bag/sling and bring firearm if they already have it. But we will also have plenty for them to try.
URL:https://gunstuff.tv/event/intro-to-how-to-use-your-conceal-carry-purse-bag-4/
LOCATION:Appalacian Gun\, Pawn & Range\, 140 Shelby Ln.\, Jasper\, GA\, 30143\, United States
CATEGORIES:Basic,firearm-safety,Safe Gun
ORGANIZER;CN="Appalachian Gun":MAILTO:Appalachiangun@gmail.com
END:VEVENT
BEGIN:VEVENT
DTSTART;TZID=America/New_York:20260506T153000
DTEND;TZID=America/New_York:20260506T173000
DTSTAMP:20260419T102423
CREATED:20251228T204644Z
LAST-MODIFIED:20260414T083127Z
UID:10003673-1778081400-1778088600@gunstuff.tv
SUMMARY:CamCo Clay Crushers Practice
DESCRIPTION:*Please dress appropriately for the weather conditions\, layers are a great idea!**Follow the Facebook page (Cameron County Clay Crushers) for all up to date information.***Any questions please contact Coach Mike 814-203-2624 or Coach Sabrina 814-203-2590.
URL:https://gunstuff.tv/event/camco-clay-crushers-practice-10/
LOCATION:523 Sizer Run Rd\, Emporium\, PA\, United States
GEO:41.51031;-78.23157
END:VEVENT
BEGIN:VEVENT
DTSTART;TZID=UTC:20260506T164500
DTEND;TZID=UTC:20260506T164500
DTSTAMP:20260419T102423
CREATED:20260121T014635Z
LAST-MODIFIED:20260401T070141Z
UID:10004635-1778085900-1778085900@gunstuff.tv
SUMMARY:Bass River Weds Nite Steel
DESCRIPTION:Bass River Weds Nite Steel\nDate: 5/06/26\nStart Time: 4:45 PM\nLocation:\nBass River Rod & Gun Club (SCSA467)\nBass River Rod &Gun 620 Rt. 6A\nYarmouthport\, MA\nEvent Contact Information\nTimothy J Kent\n5082372137\ntjkent@comcast.net\nEvent Website\nhttps://www.bassriverrodandgun.com/
URL:https://gunstuff.tv/event/bass-river-weds-nite-steel-2/
LOCATION:Bass River Rod & Gun Club (SCSA467)\, 79 State Rte 6 Alt\, Dennis\, MA\, United States
GEO:41.721025;-70.196653
X-APPLE-STRUCTURED-LOCATION;VALUE=URI;X-ADDRESS=Bass River Rod & Gun Club (SCSA467) 79 State Rte 6 Alt Dennis MA United States;X-APPLE-RADIUS=500;X-TITLE=79 State Rte 6 Alt:geo:-70.196653,41.721025
END:VEVENT
BEGIN:VEVENT
DTSTART;TZID=America/Los_Angeles:20260506T170000
DTEND;TZID=America/Los_Angeles:20260506T220000
DTSTAMP:20260419T102423
CREATED:20260111T220128Z
LAST-MODIFIED:20260405T223147Z
UID:10004418-1778086800-1778104800@gunstuff.tv
SUMMARY:MOORE N MOORE - NIGHT SHOOT & BBQ
DESCRIPTION:For more information\, contact Moore N Moore at https://www.moorenmoore.com/night-shooting/
URL:https://gunstuff.tv/event/moore-n-moore-night-shoot-bbq-29/
LOCATION:Moore N Moore Sporting Clays\, 12653 Little Tujunga Canyon Rd\, Sylmar\, CA\, United States
CATEGORIES:Moore N Moore
ATTACH;FMTTYPE=image/png:https://gunstuff.tv/wp-content/uploads/2025/10/image-pjjZEf.png
ORGANIZER;CN="Moore N Moore Sporting Clays":MAILTO:info@moorenmoore.com
GEO:34.282317;-118.371281
X-APPLE-STRUCTURED-LOCATION;VALUE=URI;X-ADDRESS=Moore N Moore Sporting Clays 12653 Little Tujunga Canyon Rd Sylmar CA United States;X-APPLE-RADIUS=500;X-TITLE=12653 Little Tujunga Canyon Rd:geo:-118.371281,34.282317
END:VEVENT
BEGIN:VEVENT
DTSTART;TZID=America/New_York:20260506T173000
DTEND;TZID=America/New_York:20260506T203000
DTSTAMP:20260419T102423
CREATED:20260407T020229Z
LAST-MODIFIED:20260414T021701Z
UID:10006864-1778088600-1778099400@gunstuff.tv
SUMMARY:Intro to How to Use your Conceal Carry Purse\, Bag.
DESCRIPTION:Hey Everyone \n\n\nDo you want to carry concealed\, but are just not ready to carry on body? \n\n\nDo you normally carry on body but occasionally wish for another safe option? \n\n\nDo you ever just throw a gun in your purse and think you’re good to go? \n\n\nIt’s time to elevate your off body carry skills and be responsible for your own personal safety. \n\n\nSign up for our CONCEAL Carry Course today and you will empower yourself with the skills and knowledge to properly carry your handgun \n\n\n\nStudents need to bring their purse /bag/sling and bring firearm if they already have it. But we will also have plenty for them to try.
URL:https://gunstuff.tv/event/intro-to-how-to-use-your-conceal-carry-purse-bag-5/
LOCATION:Appalacian Gun\, Pawn & Range\, 140 Shelby Ln.\, Jasper\, GA\, 30143\, United States
CATEGORIES:Basic,firearm-safety,Safe Gun
ORGANIZER;CN="Appalachian Gun":MAILTO:Appalachiangun@gmail.com
END:VEVENT
BEGIN:VEVENT
DTSTART;TZID=America/Chicago:20260506T183000
DTEND;TZID=America/Chicago:20260506T193000
DTSTAMP:20260419T102423
CREATED:20251118T214644Z
LAST-MODIFIED:20260414T221629Z
UID:10003160-1778092200-1778095800@gunstuff.tv
SUMMARY:Madison County Townhall Meeting
DESCRIPTION:Come out and join your friends at the ISRA Madison County Townhall meeting starting at 6:30 pm. As always\, we will discuss current events.\nCome join us and enjoy great company at our gracious host\, Piasa Armory.
URL:https://gunstuff.tv/event/madison-county-grassroots-meeting-5/
LOCATION:Piasa Armory\, East Alton\, IL\, United States
CATEGORIES:Event Calendar
GEO:38.876483;-90.109493
END:VEVENT
BEGIN:VEVENT
DTSTART;TZID=America/New_York:20260506T190000
DTEND;TZID=America/New_York:20260506T210000
DTSTAMP:20260419T102423
CREATED:20251207T181648Z
LAST-MODIFIED:20260412T184749Z
UID:10003451-1778094000-1778101200@gunstuff.tv
SUMMARY:Wednesday Night Trap League
DESCRIPTION:https://www.fxrgc.org/shotgun/wednesday-night-trap-league/ \nShotgun Fields 1-8.
URL:https://gunstuff.tv/event/wednesday-night-trap-league-16/
LOCATION:Fields 1-8
END:VEVENT
END:VCALENDAR