BEGIN:VCALENDAR
VERSION:2.0
PRODID:-//GunStuff TV - ECPv6.15.20//NONSGML v1.0//EN
CALSCALE:GREGORIAN
METHOD:PUBLISH
X-ORIGINAL-URL:https://gunstuff.tv
X-WR-CALDESC:Events for GunStuff TV
REFRESH-INTERVAL;VALUE=DURATION:PT1H
X-Robots-Tag:noindex
X-PUBLISHED-TTL:PT1H
BEGIN:VTIMEZONE
TZID:UTC
BEGIN:STANDARD
TZOFFSETFROM:+0000
TZOFFSETTO:+0000
TZNAME:UTC
DTSTART:20250101T000000
END:STANDARD
END:VTIMEZONE
BEGIN:VTIMEZONE
TZID:UTC
BEGIN:STANDARD
TZOFFSETFROM:+0000
TZOFFSETTO:+0000
TZNAME:UTC
DTSTART:20250101T000000
END:STANDARD
END:VTIMEZONE
BEGIN:VTIMEZONE
TZID:America/Phoenix
BEGIN:STANDARD
TZOFFSETFROM:-0700
TZOFFSETTO:-0700
TZNAME:MST
DTSTART:20250101T000000
END:STANDARD
END:VTIMEZONE
BEGIN:VTIMEZONE
TZID:America/New_York
BEGIN:DAYLIGHT
TZOFFSETFROM:-0500
TZOFFSETTO:-0400
TZNAME:EDT
DTSTART:20250309T070000
END:DAYLIGHT
BEGIN:STANDARD
TZOFFSETFROM:-0400
TZOFFSETTO:-0500
TZNAME:EST
DTSTART:20251102T060000
END:STANDARD
BEGIN:DAYLIGHT
TZOFFSETFROM:-0500
TZOFFSETTO:-0400
TZNAME:EDT
DTSTART:20260308T070000
END:DAYLIGHT
BEGIN:STANDARD
TZOFFSETFROM:-0400
TZOFFSETTO:-0500
TZNAME:EST
DTSTART:20261101T060000
END:STANDARD
BEGIN:DAYLIGHT
TZOFFSETFROM:-0500
TZOFFSETTO:-0400
TZNAME:EDT
DTSTART:20270314T070000
END:DAYLIGHT
BEGIN:STANDARD
TZOFFSETFROM:-0400
TZOFFSETTO:-0500
TZNAME:EST
DTSTART:20271107T060000
END:STANDARD
END:VTIMEZONE
BEGIN:VTIMEZONE
TZID:America/Los_Angeles
BEGIN:DAYLIGHT
TZOFFSETFROM:-0800
TZOFFSETTO:-0700
TZNAME:PDT
DTSTART:20250309T100000
END:DAYLIGHT
BEGIN:STANDARD
TZOFFSETFROM:-0700
TZOFFSETTO:-0800
TZNAME:PST
DTSTART:20251102T090000
END:STANDARD
BEGIN:DAYLIGHT
TZOFFSETFROM:-0800
TZOFFSETTO:-0700
TZNAME:PDT
DTSTART:20260308T100000
END:DAYLIGHT
BEGIN:STANDARD
TZOFFSETFROM:-0700
TZOFFSETTO:-0800
TZNAME:PST
DTSTART:20261101T090000
END:STANDARD
BEGIN:DAYLIGHT
TZOFFSETFROM:-0800
TZOFFSETTO:-0700
TZNAME:PDT
DTSTART:20270314T100000
END:DAYLIGHT
BEGIN:STANDARD
TZOFFSETFROM:-0700
TZOFFSETTO:-0800
TZNAME:PST
DTSTART:20271107T090000
END:STANDARD
END:VTIMEZONE
BEGIN:VTIMEZONE
TZID:America/Indiana/Indianapolis
BEGIN:DAYLIGHT
TZOFFSETFROM:-0500
TZOFFSETTO:-0400
TZNAME:EDT
DTSTART:20250309T070000
END:DAYLIGHT
BEGIN:STANDARD
TZOFFSETFROM:-0400
TZOFFSETTO:-0500
TZNAME:EST
DTSTART:20251102T060000
END:STANDARD
BEGIN:DAYLIGHT
TZOFFSETFROM:-0500
TZOFFSETTO:-0400
TZNAME:EDT
DTSTART:20260308T070000
END:DAYLIGHT
BEGIN:STANDARD
TZOFFSETFROM:-0400
TZOFFSETTO:-0500
TZNAME:EST
DTSTART:20261101T060000
END:STANDARD
BEGIN:DAYLIGHT
TZOFFSETFROM:-0500
TZOFFSETTO:-0400
TZNAME:EDT
DTSTART:20270314T070000
END:DAYLIGHT
BEGIN:STANDARD
TZOFFSETFROM:-0400
TZOFFSETTO:-0500
TZNAME:EST
DTSTART:20271107T060000
END:STANDARD
END:VTIMEZONE
BEGIN:VTIMEZONE
TZID:America/Chicago
BEGIN:DAYLIGHT
TZOFFSETFROM:-0600
TZOFFSETTO:-0500
TZNAME:CDT
DTSTART:20250309T080000
END:DAYLIGHT
BEGIN:STANDARD
TZOFFSETFROM:-0500
TZOFFSETTO:-0600
TZNAME:CST
DTSTART:20251102T070000
END:STANDARD
BEGIN:DAYLIGHT
TZOFFSETFROM:-0600
TZOFFSETTO:-0500
TZNAME:CDT
DTSTART:20260308T080000
END:DAYLIGHT
BEGIN:STANDARD
TZOFFSETFROM:-0500
TZOFFSETTO:-0600
TZNAME:CST
DTSTART:20261101T070000
END:STANDARD
BEGIN:DAYLIGHT
TZOFFSETFROM:-0600
TZOFFSETTO:-0500
TZNAME:CDT
DTSTART:20270314T080000
END:DAYLIGHT
BEGIN:STANDARD
TZOFFSETFROM:-0500
TZOFFSETTO:-0600
TZNAME:CST
DTSTART:20271107T070000
END:STANDARD
END:VTIMEZONE
BEGIN:VTIMEZONE
TZID:Australia/Brisbane
BEGIN:STANDARD
TZOFFSETFROM:+1000
TZOFFSETTO:+1000
TZNAME:AEST
DTSTART:20250101T000000
END:STANDARD
END:VTIMEZONE
BEGIN:VEVENT
DTSTART;TZID=UTC:20260329T090000
DTEND;TZID=UTC:20260703T210000
DTSTAMP:20260419T102458
CREATED:20260330T200138Z
LAST-MODIFIED:20260406T200144Z
UID:10006626-1774774800-1783112400@gunstuff.tv
SUMMARY:Open Range W/C 29/03/2026
DESCRIPTION:
URL:https://gunstuff.tv/event/open-range-w-c-29-03-2026/
LOCATION:Tiverton Small-bore Rifle Club
END:VEVENT
BEGIN:VEVENT
DTSTART;TZID=UTC:20260427T080000
DTEND;TZID=UTC:20260430T170000
DTSTAMP:20260419T102458
CREATED:20260331T003151Z
LAST-MODIFIED:20260414T003233Z
UID:10006646-1777276800-1777568400@gunstuff.tv
SUMMARY:****Outdoor Range Closed 8am-5:00pm
DESCRIPTION:Outdoor Range Closed
URL:https://gunstuff.tv/event/outdoor-range-closed-8am-500pm-5/
LOCATION:PA
END:VEVENT
BEGIN:VEVENT
DTSTART;VALUE=DATE:20260430
DTEND;VALUE=DATE:20260501
DTSTAMP:20260419T102458
CREATED:20251003T160028Z
LAST-MODIFIED:20260412T043229Z
UID:10000959-1777507200-1777593599@gunstuff.tv
SUMMARY:1000 Yard Practice 7:00am Pits
DESCRIPTION:
URL:https://gunstuff.tv/event/1000-yard-practice-700am-pits-4/
LOCATION:PA
END:VEVENT
BEGIN:VEVENT
DTSTART;VALUE=DATE:20260430
DTEND;VALUE=DATE:20260501
DTSTAMP:20260419T102458
CREATED:20260327T034728Z
LAST-MODIFIED:20260410T034659Z
UID:10006515-1777507200-1777593599@gunstuff.tv
SUMMARY:National Vet Golden Age Games (Augusta team practice)
DESCRIPTION:
URL:https://gunstuff.tv/event/national-vet-golden-age-games-augusta-team-practice-3/
LOCATION:PA
END:VEVENT
BEGIN:VEVENT
DTSTART;TZID=America/Los_Angeles:20260430T090000
DTEND;TZID=America/Los_Angeles:20260430T120000
DTSTAMP:20260419T102458
CREATED:20260403T193216Z
LAST-MODIFIED:20260410T194637Z
UID:10006735-1777539600-1777550400@gunstuff.tv
SUMMARY:Airgun & 22LR Thursdays
DESCRIPTION:Fun Airgun AND .22 LR from NOON ONWARD…  session at the MPR- look for the big red flag on the pole that says “MPR”- that’s us! \nOpen to public\, airguns .30 cal and below AND .22 LR. Benches available\, targets and stands\, 200 yard range. Good group of people. \nAll types of Airguns- springers\, PCP’s\, Pistols.\nAll Types of .22 LR – Rifle and Pistol. \nEye protection required\, ear required \n$15 Guest\n$10 for Diablo members (did you know Diablo membership is only $25 a year?)\n$5 for those special few that have purchased a USI VIP card.\nYouths accompanied by a Club member adult shoot free.\n \n\nUSI waiver must signed prior to shoot\, you can do so prior to attending: \n\n\nWaiver \n\n\nContact: \nSam Russo \nthePelleteer@gmail.com \n 
URL:https://gunstuff.tv/event/airgun-22lr-thursdays-29/
LOCATION:USI Multi Purpose Range\, 4700 Evora Road\, Concord\, CA\, 94520
CATEGORIES:.22lr Shooting,Airgun
ATTACH;FMTTYPE=image/jpeg:https://gunstuff.tv/wp-content/uploads/2025/10/222-YduOUz.jpg
ORGANIZER;CN="Sam Russo":MAILTO:airgun_fieldtarget@diablorodandgun.com
END:VEVENT
BEGIN:VEVENT
DTSTART;TZID=America/Los_Angeles:20260430T130000
DTEND;TZID=America/Los_Angeles:20260430T180000
DTSTAMP:20260419T102458
CREATED:20260104T220140Z
LAST-MODIFIED:20260405T223147Z
UID:10003718-1777554000-1777572000@gunstuff.tv
SUMMARY:RIFLE SIDE RANGE CLOSED
DESCRIPTION:NOT OPEN TO THE PUBLIC AFTER 1:00 P. M.
URL:https://gunstuff.tv/event/rifle-side-range-closed-9/
LOCATION:California
END:VEVENT
BEGIN:VEVENT
DTSTART;TZID=America/New_York:20260430T150000
DTEND;TZID=America/New_York:20260430T170000
DTSTAMP:20260419T102458
CREATED:20260327T034727Z
LAST-MODIFIED:20260410T034659Z
UID:10006514-1777561200-1777568400@gunstuff.tv
SUMMARY:pistol range closed
DESCRIPTION:
URL:https://gunstuff.tv/event/pistol-range-closed-8/
LOCATION:PA
END:VEVENT
BEGIN:VEVENT
DTSTART;TZID=America/Indiana/Indianapolis:20260430T160000
DTEND;TZID=America/Indiana/Indianapolis:20260430T180000
DTSTAMP:20260419T102458
CREATED:20260406T031735Z
LAST-MODIFIED:20260413T033229Z
UID:10006826-1777564800-1777572000@gunstuff.tv
SUMMARY:HHS Rain Date
DESCRIPTION:Harrision High SchoolTrapRanges 9 & 10
URL:https://gunstuff.tv/event/hhs-rain-date-9/
LOCATION:Wildcat Valley R and P Club\, 12094 S 300 E\, Brookston\, IN\, United States
CATEGORIES:Trap
GEO:40.576877;-86.811749
X-APPLE-STRUCTURED-LOCATION;VALUE=URI;X-ADDRESS=Wildcat Valley R and P Club 12094 S 300 E Brookston IN United States;X-APPLE-RADIUS=500;X-TITLE=12094 S 300 E:geo:-86.811749,40.576877
END:VEVENT
BEGIN:VEVENT
DTSTART;TZID=America/New_York:20260430T160000
DTEND;TZID=America/New_York:20260430T190000
DTSTAMP:20260419T102458
CREATED:20260118T210132Z
LAST-MODIFIED:20260414T083127Z
UID:10004596-1777564800-1777575600@gunstuff.tv
SUMMARY:CamCo Clay Crushers Home Meet vs Smethport (Senior Recognition Night)
DESCRIPTION:  *Please dress appropriately for the weather conditions\, layers are a great idea!**Follow the Facebook page (Cameron County Clay Crushers) for all up to date information.***Any questions please contact Coach Mike 814-203-2624 or Coach Sabrina 814-203-2590.
URL:https://gunstuff.tv/event/camco-clay-crushers-home-meet-vs-smethport/
LOCATION:523 Sizer Run Road Emporium\, Emporium\, PA\, United States
GEO:41.500749;-78.322815
END:VEVENT
BEGIN:VEVENT
DTSTART;TZID=America/New_York:20260430T160000
DTEND;TZID=America/New_York:20260430T210000
DTSTAMP:20260419T102458
CREATED:20260406T113209Z
LAST-MODIFIED:20260413T113227Z
UID:10006858-1777564800-1777582800@gunstuff.tv
SUMMARY:Trap
DESCRIPTION:Practice: Sr. Member $6/Member $7/Non-Member $9\nMeat Green Bird: Sr. Member $7/Member $8/Non-Member $10
URL:https://gunstuff.tv/event/trap-36/
LOCATION:Oxford Gun Club\, 798 Oxford Rd\, Lincoln University\, PA\, United States
GEO:39.78874;-75.909509
X-APPLE-STRUCTURED-LOCATION;VALUE=URI;X-ADDRESS=Oxford Gun Club 798 Oxford Rd Lincoln University PA United States;X-APPLE-RADIUS=500;X-TITLE=798 Oxford Rd:geo:-75.909509,39.78874
END:VEVENT
BEGIN:VEVENT
DTSTART;TZID=America/Chicago:20260430T170000
DTEND;TZID=America/Chicago:20260430T183000
DTSTAMP:20260419T102458
CREATED:20260331T004642Z
LAST-MODIFIED:20260414T004818Z
UID:10006652-1777568400-1777573800@gunstuff.tv
SUMMARY:New Member Orientation
DESCRIPTION:@ 			\n			\n							 \n\nNew Member Orientation – Location Main Range \n\n		\n\n\nSteven Summers\n \n270-535-5892 \nPresident@GreenRiverGunClub.com \n \n\n\n\n\n\n\n						\n							Add to calendar						 \n\n\n\n									\n										Google Calendar									\n								\n\n									\n										iCalendar									\n								\n\n									\n										Outlook 365									\n								\n\n									\n										Outlook Live
URL:https://gunstuff.tv/event/new-member-orientation-14/
LOCATION:PA
ORGANIZER;CN="Steven Summers":MAILTO:President@GreenRiverGunClub.com
END:VEVENT
BEGIN:VEVENT
DTSTART;TZID=America/New_York:20260430T180000
DTEND;TZID=America/New_York:20260430T183000
DTSTAMP:20260419T102458
CREATED:20251003T162640Z
LAST-MODIFIED:20260411T214643Z
UID:10001423-1777572000-1777573800@gunstuff.tv
SUMMARY:Member Session
DESCRIPTION:Hear committee reports\, ask questions\, make requests of the board.
URL:https://gunstuff.tv/event/member-session-7/
LOCATION:Indoor Range
END:VEVENT
BEGIN:VEVENT
DTSTART;TZID=Australia/Brisbane:20260430T180000
DTEND;TZID=Australia/Brisbane:20260430T200000
DTSTAMP:20260419T102458
CREATED:20260406T030154Z
LAST-MODIFIED:20260413T030228Z
UID:10006794-1777572000-1777579200@gunstuff.tv
SUMMARY:Target and Metal Silhouette Shooting Competition
DESCRIPTION:Shooting has a wide range of different forms of regulated competitions called disciplines. The link provided is will explain these events and are the more popular types of shooting competitions we conduct at our club. \nNew and Unlicenced Shooter are welcome to participate so we have enough range officers please ensure you are booking at least 7 days prior to the event \n  \n \n\n\nBooking Form (#8)\nΔ \n\n  \n\nTo register for our shooting competition please fill out the required details. Once the form is submitted you will receive a confirmation email. Make sure you register at least 3 days in advance of the competition day as numbers are capped at 30 including Range Officers. \n\n\n\n\nAre you paying via Credit Card\, Bank Transfer or Cash\n\n Credit Card\n Bank Transfer\n Cash\n\n\n\nDo you currently hold a category H licence?\n\n Yes\n No\n\n\n\nPlease complete a Form 33 prior to attending the range \n\n\n\n\n\nFirst Name\n\n\n\n\n\nLast Name\n\n\n\n\n\n\nEmail\n\n\n\nMembership Number \n\n\n\n\n\nWhat competition event do you want to attend? \n\n\n\n\n\nWhat discipline are you shooting? \n\n\n\n Target\n Metal\n\n\n\nDo you require any hire equipment? \n\n\n\n Yes\n No\n\n\n\nEquipment required\n\n .22\n .38\n 9mm\n Colt .45\n New Shooters Pack\n New Shooters Pack (including .45)\n Safety Equipment \n\n\n\n  \n\nTerms and Conditions\nRANGE SAFETY PROCEDURES \n\nBOOK AT LEAST THREE DAYS BEFORE THE EVENT. NO WALKINS\, VISITORS OR SPECTATORS WILL BE ALLOWED.\nREAD TERMS AND CONDITIONS – CONDITION OF ENTRY TO THE RANGE IS CONDITIONAL ON ACCEPTANCE OF THESE CONDITIONS.\nDO NOT ATTEND IF UNWELL – YOU WILL NOT BE PERMITTED ON THE RANGE IF YOU APPEAR TO BE UNWELL.\nSANITIZE YOUR HANDS BEFORE ENTERING THE RANGE OR TOUCHING ANYTHING.\nSIGN IN AT THE DESK – PROVIDE YOUR OWN PEN. \nSET UP YOUR OWN TARGET – THESE WILL BE DISINFECTED BEFORE YOU ARRIVE AND WILL BE DISINFECTED AGAIN AFTER YOU PUT THEM AWAY.      \nMINIMISE THE NUMBER OF AREAS YOU TOUCH.\nWHILE WAITING BEHIND THE YELLOW LINE MAINTAINING 1.5 MT SOCIAL DISTANCE.\nAT THE END OF THE SHOOT REMOVE YOUR PAPER TARGET AND PLACE IN THE BIN\, OR TAKE IT HOME.\nWASH YOU HANDS AFTER THE SHOOT TO AVOID ANY LEAD CONTAMINATION \n\n  \n\n\n\n\n  \n\nCredit card and processing fees will be added at checkout  \n\n\n\n\nNew Shooter Pack (Range fee included) $55 \nNew Shooter Pack (including .45 and Range fees) $65 \nFirearm hire .22 (Range fee included) $35 \nFirearm hire 9mm (Range fee included) $50 \nFirearm hire .45 (Range fee included) $70 \nFirearm hire .38 (Range fee included) $55 \nAdult (Club Member) $15 \nPensioner (Club Member) $11 \nJunior (Club Member) $7.50 \nRange Fee (Non-Member) $20 \nAdult (Club Member) (SSAA Member) $10 \nJunior (Club Member) (SSAA Member) $5 \nPensioner (Club Member) (SSAA Member) $5 \n\n\nBank Details  \nSuncorp  \nBSB 484-799 \nACC 201008609 \n  \nNew Shooter Pack (Range fee included) $55 \nNew Shooter Pack (including .45 and Range fees) $65 \nFirearm hire .22 (Range fee included)$35 \nFirearm hire 9mm (Range fee included)$50 \nFirearm hire .45 (Range fee included) $70 \nFirearm hire .38 (Range fee included) $55 \nAdult (Club Member) $15 \nPensioner (Club Member) $11 \nJunior (Club Member) $7.50 \nRange Fee (Non-Member) $20 \nAdult (Club Member) (SSAA Member) $10 \nJunior (Club Member) (SSAA Member) $5 \nPensioner (Club Member) (SSAA Member) $5 \n\n\n\n\nPay with Card (Stripe)\n\n\n\n\n\n\nRange fees\n\n New Shooter Pack (Range Fee included) $55 \n New Shooter Pack (Including .45 and Range Fee) $65\n Firearm Hire .22 (Range Fee included) $35 \n Firearm Hire 9mm (Range Fee Included) $50\n Firearm Hire .45 (Range Fee included) $70\n Firearm Hire .38 (Range Fee  Included) $55\n Adult (Club Member) $15\n Pensioner (Club Member) $11 \n Junior (Club Member) $7.50\n Range Fee (Non-member) $20\n Adult (Club Member) (SSAA Member) $10\n Junior (Club Member) (SSAA Member) $5\n Pensioner (Club Member) (SSAA Member) $5\n\n\n\n\n\nNo payment items has been selected yet\n\n\n\n  \n\nI have read and agree to the Terms and Conditions and Drug and Alcohol Policy \n\n\n\n\n\n\n\n\n\n\nSubmit Booking\n\n\n\n                window.fluent_form_ff_form_instance_8_4 = {"id":"8"\,"settings":{"layout":{"labelPlacement":"top"\,"helpMessagePlacement":"with_label"\,"errorMessagePlacement":"inline"\,"asteriskPlacement":"asterisk-right"}\,"restrictions":{"denyEmptySubmission":{"enabled":false}}}\,"form_instance":"ff_form_instance_8_4"\,"form_id_selector":"fluentform_8"\,"rules":{"Heading":{"required":{"value":false\,"message":"This field is required"\,"global":false\,"global_message":"This field is required"}}\,"input_radio_1":{"required":{"value":true\,"message":"This field is required"\,"global":false\,"global_message":"This field is required"}}\,"checkbox_3":{"required":{"value":true\,"message":"This field is required"\,"global":false\,"global_message":"This field is required"}}\,"names[first_name]":{"required":{"value":true\,"message":"This field is required"\,"global":false\,"global_message":"This field is required"}}\,"names[middle_name]":{"required":{"value":false\,"message":"This field is required"\,"global":false\,"global_message":"This field is required"}}\,"names[last_name]":{"required":{"value":true\,"message":"This field is required"\,"global":false\,"global_message":"This field is required"}}\,"email":{"required":{"value":false\,"message":"This field is required"\,"global":false\,"global_message":"This field is required"}\,"email":{"value":true\,"message":"This field must contain a valid email"\,"global":false\,"global_message":"This field must contain a valid email"}}\,"input_text":{"required":{"value":true\,"message":"If you are not a member enter F33"\,"global":false\,"global_message":"This field is required"}}\,"datetime":{"required":{"value":true\,"message":"This field is required"\,"global":false\,"global_message":"This field is required"}}\,"checkbox":{"required":{"value":true\,"message":"This field is required"\,"global":false\,"global_message":"This field is required"}}\,"checkbox_2":{"required":{"value":true\,"message":"This field is required"\,"global":false\,"global_message":"This field is required"}}\,"checkbox_1":{"required":{"value":true\,"message":"This field is required"\,"global":false\,"global_message":"This field is required"}}\,"terms-n-condition":{"required":{"value":false\,"message":"This field is required"\,"global":false\,"global_message":"This field is required"}}\,"terms-n-condition_2":{"required":{"value":false\,"message":"This field is required"\,"global":false\,"global_message":"This field is required"}}\,"payment_input":{"required":{"value":true\,"message":"Please select Payment option"\,"global":false\,"global_message":"This field is required"}}\,"terms-n-condition_3":{"required":{"value":false\,"message":"This field is required"\,"global":false\,"global_message":"This field is required"}}\,"g-recaptcha-response":[]}\,"debounce_time":300\,"conditionals":{"custom_html-8_1":{"type":"any"\,"status":true\,"conditions":[{"field":"checkbox_3"\,"value":"No"\,"operator":"="}]}\,"checkbox_1":{"type":"all"\,"status":true\,"conditions":[{"field":"checkbox_2"\,"value":"Yes"\,"operator":"="}]}\,"terms-n-condition_2":{"type":"any"\,"status":true\,"conditions":[{"field":"input_radio_1"\,"value":"Credit Card"\,"operator":"="}]}\,"custom_html-8_2":{"type":"any"\,"status":true\,"conditions":[{"field":"input_radio_1"\,"value":"Cash"\,"operator":"="}]\,"condition_groups":[{"rules":[{"field":""\,"value":""\,"operator":""}]\,"title":""\,"isEditingTitle":false\,"isPreviewOpen":false\,"isGroupOpen":true}]}\,"custom_html-8_3":{"type":"any"\,"status":true\,"conditions":[{"field":"input_radio_1"\,"value":"Bank Transfer"\,"operator":"="}]\,"condition_groups":[{"rules":[{"field":""\,"value":""\,"operator":""}]\,"title":""\,"isEditingTitle":false\,"isPreviewOpen":false\,"isGroupOpen":true}]}\,"payment_method":{"type":"any"\,"status":true\,"conditions":[{"field":"input_radio_1"\,"value":"Credit Card"\,"operator":"="}]}\,"payment_input":{"type":"all"\,"status":true\,"conditions":[{"field":"input_radio_1"\,"value":"Credit Card"\,"operator":"="}]}\,"payment_summary_component-8_4":{"type":"any"\,"status":true\,"conditions":[{"field":"input_radio_1"\,"value":"Credit Card"\,"operator":"="}]}}};
URL:https://gunstuff.tv/event/target-and-metal-silhouette-shooting-competition-21/
LOCATION:Brendale Meeting Rooms
CATEGORIES:Members Meeting
END:VEVENT
BEGIN:VEVENT
DTSTART;TZID=America/New_York:20260430T180000
DTEND;TZID=America/New_York:20260430T213000
DTSTAMP:20260419T102458
CREATED:20260331T020132Z
LAST-MODIFIED:20260414T021647Z
UID:10006658-1777572000-1777584600@gunstuff.tv
SUMMARY:USPSA Match Night – Mountain City Practical Shooters
DESCRIPTION:Weekly USPSA Level 1 Match hosted by Mountain City Practical Shooters. \nLocation: Appalachian Gun\, Pawn & Range \n140 Shelby Ln\, Jasper\, GA 30143 \nArrive: 6:00 PM (New Shooter Briefing) \nFirst Shots: 6:30 PM \nMatch Fee: $20 \nOpen to new and experienced shooters. Come learn\, compete\, and have fun in a safe\, supportive environment. \n\n\n\n\nSchedule subject to change due to weather\, and holidays. \n\n\n 
URL:https://gunstuff.tv/event/uspsa-match-night-mountain-city-practical-shooters-12/
LOCATION:Appalacian Gun\, Pawn & Range\, 140 Shelby Ln.\, Jasper\, GA\, 30143\, United States
CATEGORIES:firearm-safety,Safe Gun
ORGANIZER;CN="Appalachian Gun":MAILTO:Appalachiangun@gmail.com
END:VEVENT
BEGIN:VEVENT
DTSTART;TZID=America/New_York:20260430T183000
DTEND;TZID=America/New_York:20260430T203000
DTSTAMP:20260419T102458
CREATED:20251003T162640Z
LAST-MODIFIED:20260411T214643Z
UID:10001424-1777573800-1777581000@gunstuff.tv
SUMMARY:Board Meeting
DESCRIPTION:All members welcome.
URL:https://gunstuff.tv/event/board-meeting-10/
LOCATION:Indoor Range
END:VEVENT
BEGIN:VEVENT
DTSTART;TZID=UTC:20260430T190000
DTEND;TZID=UTC:20260430T210000
DTSTAMP:20260419T102458
CREATED:20260331T003204Z
LAST-MODIFIED:20260414T003233Z
UID:10006648-1777575600-1777582800@gunstuff.tv
SUMMARY:Indoor Range Closed 7-9:00pm
DESCRIPTION:Little Club match \nFreeport Flounders (home) vs Freeport Rangers \nMatch A302a
URL:https://gunstuff.tv/event/indoor-range-closed-7-900pm-18/
LOCATION:PA
END:VEVENT
BEGIN:VEVENT
DTSTART;TZID=America/New_York:20260430T190000
DTEND;TZID=America/New_York:20260430T220000
DTSTAMP:20260419T102458
CREATED:20260412T184740Z
LAST-MODIFIED:20260412T184748Z
UID:10007451-1777575600-1777586400@gunstuff.tv
SUMMARY:Doerflein Skeet League
DESCRIPTION:Doerflein Skeet League
URL:https://gunstuff.tv/event/doerflein-skeet-league-20/
LOCATION:Shotgun Fields
END:VEVENT
END:VCALENDAR