BEGIN:VCALENDAR
VERSION:2.0
PRODID:-//GunStuff TV - ECPv6.15.20//NONSGML v1.0//EN
CALSCALE:GREGORIAN
METHOD:PUBLISH
X-WR-CALNAME:GunStuff TV
X-ORIGINAL-URL:https://gunstuff.tv
X-WR-CALDESC:Events for GunStuff TV
REFRESH-INTERVAL;VALUE=DURATION:PT1H
X-Robots-Tag:noindex
X-PUBLISHED-TTL:PT1H
BEGIN:VTIMEZONE
TZID:UTC
BEGIN:STANDARD
TZOFFSETFROM:+0000
TZOFFSETTO:+0000
TZNAME:UTC
DTSTART:20250101T000000
END:STANDARD
END:VTIMEZONE
BEGIN:VTIMEZONE
TZID:America/Denver
BEGIN:DAYLIGHT
TZOFFSETFROM:-0700
TZOFFSETTO:-0600
TZNAME:MDT
DTSTART:20250309T090000
END:DAYLIGHT
BEGIN:STANDARD
TZOFFSETFROM:-0600
TZOFFSETTO:-0700
TZNAME:MST
DTSTART:20251102T080000
END:STANDARD
BEGIN:DAYLIGHT
TZOFFSETFROM:-0700
TZOFFSETTO:-0600
TZNAME:MDT
DTSTART:20260308T090000
END:DAYLIGHT
BEGIN:STANDARD
TZOFFSETFROM:-0600
TZOFFSETTO:-0700
TZNAME:MST
DTSTART:20261101T080000
END:STANDARD
BEGIN:DAYLIGHT
TZOFFSETFROM:-0700
TZOFFSETTO:-0600
TZNAME:MDT
DTSTART:20270314T090000
END:DAYLIGHT
BEGIN:STANDARD
TZOFFSETFROM:-0600
TZOFFSETTO:-0700
TZNAME:MST
DTSTART:20271107T080000
END:STANDARD
END:VTIMEZONE
BEGIN:VTIMEZONE
TZID:America/Chicago
BEGIN:DAYLIGHT
TZOFFSETFROM:-0600
TZOFFSETTO:-0500
TZNAME:CDT
DTSTART:20250309T080000
END:DAYLIGHT
BEGIN:STANDARD
TZOFFSETFROM:-0500
TZOFFSETTO:-0600
TZNAME:CST
DTSTART:20251102T070000
END:STANDARD
BEGIN:DAYLIGHT
TZOFFSETFROM:-0600
TZOFFSETTO:-0500
TZNAME:CDT
DTSTART:20260308T080000
END:DAYLIGHT
BEGIN:STANDARD
TZOFFSETFROM:-0500
TZOFFSETTO:-0600
TZNAME:CST
DTSTART:20261101T070000
END:STANDARD
BEGIN:DAYLIGHT
TZOFFSETFROM:-0600
TZOFFSETTO:-0500
TZNAME:CDT
DTSTART:20270314T080000
END:DAYLIGHT
BEGIN:STANDARD
TZOFFSETFROM:-0500
TZOFFSETTO:-0600
TZNAME:CST
DTSTART:20271107T070000
END:STANDARD
END:VTIMEZONE
BEGIN:VTIMEZONE
TZID:UTC
BEGIN:STANDARD
TZOFFSETFROM:+0000
TZOFFSETTO:+0000
TZNAME:UTC
DTSTART:20250101T000000
END:STANDARD
END:VTIMEZONE
BEGIN:VTIMEZONE
TZID:America/Phoenix
BEGIN:STANDARD
TZOFFSETFROM:-0700
TZOFFSETTO:-0700
TZNAME:MST
DTSTART:20250101T000000
END:STANDARD
END:VTIMEZONE
BEGIN:VTIMEZONE
TZID:America/New_York
BEGIN:DAYLIGHT
TZOFFSETFROM:-0500
TZOFFSETTO:-0400
TZNAME:EDT
DTSTART:20250309T070000
END:DAYLIGHT
BEGIN:STANDARD
TZOFFSETFROM:-0400
TZOFFSETTO:-0500
TZNAME:EST
DTSTART:20251102T060000
END:STANDARD
BEGIN:DAYLIGHT
TZOFFSETFROM:-0500
TZOFFSETTO:-0400
TZNAME:EDT
DTSTART:20260308T070000
END:DAYLIGHT
BEGIN:STANDARD
TZOFFSETFROM:-0400
TZOFFSETTO:-0500
TZNAME:EST
DTSTART:20261101T060000
END:STANDARD
BEGIN:DAYLIGHT
TZOFFSETFROM:-0500
TZOFFSETTO:-0400
TZNAME:EDT
DTSTART:20270314T070000
END:DAYLIGHT
BEGIN:STANDARD
TZOFFSETFROM:-0400
TZOFFSETTO:-0500
TZNAME:EST
DTSTART:20271107T060000
END:STANDARD
END:VTIMEZONE
BEGIN:VTIMEZONE
TZID:America/Los_Angeles
BEGIN:DAYLIGHT
TZOFFSETFROM:-0800
TZOFFSETTO:-0700
TZNAME:PDT
DTSTART:20250309T100000
END:DAYLIGHT
BEGIN:STANDARD
TZOFFSETFROM:-0700
TZOFFSETTO:-0800
TZNAME:PST
DTSTART:20251102T090000
END:STANDARD
BEGIN:DAYLIGHT
TZOFFSETFROM:-0800
TZOFFSETTO:-0700
TZNAME:PDT
DTSTART:20260308T100000
END:DAYLIGHT
BEGIN:STANDARD
TZOFFSETFROM:-0700
TZOFFSETTO:-0800
TZNAME:PST
DTSTART:20261101T090000
END:STANDARD
BEGIN:DAYLIGHT
TZOFFSETFROM:-0800
TZOFFSETTO:-0700
TZNAME:PDT
DTSTART:20270314T100000
END:DAYLIGHT
BEGIN:STANDARD
TZOFFSETFROM:-0700
TZOFFSETTO:-0800
TZNAME:PST
DTSTART:20271107T090000
END:STANDARD
END:VTIMEZONE
BEGIN:VTIMEZONE
TZID:America/Indiana/Indianapolis
BEGIN:DAYLIGHT
TZOFFSETFROM:-0500
TZOFFSETTO:-0400
TZNAME:EDT
DTSTART:20250309T070000
END:DAYLIGHT
BEGIN:STANDARD
TZOFFSETFROM:-0400
TZOFFSETTO:-0500
TZNAME:EST
DTSTART:20251102T060000
END:STANDARD
BEGIN:DAYLIGHT
TZOFFSETFROM:-0500
TZOFFSETTO:-0400
TZNAME:EDT
DTSTART:20260308T070000
END:DAYLIGHT
BEGIN:STANDARD
TZOFFSETFROM:-0400
TZOFFSETTO:-0500
TZNAME:EST
DTSTART:20261101T060000
END:STANDARD
BEGIN:DAYLIGHT
TZOFFSETFROM:-0500
TZOFFSETTO:-0400
TZNAME:EDT
DTSTART:20270314T070000
END:DAYLIGHT
BEGIN:STANDARD
TZOFFSETFROM:-0400
TZOFFSETTO:-0500
TZNAME:EST
DTSTART:20271107T060000
END:STANDARD
END:VTIMEZONE
BEGIN:VEVENT
DTSTART;TZID=UTC:20260329T090000
DTEND;TZID=UTC:20260703T210000
DTSTAMP:20260421T032820
CREATED:20260330T200138Z
LAST-MODIFIED:20260406T200144Z
UID:10006626-1774774800-1783112400@gunstuff.tv
SUMMARY:Open Range W/C 29/03/2026
DESCRIPTION:
URL:https://gunstuff.tv/event/open-range-w-c-29-03-2026/
LOCATION:Tiverton Small-bore Rifle Club
END:VEVENT
BEGIN:VEVENT
DTSTART;TZID=UTC:20260419T090000
DTEND;TZID=UTC:20260424T210000
DTSTAMP:20260421T032820
CREATED:20260420T200128Z
LAST-MODIFIED:20260420T200128Z
UID:10008078-1776589200-1777064400@gunstuff.tv
SUMMARY:Open Range W/C 19/04/2026
DESCRIPTION:
URL:https://gunstuff.tv/event/open-range-w-c-19-04-2026/
LOCATION:Tiverton Small-bore Rifle Club
END:VEVENT
BEGIN:VEVENT
DTSTART;TZID=UTC:20260419T090000
DTEND;TZID=UTC:20260424T210000
DTSTAMP:20260421T032820
CREATED:20260420T200128Z
LAST-MODIFIED:20260420T200128Z
UID:10008079-1776589200-1777064400@gunstuff.tv
SUMMARY:Open Range W/C 19/04/2026
DESCRIPTION:
URL:https://gunstuff.tv/event/open-range-w-c-19-04-2026-2/
LOCATION:Tiverton Small-bore Rifle Club
END:VEVENT
BEGIN:VEVENT
DTSTART;TZID=America/Denver:20260420T060000
DTEND;TZID=America/Denver:20260421T210000
DTSTAMP:20260421T032820
CREATED:20260406T080146Z
LAST-MODIFIED:20260413T081627Z
UID:10006830-1776664800-1776805200@gunstuff.tv
SUMMARY:April 20&21 2026 FRGC Member Only Days
DESCRIPTION:FRGC Member Only Days
URL:https://gunstuff.tv/event/april-2021-2026-frgc-member-only-days/
LOCATION:Fall River Gun Range\, 28300 Old Hwy 79\, Hot Springs\, SD\, United States
GEO:43.303233;-103.346518
X-APPLE-STRUCTURED-LOCATION;VALUE=URI;X-ADDRESS=Fall River Gun Range 28300 Old Hwy 79 Hot Springs SD United States;X-APPLE-RADIUS=500;X-TITLE=28300 Old Hwy 79:geo:-103.346518,43.303233
END:VEVENT
BEGIN:VEVENT
DTSTART;TZID=America/Chicago:20260420T080000
DTEND;TZID=America/Chicago:20260421T170000
DTSTAMP:20260421T032820
CREATED:20260324T021636Z
LAST-MODIFIED:20260324T021636Z
UID:10006484-1776672000-1776790800@gunstuff.tv
SUMMARY:Cam Hicks Sporting Clays Instruction
DESCRIPTION:Pro Shooter Cam Hicks will be offering sporting clays lessons at Defender Outdoors Clay Sports Ranch on April 20th and 21st. Call or Text (910) 624-7844 to schedule a lesson with him.
URL:https://gunstuff.tv/event/cam-hicks-sporting-clays-instruction/
LOCATION:Clay Sports Ranch\, 8270 Aledo Road\, Fort Worth\, TX\, 76126\, United States
CATEGORIES:Clay Sports Ranch Events
ATTACH;FMTTYPE=image/jpeg:https://gunstuff.tv/wp-content/uploads/2026/03/lessons-ncj1uZ.jpg
END:VEVENT
BEGIN:VEVENT
DTSTART;TZID=UTC:20260420T080000
DTEND;TZID=UTC:20260424T170000
DTSTAMP:20260421T032820
CREATED:20260331T003151Z
LAST-MODIFIED:20260414T003233Z
UID:10006642-1776672000-1777050000@gunstuff.tv
SUMMARY:****Outdoor Range Closed 8am-5:00pm
DESCRIPTION:Outdoor Range Closed
URL:https://gunstuff.tv/event/outdoor-range-closed-8am-500pm-4/
END:VEVENT
BEGIN:VEVENT
DTSTART;VALUE=DATE:20260421
DTEND;VALUE=DATE:20260422
DTSTAMP:20260421T032820
CREATED:20251003T160028Z
LAST-MODIFIED:20260412T043228Z
UID:10000952-1776729600-1776815999@gunstuff.tv
SUMMARY:100\, 200\, 300 Yard Practice Benchrest Range
DESCRIPTION:
URL:https://gunstuff.tv/event/100-200-300-yard-practice-benchrest-range-21/
END:VEVENT
BEGIN:VEVENT
DTSTART;VALUE=DATE:20260421
DTEND;VALUE=DATE:20260422
DTSTAMP:20260421T032820
CREATED:20260213T031055Z
LAST-MODIFIED:20260410T034658Z
UID:10005217-1776729600-1776815999@gunstuff.tv
SUMMARY:Club closed
DESCRIPTION:
URL:https://gunstuff.tv/event/club-closed-20/
END:VEVENT
BEGIN:VEVENT
DTSTART;VALUE=DATE:20260421
DTEND;VALUE=DATE:20260422
DTSTAMP:20260421T032820
CREATED:20260331T021733Z
LAST-MODIFIED:20260414T024735Z
UID:10006672-1776729600-1776815999@gunstuff.tv
SUMMARY:CLOSED FOR TEXAS STATE CHAMPIONSHIP
DESCRIPTION:Defender Outdoors Clay Sports Ranch will be closed to the public from April 12th to April 21st for the 2026 Texas State Sporting Clays Championship. We appreciate your patience!
URL:https://gunstuff.tv/event/closed-for-texas-state-championship-10/
LOCATION:Clay Sports Ranch\, 8270 Aledo Road\, Fort Worth\, TX\, 76126\, United States
CATEGORIES:Clay Sports Ranch Events
ATTACH;FMTTYPE=image/jpeg:https://gunstuff.tv/wp-content/uploads/2026/03/closed-uTzF5B.jpg
ORGANIZER;CN="Defender Outdoors Clay Sports Ranch":MAILTO:jessica@defenderoutdoors.com
END:VEVENT
BEGIN:VEVENT
DTSTART;VALUE=DATE:20260421
DTEND;VALUE=DATE:20260422
DTSTAMP:20260421T032820
CREATED:20260405T214645Z
LAST-MODIFIED:20260414T083128Z
UID:10006785-1776729600-1776815999@gunstuff.tv
SUMMARY:Pistol Range Closed 3-7pm
DESCRIPTION:
URL:https://gunstuff.tv/event/pistol-range-closed-3-7pm-5/
END:VEVENT
BEGIN:VEVENT
DTSTART;VALUE=DATE:20260421
DTEND;VALUE=DATE:20260427
DTSTAMP:20260421T032820
CREATED:20251005T190050Z
LAST-MODIFIED:20260412T200129Z
UID:10001668-1776729600-1777247999@gunstuff.tv
SUMMARY:World English
DESCRIPTION:Register on scorechaser.com
URL:https://gunstuff.tv/event/world-english/
END:VEVENT
BEGIN:VEVENT
DTSTART;TZID=America/Chicago:20260421T080000
DTEND;TZID=America/Chicago:20260421T170000
DTSTAMP:20260421T032820
CREATED:20260331T021733Z
LAST-MODIFIED:20260414T024735Z
UID:10006673-1776758400-1776790800@gunstuff.tv
SUMMARY:Cam Hicks Sporting Clays Instruction
DESCRIPTION:Pro Shooter Cam Hicks will be offering sporting clays lessons at Defender Outdoors Clay Sports Ranch on April 21st. Call or Text (910) 624-7844 to schedule a lesson with him.
URL:https://gunstuff.tv/event/cam-hicks-sporting-clays-instruction-2/
LOCATION:Clay Sports Ranch\, 8270 Aledo Road\, Fort Worth\, TX\, 76126\, United States
CATEGORIES:Clay Sports Ranch Events
ATTACH;FMTTYPE=image/jpeg:https://gunstuff.tv/wp-content/uploads/2026/03/lessons-ncj1uZ.jpg
END:VEVENT
BEGIN:VEVENT
DTSTART;TZID=America/New_York:20260421T090000
DTEND;TZID=America/New_York:20260421T120000
DTSTAMP:20260421T032820
CREATED:20260417T051656Z
LAST-MODIFIED:20260417T051741Z
UID:10008004-1776762000-1776772800@gunstuff.tv
SUMMARY:Archery Workbee
DESCRIPTION:Outdoor Range Fallen Tree Cleanup\nTrail Prep for Summer Shoots and Leagues\nBroadhead Target Painting\nTournament Volunteers\nSpecial Event Volunteers\nAs well as do it yourself projects!\nQuestions?  Call\nJohn Borth 248-408-2043\nMike McGinnis 248-620-9161\nRon Hall 248-884-3034
URL:https://gunstuff.tv/event/archery-workbee-2/
LOCATION:Outdoor Archery Range\, 4770 Waterford Rd\, Clarkston\, MI\, United States
CATEGORIES:Archery
ATTACH;FMTTYPE=image/png:https://gunstuff.tv/wp-content/uploads/2026/04/Archery-April-Workbees-ShjOZR.png
GEO:42.705297;-83.4014
X-APPLE-STRUCTURED-LOCATION;VALUE=URI;X-ADDRESS=Outdoor Archery Range 4770 Waterford Rd Clarkston MI United States;X-APPLE-RADIUS=500;X-TITLE=4770 Waterford Rd:geo:-83.4014,42.705297
END:VEVENT
BEGIN:VEVENT
DTSTART;TZID=America/Los_Angeles:20260421T090000
DTEND;TZID=America/Los_Angeles:20260421T160000
DTSTAMP:20260421T032820
CREATED:20260327T193144Z
LAST-MODIFIED:20260410T194636Z
UID:10006552-1776762000-1776787200@gunstuff.tv
SUMMARY:MPR – RSO Only – Airgun/.22 Only
DESCRIPTION:
URL:https://gunstuff.tv/event/mpr-rso-only-airgun-22-only-19/
LOCATION:USI Multi Purpose Range\, 4700 Evora Road\, Concord\, CA\, 94520
END:VEVENT
BEGIN:VEVENT
DTSTART;TZID=America/New_York:20260421T130000
DTEND;TZID=America/New_York:20260421T143000
DTSTAMP:20260421T032820
CREATED:20260324T014634Z
LAST-MODIFIED:20260414T021634Z
UID:10006467-1776776400-1776781800@gunstuff.tv
SUMMARY:Armed Women of America
DESCRIPTION:AWA exists to enable women to be their own self-protectors\, creating freedom\, peace of mind\, and confidence in themselves. Our vision is that women have the skills\, mindset\, and training to defend themselves and those in their care. \nChapters across the country offer a welcoming\, non-intimidating place for women to learn more about the safe and responsible use of firearms\, including firearms safety\, personal protection\, concealed carry\, mindset and so much more. \nThe meetings offer classroom and range time\, all under the guidance of certified women instructors who volunteer their time. \nArmed Women of America provides a safe and comfortable environment for women to gather\, learn\, train\, and discuss issues important to women gun owners.
URL:https://gunstuff.tv/event/armed-women-of-america-10/
LOCATION:Appalacian Gun\, Pawn & Range\, 140 Shelby Ln.\, Jasper\, GA\, 30143\, United States
ORGANIZER;CN="Appalachian Gun":MAILTO:Appalachiangun@gmail.com
END:VEVENT
BEGIN:VEVENT
DTSTART;TZID=America/Indiana/Indianapolis:20260421T150000
DTEND;TZID=America/Indiana/Indianapolis:20260421T200000
DTSTAMP:20260421T032820
CREATED:20260406T031734Z
LAST-MODIFIED:20260413T033228Z
UID:10006816-1776783600-1776801600@gunstuff.tv
SUMMARY:High Power League
DESCRIPTION:Range 1
URL:https://gunstuff.tv/event/high-power-league-14/
LOCATION:Wildcat Valley R and P Club\, 12094 S 300 E\, Brookston\, IN\, United States
CATEGORIES:Highpower
GEO:40.576877;-86.811749
X-APPLE-STRUCTURED-LOCATION;VALUE=URI;X-ADDRESS=Wildcat Valley R and P Club 12094 S 300 E Brookston IN United States;X-APPLE-RADIUS=500;X-TITLE=12094 S 300 E:geo:-86.811749,40.576877
END:VEVENT
BEGIN:VEVENT
DTSTART;TZID=America/Indiana/Indianapolis:20260421T150000
DTEND;TZID=America/Indiana/Indianapolis:20260421T200000
DTSTAMP:20260421T032820
CREATED:20260406T031735Z
LAST-MODIFIED:20260406T031735Z
UID:10006806-1776783600-1776801600@gunstuff.tv
SUMMARY:High Power League
DESCRIPTION:Range 1
URL:https://gunstuff.tv/event/high-power-league-15/
LOCATION:Wildcat Valley R and P Club\, 12094 S 300 E\, Brookston\, IN\, United States
CATEGORIES:Highpower
GEO:40.576877;-86.811749
X-APPLE-STRUCTURED-LOCATION;VALUE=URI;X-ADDRESS=Wildcat Valley R and P Club 12094 S 300 E Brookston IN United States;X-APPLE-RADIUS=500;X-TITLE=12094 S 300 E:geo:-86.811749,40.576877
END:VEVENT
BEGIN:VEVENT
DTSTART;TZID=America/Los_Angeles:20260421T160000
DTEND;TZID=America/Los_Angeles:20260421T173000
DTSTAMP:20260421T032820
CREATED:20260327T193144Z
LAST-MODIFIED:20260410T194636Z
UID:10006553-1776787200-1776792600@gunstuff.tv
SUMMARY:Pre-Social Diablo Members Skeet
DESCRIPTION:Come and shoot skeet before the Club Social! \nRight before the social\, you can purchase 1 or 2 skeet tokens at the club rate for the event. Not a free shoot\, but a great group of people to be with! \nLocation – Skeet Field 5
URL:https://gunstuff.tv/event/pre-social-diablo-members-skeet-7/
LOCATION:USI Skeet Fields
ORGANIZER;CN="Martin O&#8217%3BConnor":MAILTO:Membership@Diablorodandgun.com
END:VEVENT
BEGIN:VEVENT
DTSTART;TZID=America/New_York:20260421T160000
DTEND;TZID=America/New_York:20260421T210000
DTSTAMP:20260421T032820
CREATED:20260406T113209Z
LAST-MODIFIED:20260413T113227Z
UID:10006851-1776787200-1776805200@gunstuff.tv
SUMMARY:5-Stand
DESCRIPTION:
URL:https://gunstuff.tv/event/5-stand-11/
END:VEVENT
BEGIN:VEVENT
DTSTART;TZID=America/New_York:20260421T163000
DTEND;TZID=America/New_York:20260421T190000
DTSTAMP:20260421T032820
CREATED:20260324T034636Z
LAST-MODIFIED:20260414T041759Z
UID:10006491-1776789000-1776798000@gunstuff.tv
SUMMARY:Handgun 2.0
DESCRIPTION:This course is focused on marksmanship fundamentals with your handgun.  It stresses the importance of proper grip\, sight alignment\, and trigger break\, all in a safe and constructive environment. Shooters will see vast improvement of their group sizes and shot placement\, guaranteed! \nFor this course\, you will need a handgun\, semi-auto or revolver\, 100 rounds of ammunition\, and note taking materials\, as necessary. \nWe do limit class size so that the instructors can devote individual attention to help you improve your gun handling and gain confidence in shooting your handgun. \nIf you do not yet have your own handgun\, rental handguns are available for a $10 fee from our range desk\, but you’ll be better served by learning with the gun you expect to carry or shoot on a regular basis. \n*****IMPORTANT: Please arrive at least 15 minutes before the start of class to complete waivers at our range desk**** \nREGISTRATION ONLINE IS REQUIRED TO RESERVE YOUR SPOT\, SO SIGN UP TODAY! \nClick for Bud’s Gun Shop KY Cancellation Policies
URL:https://gunstuff.tv/event/handgun-2-0-2/
CATEGORIES:Bullseye,Handgun Training,Practice Session
ATTACH;FMTTYPE=image/jpeg:https://gunstuff.tv/wp-content/uploads/2026/02/HandgunMarksmanship-Level2.0-2-gahdc1.jpg
END:VEVENT
BEGIN:VEVENT
DTSTART;TZID=America/New_York:20260421T170000
DTEND;TZID=America/New_York:20260421T200000
DTSTAMP:20260421T032820
CREATED:20260328T214628Z
LAST-MODIFIED:20260411T214630Z
UID:10006573-1776790800-1776801600@gunstuff.tv
SUMMARY:Tactical Tuesday IDPA Practice
DESCRIPTION:Shooters new to Action Shooting contact Eric Zaharee at ABSAIDPA@gmail .com\nSee (Alder Brook) PractiScore.com for sign up Cost $5
URL:https://gunstuff.tv/event/tactical-tuesday-idpa-practice-2/
LOCATION:Action Bays
END:VEVENT
BEGIN:VEVENT
DTSTART;TZID=UTC:20260421T173000
DTEND;TZID=UTC:20260421T173000
DTSTAMP:20260421T032820
CREATED:20260418T174723Z
LAST-MODIFIED:20260418T174735Z
UID:10008033-1776792600-1776792600@gunstuff.tv
SUMMARY:Boise Steel Challenge
DESCRIPTION:Boise Steel Challenge\nDate: 4/21/26\nStart Time: 5:30 PM\nLocation:\nBoise Steel Challenge (SCSA581)\n2420 E Kuna Mora rd\nKuna\, ID\nEvent Contact Information\nPaul\n208-919-5336\nboisesteelchallenge@gmail.com\nMatch Information\nHeld at Black’s Creek Shooting Range\nEvent Website \nBoise Steel Challenge
URL:https://gunstuff.tv/event/boise-steel-challenge/
LOCATION:Boise Steel Challenge (SCSA581)\, 2420 E Kuna Mora Rd\, Kuna\, ID\, United States
GEO:43.459228;-116.383121
X-APPLE-STRUCTURED-LOCATION;VALUE=URI;X-ADDRESS=Boise Steel Challenge (SCSA581) 2420 E Kuna Mora Rd Kuna ID United States;X-APPLE-RADIUS=500;X-TITLE=2420 E Kuna Mora Rd:geo:-116.383121,43.459228
END:VEVENT
BEGIN:VEVENT
DTSTART;TZID=America/New_York:20260421T173000
DTEND;TZID=America/New_York:20260421T190000
DTSTAMP:20260421T032820
CREATED:20260324T014635Z
LAST-MODIFIED:20260414T021634Z
UID:10006468-1776792600-1776798000@gunstuff.tv
SUMMARY:Armed Women of America
DESCRIPTION:AWA exists to enable women to be their own self-protectors\, creating freedom\, peace of mind\, and confidence in themselves. Our vision is that women have the skills\, mindset\, and training to defend themselves and those in their care. \nChapters across the country offer a welcoming\, non-intimidating place for women to learn more about the safe and responsible use of firearms\, including firearms safety\, personal protection\, concealed carry\, mindset and so much more. \nThe meetings offer classroom and range time\, all under the guidance of certified women instructors who volunteer their time. \nArmed Women of America provides a safe and comfortable environment for women to gather\, learn\, train\, and discuss issues important to women gun owners.
URL:https://gunstuff.tv/event/armed-women-of-america-11/
LOCATION:Appalacian Gun\, Pawn & Range\, 140 Shelby Ln.\, Jasper\, GA\, 30143\, United States
ORGANIZER;CN="Appalachian Gun":MAILTO:Appalachiangun@gmail.com
END:VEVENT
BEGIN:VEVENT
DTSTART;TZID=America/New_York:20260421T173000
DTEND;TZID=America/New_York:20260421T210000
DTSTAMP:20260421T032820
CREATED:20260417T051700Z
LAST-MODIFIED:20260417T051741Z
UID:10008006-1776792600-1776805200@gunstuff.tv
SUMMARY:Bullseye
DESCRIPTION:Join us every Tuesday evening at the Oakland County Sportsmans Club for our weekly Bullseye session. Hosted by the DR Wilson Rifle and Pistol Club\, this event is dedicated to the art of precision shooting. Whether you are training for competition or simply want to improve your marksmanship\, these sessions provide a structured and welcoming environment for all skill levels.\nEvent Details\nWhen: Every Tuesday\nTime: 5:30 PM – 9:00 PM\nLocation: DR Wilson Rifle and Pistol Club Range\nFocus: Bullseye / Precision Pistol\nBenefits of Joining\nRefine Your Technique: Focus on the core pillars of marksmanship: stance\, grip\, sight alignment\, and trigger squeeze.\nConsistency: Our weekly schedule makes it easy to build a routine and see measurable improvement in your scores.\nCamaraderie: Connect with experienced shooters and club members who share a passion for the sport.
URL:https://gunstuff.tv/event/bullseye-14/
LOCATION:Indoor Rifle & Pistol Range\, 4770 Waterford Rd\,\, Village of Clarkston\, 48346
CATEGORIES:D.R. Wilson,Indoor Rifle & Pistol Rage,Range
ATTACH;FMTTYPE=image/jpeg:https://gunstuff.tv/wp-content/uploads/2026/01/gun-and-bullets-2021-10-18-18-53-59-utc-scaled-42cwdJ.jpg
END:VEVENT
BEGIN:VEVENT
DTSTART;TZID=America/Los_Angeles:20260421T174500
DTEND;TZID=America/Los_Angeles:20260421T200000
DTSTAMP:20260421T032820
CREATED:20260327T193144Z
LAST-MODIFIED:20260410T194636Z
UID:10006554-1776793500-1776801600@gunstuff.tv
SUMMARY:Monthly Social
DESCRIPTION:Gather and help set up at 5:15 eat at 5:45 PM.\nThe Club will provide the food and drinks\, including sodas\, beer\, wine\, and spirits.\nDiablo members\, family\, and guests are invited to come by\, and visit with other club members.\nSocials are always on the third Tuesday of the month.
URL:https://gunstuff.tv/event/monthly-social-7/
LOCATION:USI Clubhouse\, 4700 Evora Rd.\, Concord\, CA\, 94521
ATTACH;FMTTYPE=image/jpeg:https://gunstuff.tv/wp-content/uploads/2025/10/FoodPlateSlider_withText-KVR4fg.jpg
ORGANIZER;CN="Martin O&#8217%3BConnor":MAILTO:Membership@Diablorodandgun.com
END:VEVENT
BEGIN:VEVENT
DTSTART;TZID=America/New_York:20260421T180000
DTEND;TZID=America/New_York:20260421T210000
DTSTAMP:20260421T032820
CREATED:20260208T183202Z
LAST-MODIFIED:20260412T184739Z
UID:10005100-1776794400-1776805200@gunstuff.tv
SUMMARY:Virginia Sports Club Membership Meeting
DESCRIPTION:
URL:https://gunstuff.tv/event/virginia-sports-club-membership-meeting/
LOCATION:Clubhouse
END:VEVENT
BEGIN:VEVENT
DTSTART;TZID=America/Chicago:20260421T190000
DTEND;TZID=America/Chicago:20260421T200000
DTSTAMP:20260421T032820
CREATED:20251003T035716Z
LAST-MODIFIED:20260414T221629Z
UID:10000824-1776798000-1776801600@gunstuff.tv
SUMMARY:Northwest Suburban Townhall Meeting
DESCRIPTION:Come out and join your friends at the ISRA Northwest Suburban Townhall meeting\, returning to the location at Golden Corral Buffet\, 1591 S Randall Rd\, Algonquin. Doors open at 6:00 PM with Buffet and free soft drink available for a special ISRA Meeting price. The meeting will be from 7-8 PM.\nPlease join us to enjoy great food and company and help support our gracious host\, Golden Corral Algonquin\, in our new location.\nNorthwest Suburban townhall Meeting Board\nmember@isra.org
URL:https://gunstuff.tv/event/northwest-suburban-grass-roots-meeting-7/
LOCATION:Golden Corral Restaurant – Algonquin\, 699 S Randall Rd\, Algonquin\, IL\, United States
CATEGORIES:Event Calendar
GEO:42.172548;-88.33535
X-APPLE-STRUCTURED-LOCATION;VALUE=URI;X-ADDRESS=Golden Corral Restaurant – Algonquin 699 S Randall Rd Algonquin IL United States;X-APPLE-RADIUS=500;X-TITLE=699 S Randall Rd:geo:-88.33535,42.172548
END:VEVENT
BEGIN:VEVENT
DTSTART;TZID=America/New_York:20260421T190000
DTEND;TZID=America/New_York:20260421T203000
DTSTAMP:20260421T032820
CREATED:20260403T051709Z
LAST-MODIFIED:20260410T051631Z
UID:10006725-1776798000-1776803400@gunstuff.tv
SUMMARY:Troop 189 Instruction
DESCRIPTION:
URL:https://gunstuff.tv/event/troop-189-instruction/
LOCATION:Indoor Archery Range\, 4770 Waterford Rd\, Clarkston\, MI\, United States
CATEGORIES:Archery,Indoor Archery Range,Range
ATTACH;FMTTYPE=image/png:https://gunstuff.tv/wp-content/uploads/2026/02/archery-color-160x160-1-yUUewR.png
GEO:42.705297;-83.4014
X-APPLE-STRUCTURED-LOCATION;VALUE=URI;X-ADDRESS=Indoor Archery Range 4770 Waterford Rd Clarkston MI United States;X-APPLE-RADIUS=500;X-TITLE=4770 Waterford Rd:geo:-83.4014,42.705297
END:VEVENT
BEGIN:VEVENT
DTSTART;TZID=America/New_York:20260421T190000
DTEND;TZID=America/New_York:20260421T210000
DTSTAMP:20260421T032820
CREATED:20260417T051659Z
LAST-MODIFIED:20260417T051741Z
UID:10008005-1776798000-1776805200@gunstuff.tv
SUMMARY:Boy Scouts
DESCRIPTION:
URL:https://gunstuff.tv/event/boy-scouts-29/
LOCATION:Michigan
CATEGORIES:Boy Scouts
END:VEVENT
END:VCALENDAR