BEGIN:VCALENDAR
VERSION:2.0
PRODID:-//GunStuff TV - ECPv6.15.20//NONSGML v1.0//EN
CALSCALE:GREGORIAN
METHOD:PUBLISH
X-WR-CALNAME:GunStuff TV
X-ORIGINAL-URL:https://gunstuff.tv
X-WR-CALDESC:Events for GunStuff TV
REFRESH-INTERVAL;VALUE=DURATION:PT1H
X-Robots-Tag:noindex
X-PUBLISHED-TTL:PT1H
BEGIN:VTIMEZONE
TZID:UTC
BEGIN:STANDARD
TZOFFSETFROM:+0000
TZOFFSETTO:+0000
TZNAME:UTC
DTSTART:20250101T000000
END:STANDARD
END:VTIMEZONE
BEGIN:VTIMEZONE
TZID:America/New_York
BEGIN:DAYLIGHT
TZOFFSETFROM:-0500
TZOFFSETTO:-0400
TZNAME:EDT
DTSTART:20250309T070000
END:DAYLIGHT
BEGIN:STANDARD
TZOFFSETFROM:-0400
TZOFFSETTO:-0500
TZNAME:EST
DTSTART:20251102T060000
END:STANDARD
BEGIN:DAYLIGHT
TZOFFSETFROM:-0500
TZOFFSETTO:-0400
TZNAME:EDT
DTSTART:20260308T070000
END:DAYLIGHT
BEGIN:STANDARD
TZOFFSETFROM:-0400
TZOFFSETTO:-0500
TZNAME:EST
DTSTART:20261101T060000
END:STANDARD
BEGIN:DAYLIGHT
TZOFFSETFROM:-0500
TZOFFSETTO:-0400
TZNAME:EDT
DTSTART:20270314T070000
END:DAYLIGHT
BEGIN:STANDARD
TZOFFSETFROM:-0400
TZOFFSETTO:-0500
TZNAME:EST
DTSTART:20271107T060000
END:STANDARD
END:VTIMEZONE
BEGIN:VTIMEZONE
TZID:America/Chicago
BEGIN:DAYLIGHT
TZOFFSETFROM:-0600
TZOFFSETTO:-0500
TZNAME:CDT
DTSTART:20250309T080000
END:DAYLIGHT
BEGIN:STANDARD
TZOFFSETFROM:-0500
TZOFFSETTO:-0600
TZNAME:CST
DTSTART:20251102T070000
END:STANDARD
BEGIN:DAYLIGHT
TZOFFSETFROM:-0600
TZOFFSETTO:-0500
TZNAME:CDT
DTSTART:20260308T080000
END:DAYLIGHT
BEGIN:STANDARD
TZOFFSETFROM:-0500
TZOFFSETTO:-0600
TZNAME:CST
DTSTART:20261101T070000
END:STANDARD
BEGIN:DAYLIGHT
TZOFFSETFROM:-0600
TZOFFSETTO:-0500
TZNAME:CDT
DTSTART:20270314T080000
END:DAYLIGHT
BEGIN:STANDARD
TZOFFSETFROM:-0500
TZOFFSETTO:-0600
TZNAME:CST
DTSTART:20271107T070000
END:STANDARD
END:VTIMEZONE
BEGIN:VTIMEZONE
TZID:America/Denver
BEGIN:DAYLIGHT
TZOFFSETFROM:-0700
TZOFFSETTO:-0600
TZNAME:MDT
DTSTART:20250309T090000
END:DAYLIGHT
BEGIN:STANDARD
TZOFFSETFROM:-0600
TZOFFSETTO:-0700
TZNAME:MST
DTSTART:20251102T080000
END:STANDARD
BEGIN:DAYLIGHT
TZOFFSETFROM:-0700
TZOFFSETTO:-0600
TZNAME:MDT
DTSTART:20260308T090000
END:DAYLIGHT
BEGIN:STANDARD
TZOFFSETFROM:-0600
TZOFFSETTO:-0700
TZNAME:MST
DTSTART:20261101T080000
END:STANDARD
BEGIN:DAYLIGHT
TZOFFSETFROM:-0700
TZOFFSETTO:-0600
TZNAME:MDT
DTSTART:20270314T090000
END:DAYLIGHT
BEGIN:STANDARD
TZOFFSETFROM:-0600
TZOFFSETTO:-0700
TZNAME:MST
DTSTART:20271107T080000
END:STANDARD
END:VTIMEZONE
BEGIN:VTIMEZONE
TZID:UTC
BEGIN:STANDARD
TZOFFSETFROM:+0000
TZOFFSETTO:+0000
TZNAME:UTC
DTSTART:20250101T000000
END:STANDARD
END:VTIMEZONE
BEGIN:VTIMEZONE
TZID:America/Indiana/Indianapolis
BEGIN:DAYLIGHT
TZOFFSETFROM:-0500
TZOFFSETTO:-0400
TZNAME:EDT
DTSTART:20250309T070000
END:DAYLIGHT
BEGIN:STANDARD
TZOFFSETFROM:-0400
TZOFFSETTO:-0500
TZNAME:EST
DTSTART:20251102T060000
END:STANDARD
BEGIN:DAYLIGHT
TZOFFSETFROM:-0500
TZOFFSETTO:-0400
TZNAME:EDT
DTSTART:20260308T070000
END:DAYLIGHT
BEGIN:STANDARD
TZOFFSETFROM:-0400
TZOFFSETTO:-0500
TZNAME:EST
DTSTART:20261101T060000
END:STANDARD
BEGIN:DAYLIGHT
TZOFFSETFROM:-0500
TZOFFSETTO:-0400
TZNAME:EDT
DTSTART:20270314T070000
END:DAYLIGHT
BEGIN:STANDARD
TZOFFSETFROM:-0400
TZOFFSETTO:-0500
TZNAME:EST
DTSTART:20271107T060000
END:STANDARD
END:VTIMEZONE
BEGIN:VTIMEZONE
TZID:Australia/Brisbane
BEGIN:STANDARD
TZOFFSETFROM:+1000
TZOFFSETTO:+1000
TZNAME:AEST
DTSTART:20250101T000000
END:STANDARD
END:VTIMEZONE
BEGIN:VEVENT
DTSTART;TZID=UTC:20260329T090000
DTEND;TZID=UTC:20260703T210000
DTSTAMP:20260420T013202
CREATED:20260330T200138Z
LAST-MODIFIED:20260406T200144Z
UID:10006626-1774774800-1783112400@gunstuff.tv
SUMMARY:Open Range W/C 29/03/2026
DESCRIPTION:
URL:https://gunstuff.tv/event/open-range-w-c-29-03-2026/
LOCATION:Tiverton Small-bore Rifle Club
END:VEVENT
BEGIN:VEVENT
DTSTART;TZID=UTC:20260417T110000
DTEND;TZID=UTC:20260420T013000
DTSTAMP:20260420T013202
CREATED:20260414T200207Z
LAST-MODIFIED:20260414T200207Z
UID:10007628-1776423600-1776648600@gunstuff.tv
SUMMARY:AREA 3 Steel Challenge Match Shirt 2026
DESCRIPTION:Match shirt for Area 3 Steel Challenge 2026\nOrder cutoff date is March 16th at 8am.\nSponsor logos on back may be subject to change.\nYour jersey will be available for pick up at the match check in desk.\nNo refunds on custom shirts.
URL:https://gunstuff.tv/event/area-3-steel-challenge-match-shirt-2026/
LOCATION:7215 Gardner Rd\, De Soto\, KS\, United States
GEO:38.946156;-94.97143
END:VEVENT
BEGIN:VEVENT
DTSTART;TZID=UTC:20260418T100000
DTEND;TZID=UTC:20260420T003000
DTSTAMP:20260420T013202
CREATED:20260414T200229Z
LAST-MODIFIED:20260414T200229Z
UID:10007823-1776506400-1776645000@gunstuff.tv
SUMMARY:Dynamic Shotgun Match 3
DESCRIPTION:Please note this match is open for SHARON GUN CLUB MEMBERS ONLY.\nSharon Gun Club presents Dynamic Shotgun. This match is split into two days. Day 1 (SAT APRIL 18) is an Introduction and Orientation Class. Competitors signing up for this class will receive instruction on how to shoot practical shotgun including basic fundamentals/skills required for fulsome participation\, equipment advice\, and Dynamic Shotgun safety and participation rules.  The class is taught under real match circumstances.  Competitors will assist in setting up the match and will shoot the match receiving instructor direction. The match will be the classroom. An SGS designation will be placed on the members card for Shotgun Sports after successful completion.\nDay 2 (SUN APRIL 19) is a 4 stage match open to competitors that have IPSC Black Badge\, Prac PRS or the SGS Sharon Certification.\nJoin us for 4 stages of shotgun bliss. Match contains challenging shooting engagements\, physical endurance and shooting barricades.  Marksmanship of the highest pedigree is expected and refusal to respect trigger finger and muzzle discipline will result in match disqualification.\nQualification Course is $60.00 and a copy of the Dynamic Shotgun Rulebook is provided. (SAT)\nMatch fee is 40 CAD paid to Sharon Gun Club (SUN)\nDivisions are;\nSemi with Irons/bead/ghost ring\nPump with Irons/bead/ghost ring\nLever with Irons/bead/ghost ring\nKitchen Sink (weird combination shotgun) Irons/bead/ghost ring\nOpen any of the above with one or multiple optic(s) on Shotgun\nRound Count\n50 Bird 7.5 or 8 Target Loads\n35 Slugs\n50 00 or 000 Buck\nIf you have any questions please contact the Match Director:\nMarcell Wolf\n705-896-9653\nmarcell.wolf@gmail.com
URL:https://gunstuff.tv/event/dynamic-shotgun-match-3/
LOCATION:18255 Kennedy Road\, Sharon Ontario\, Canada
END:VEVENT
BEGIN:VEVENT
DTSTART;TZID=UTC:20260418T140000
DTEND;TZID=UTC:20260420T193000
DTSTAMP:20260420T013202
CREATED:20260414T200209Z
LAST-MODIFIED:20260414T200209Z
UID:10007646-1776520800-1776713400@gunstuff.tv
SUMMARY:GoShoot USPSA April 18th - 20th
DESCRIPTION:GoShoot invites you to shoot 7 – 9 stages Winter 5 – 6 stages\nCheck you email the morning of the match for your stage briefs and layout of the bays / stages that we are going to use.\n200rds minimum\n(If)Fri.\nRange gate opens 11am\nFirst shot @ 1pm\nSat.\nRange gate opens @8am\nFirst shots @ 10am\nSun.\nRange gate opens 10am\nFirst shot @ 12pm\nRegistration online only\nThis tournament is specifically designed to train you for events like USA National and world wide events with a  challenge in all skills that practical shooting requires like swingers/ movers\, strong/ weak hand\, close speed targets\, tight far targets\, moving while shooting\, prone/ low ports and mental challenges.\nAirport:\nRDU International\n50min to Range\nMatch Hotel:\nSanford Holiday Inn Express\n15min. from Range.\nMatch Hotel link:\nhttps://www.hiexpress.com/hotels/us/en/sanford/snfnc/hoteldetail?fromRedirect=true&qSrt=sBR&qIta=99504440&icdv=99504440&glat=SEAR&qSlH=SNFNC&setPMCookies=true&qDest=2110%20Dalrymple%20Street\,%20Sanford\,%20NC\,%20US&dp=true&msclkid=cb4fc3a9fc65145d450e9f1189604c50&cid=20256&srb_u=1\nNo refund with less than a 24hr. notice of start of the match not the competitors start date.\nCredit towards another match if withdrawn or 8$ cc fee let us know When you withdraw.
URL:https://gunstuff.tv/event/goshoot-uspsa-april-18th-20th/
LOCATION:2011 cumnock rd.\, Sanford\, NC\, United States
GEO:35.469782;-79.171723
END:VEVENT
BEGIN:VEVENT
DTSTART;TZID=UTC:20260419T193000
DTEND;TZID=UTC:20260420T010000
DTSTAMP:20260420T013202
CREATED:20260414T200242Z
LAST-MODIFIED:20260414T200242Z
UID:10007936-1776627000-1776646800@gunstuff.tv
SUMMARY:QCPS 4/19/26 Sunday Afternoon Training Match
DESCRIPTION:READ ALL OF THE INFORMATION BELOW PROR TO REGISTERING.\nWEATHER DEPARTMENT\nMatch fee:  $20 CA$H\nDiscounts\nBuild the stage:  – $5\nMatch R.O.s:  – $5\nPlease arrive\, check in and PAY between 2:30 – 2:45 PM.\nSetup begins at 2:30 PM and the match stars after setup is complete. The match does not end until the last stage is broke down and everything is put away.\nThis practice match is a group effort. Willingness to contribute and help where you can with the many tasks that are required to have a worthwhile practice match is mandatory for continued participation.\n  Hit Factor Match\nFour to eighteen stages depending on time.  \nIt is expected that if you are not the person that just shot the stage\, the next person to shoot the stage\, or (depending on how many shooters we have) the on deck shooter\, then you should be helping reset the stages.\n$20.00 CA$H
URL:https://gunstuff.tv/event/qcps-4-19-26-sunday-afternoon-training-match/
LOCATION:19128 Barstow Road\, Barstow Illinois\, United States
END:VEVENT
BEGIN:VEVENT
DTSTART;VALUE=DATE:20260420
DTEND;VALUE=DATE:20260421
DTSTAMP:20260420T013202
CREATED:20260213T031055Z
LAST-MODIFIED:20260410T034658Z
UID:10005216-1776643200-1776729599@gunstuff.tv
SUMMARY:Club Closed
DESCRIPTION:
URL:https://gunstuff.tv/event/club-closed-19/
LOCATION:Queensland
END:VEVENT
BEGIN:VEVENT
DTSTART;VALUE=DATE:20260420
DTEND;VALUE=DATE:20260421
DTSTAMP:20260420T013202
CREATED:20260331T021733Z
LAST-MODIFIED:20260414T024735Z
UID:10006671-1776643200-1776729599@gunstuff.tv
SUMMARY:CLOSED FOR TEXAS STATE CHAMPIONSHIP
DESCRIPTION:Defender Outdoors Clay Sports Ranch will be closed to the public from April 12th to April 21st for the 2026 Texas State Sporting Clays Championship. We appreciate your patience!
URL:https://gunstuff.tv/event/closed-for-texas-state-championship-9/
LOCATION:Clay Sports Ranch\, 8270 Aledo Road\, Fort Worth\, TX\, 76126\, United States
CATEGORIES:Clay Sports Ranch Events
ATTACH;FMTTYPE=image/jpeg:https://gunstuff.tv/wp-content/uploads/2026/03/closed-uTzF5B.jpg
ORGANIZER;CN="Defender Outdoors Clay Sports Ranch":MAILTO:jessica@defenderoutdoors.com
END:VEVENT
BEGIN:VEVENT
DTSTART;VALUE=DATE:20260420
DTEND;VALUE=DATE:20260421
DTSTAMP:20260420T013202
CREATED:20260405T214645Z
LAST-MODIFIED:20260414T083128Z
UID:10006786-1776643200-1776729599@gunstuff.tv
SUMMARY:Pistol Range Closed 3-7pm
DESCRIPTION:
URL:https://gunstuff.tv/event/pistol-range-closed-3-7pm-6/
LOCATION:Queensland
END:VEVENT
BEGIN:VEVENT
DTSTART;VALUE=DATE:20260420
DTEND;VALUE=DATE:20260421
DTSTAMP:20260420T013202
CREATED:20260407T040136Z
LAST-MODIFIED:20260414T040130Z
UID:10006877-1776643200-1776729599@gunstuff.tv
SUMMARY:Closed Mondays
DESCRIPTION:@ 			\n			\n							 \n\nHOURS: \nMonday: Closed \nTues-Thurs: 10am-8pm \nFri: 10am-5pm \nSat: 9:30am-5pm (shooting @10am) \nSun: 10:30am-4pm (shooting @11am) \nLast lane reservation is 1 hour before closing \n\n		\n\n\n\n\n\n\n						\n							Add to calendar						 \n\n\n\n									\n										Google Calendar									\n								\n\n									\n										iCalendar									\n								\n\n									\n										Outlook 365									\n								\n\n									\n										Outlook Live
URL:https://gunstuff.tv/event/closed-mondays-29/
LOCATION:Queensland
END:VEVENT
BEGIN:VEVENT
DTSTART;TZID=America/Denver:20260420T060000
DTEND;TZID=America/Denver:20260421T210000
DTSTAMP:20260420T013202
CREATED:20260406T080146Z
LAST-MODIFIED:20260413T081627Z
UID:10006830-1776664800-1776805200@gunstuff.tv
SUMMARY:April 20&21 2026 FRGC Member Only Days
DESCRIPTION:FRGC Member Only Days
URL:https://gunstuff.tv/event/april-2021-2026-frgc-member-only-days/
LOCATION:Fall River Gun Range\, 28300 Old Hwy 79\, Hot Springs\, SD\, United States
GEO:43.303233;-103.346518
X-APPLE-STRUCTURED-LOCATION;VALUE=URI;X-ADDRESS=Fall River Gun Range 28300 Old Hwy 79 Hot Springs SD United States;X-APPLE-RADIUS=500;X-TITLE=28300 Old Hwy 79:geo:-103.346518,43.303233
END:VEVENT
BEGIN:VEVENT
DTSTART;TZID=America/Chicago:20260420T080000
DTEND;TZID=America/Chicago:20260421T170000
DTSTAMP:20260420T013202
CREATED:20260324T021636Z
LAST-MODIFIED:20260324T021636Z
UID:10006484-1776672000-1776790800@gunstuff.tv
SUMMARY:Cam Hicks Sporting Clays Instruction
DESCRIPTION:Pro Shooter Cam Hicks will be offering sporting clays lessons at Defender Outdoors Clay Sports Ranch on April 20th and 21st. Call or Text (910) 624-7844 to schedule a lesson with him.
URL:https://gunstuff.tv/event/cam-hicks-sporting-clays-instruction/
LOCATION:Clay Sports Ranch\, 8270 Aledo Road\, Fort Worth\, TX\, 76126\, United States
CATEGORIES:Clay Sports Ranch Events
ATTACH;FMTTYPE=image/jpeg:https://gunstuff.tv/wp-content/uploads/2026/03/lessons-ncj1uZ.jpg
END:VEVENT
BEGIN:VEVENT
DTSTART;TZID=UTC:20260420T080000
DTEND;TZID=UTC:20260424T170000
DTSTAMP:20260420T013202
CREATED:20260331T003151Z
LAST-MODIFIED:20260414T003233Z
UID:10006642-1776672000-1777050000@gunstuff.tv
SUMMARY:****Outdoor Range Closed 8am-5:00pm
DESCRIPTION:Outdoor Range Closed
URL:https://gunstuff.tv/event/outdoor-range-closed-8am-500pm-4/
LOCATION:Queensland
END:VEVENT
BEGIN:VEVENT
DTSTART;TZID=America/New_York:20260420T090000
DTEND;TZID=America/New_York:20260420T100000
DTSTAMP:20260420T013202
CREATED:20251003T162640Z
LAST-MODIFIED:20251010T162928Z
UID:10001417-1776675600-1776679200@gunstuff.tv
SUMMARY:4-H Class Indoors
DESCRIPTION:Indoor reserved for 4-H class.
URL:https://gunstuff.tv/event/4-h-class-indoors-29/
LOCATION:Indoor Range
END:VEVENT
BEGIN:VEVENT
DTSTART;TZID=America/New_York:20260420T100000
DTEND;TZID=America/New_York:20260420T130000
DTSTAMP:20260420T013202
CREATED:20260417T051644Z
LAST-MODIFIED:20260417T051741Z
UID:10008001-1776679200-1776690000@gunstuff.tv
SUMMARY:IDPA Practice
DESCRIPTION:
URL:https://gunstuff.tv/event/idpa-practice-5/
LOCATION:Action Pistol Range\, 4700 Evora Road\, Concord\, CA\, 94520
CATEGORIES:Action Pistol Range,D.R. Wilson,Range
ATTACH;FMTTYPE=image/png:https://gunstuff.tv/wp-content/uploads/2025/10/IDPA-OCSC-Logo-nSVC80.png
GEO:42.705297;-83.4014
X-APPLE-STRUCTURED-LOCATION;VALUE=URI;X-ADDRESS=Action Pistol Range 4700 Evora Road Concord CA 94520;X-APPLE-RADIUS=500;X-TITLE=4700 Evora Road:geo:-83.4014,42.705297
END:VEVENT
BEGIN:VEVENT
DTSTART;TZID=America/New_York:20260420T160000
DTEND;TZID=America/New_York:20260420T180000
DTSTAMP:20260420T013202
CREATED:20251003T162640Z
LAST-MODIFIED:20251205T181707Z
UID:10001418-1776700800-1776708000@gunstuff.tv
SUMMARY:Skeet League
DESCRIPTION:Contact Frank Andrews with Questions.
URL:https://gunstuff.tv/event/skeet-league-29/
LOCATION:Queensland
END:VEVENT
BEGIN:VEVENT
DTSTART;TZID=America/New_York:20260420T160000
DTEND;TZID=America/New_York:20260420T180000
DTSTAMP:20260420T013202
CREATED:20251212T181640Z
LAST-MODIFIED:20260411T214630Z
UID:10003530-1776700800-1776708000@gunstuff.tv
SUMMARY:Skeet League
DESCRIPTION:Contact Frank Andrews with Questions.
URL:https://gunstuff.tv/event/skeet-league-119/
LOCATION:Skeet Range
END:VEVENT
BEGIN:VEVENT
DTSTART;TZID=America/Indiana/Indianapolis:20260420T164500
DTEND;TZID=America/Indiana/Indianapolis:20260420T180000
DTSTAMP:20260420T013202
CREATED:20260406T031734Z
LAST-MODIFIED:20260413T033228Z
UID:10006815-1776703500-1776708000@gunstuff.tv
SUMMARY:Trap
DESCRIPTION:Ranges 9 & 10
URL:https://gunstuff.tv/event/trap-29/
LOCATION:Wildcat Valley R and P Club\, 12094 S 300 E\, Brookston\, IN\, United States
CATEGORIES:Trap
GEO:40.576877;-86.811749
X-APPLE-STRUCTURED-LOCATION;VALUE=URI;X-ADDRESS=Wildcat Valley R and P Club 12094 S 300 E Brookston IN United States;X-APPLE-RADIUS=500;X-TITLE=12094 S 300 E:geo:-86.811749,40.576877
END:VEVENT
BEGIN:VEVENT
DTSTART;TZID=America/Indiana/Indianapolis:20260420T164500
DTEND;TZID=America/Indiana/Indianapolis:20260420T180000
DTSTAMP:20260420T013202
CREATED:20260406T031735Z
LAST-MODIFIED:20260406T031735Z
UID:10006805-1776703500-1776708000@gunstuff.tv
SUMMARY:Trap
DESCRIPTION:Ranges 9 & 10
URL:https://gunstuff.tv/event/trap-30/
LOCATION:Wildcat Valley R and P Club\, 12094 S 300 E\, Brookston\, IN\, United States
CATEGORIES:Trap
GEO:40.576877;-86.811749
X-APPLE-STRUCTURED-LOCATION;VALUE=URI;X-ADDRESS=Wildcat Valley R and P Club 12094 S 300 E Brookston IN United States;X-APPLE-RADIUS=500;X-TITLE=12094 S 300 E:geo:-86.811749,40.576877
END:VEVENT
BEGIN:VEVENT
DTSTART;TZID=America/New_York:20260420T173000
DTEND;TZID=America/New_York:20260420T213000
DTSTAMP:20260420T013202
CREATED:20260417T051656Z
LAST-MODIFIED:20260417T051741Z
UID:10008002-1776706200-1776720600@gunstuff.tv
SUMMARY:Junior Rifle
DESCRIPTION:
URL:https://gunstuff.tv/event/junior-rifle-31/
LOCATION:Indoor Rifle & Pistol Range\, 4770 Waterford Rd\,\, Village of Clarkston\, 48346
CATEGORIES:D.R. Wilson,Indoor Rifle & Pistol Rage,Jr. Rifle,Range
ATTACH;FMTTYPE=image/jpeg:https://gunstuff.tv/wp-content/uploads/2025/10/Junior-Rifle-3-scaled-QIEwuL.jpg
END:VEVENT
BEGIN:VEVENT
DTSTART;TZID=America/New_York:20260420T183000
DTEND;TZID=America/New_York:20260420T193000
DTSTAMP:20260420T013202
CREATED:20260324T014634Z
LAST-MODIFIED:20260414T021633Z
UID:10006466-1776709800-1776713400@gunstuff.tv
SUMMARY:A Girl & A Gun
DESCRIPTION:A Girl & A Gun® is a ladies-only shooting club founded by women shooters to provide firearms training and community for women. Whether you’re new to gun safety or an experienced marksman\, we help you grow your skills with pistols\, rifles\, and shotguns for self-defense\, competition\, and confidence. With expert instruction and a supportive environment\, you’ll find the tools\, knowledge\, and encouragement to thrive.
URL:https://gunstuff.tv/event/a-girl-a-gun-21/
LOCATION:Appalacian Gun\, Pawn & Range\, 140 Shelby Ln.\, Jasper\, GA\, 30143\, United States
CATEGORIES:Basic,firearm-safety,Safe Gun
ORGANIZER;CN="Appalachian Gun":MAILTO:Appalachiangun@gmail.com
END:VEVENT
BEGIN:VEVENT
DTSTART;TZID=America/New_York:20260420T183000
DTEND;TZID=America/New_York:20260420T193000
DTSTAMP:20260420T013202
CREATED:20260417T051656Z
LAST-MODIFIED:20260417T051741Z
UID:10008003-1776709800-1776713400@gunstuff.tv
SUMMARY:Drum Ball
DESCRIPTION:Drum Ball Fun on the Patio!\nJoin us for Drum Ball\, a unique and exciting way to get moving! If you’re looking for a fun\, low-impact workout that feels more like a game than exercise\, this is it.\nWe use drumsticks and large stability balls to combine drumming rhythms with fitness movements. It’s great for coordination\, core strength\, and releasing stress—all while listening to great music!\nWhen: Every Monday & Thursday evening\nTime: 6:30 PM – 7:30 PM\nLocation: Main Building Patio\nFee: $5 Drop-in per class\nNote: Sticks and balls are provided for all participants. Just bring your energy!
URL:https://gunstuff.tv/event/drum-ball-30/
LOCATION:OCSC Main Building Patio\, 4770 Waterford Rd\, Clarkston\, MI\, United States
CATEGORIES:Club Events,Open to the Public
ATTACH;FMTTYPE=image/jpeg:https://gunstuff.tv/wp-content/uploads/2025/12/Drum-Ball-at-OCSC-E9nLz4.jpg
GEO:42.705297;-83.4014
X-APPLE-STRUCTURED-LOCATION;VALUE=URI;X-ADDRESS=OCSC Main Building Patio 4770 Waterford Rd Clarkston MI United States;X-APPLE-RADIUS=500;X-TITLE=4770 Waterford Rd:geo:-83.4014,42.705297
END:VEVENT
BEGIN:VEVENT
DTSTART;TZID=Australia/Brisbane:20260420T184500
DTEND;TZID=Australia/Brisbane:20260420T210000
DTSTAMP:20260420T013202
CREATED:20260323T030132Z
LAST-MODIFIED:20260413T030228Z
UID:10006455-1776710700-1776718800@gunstuff.tv
SUMMARY:Target and Metal Silhouette Shooting Competition
DESCRIPTION:Shooting has a wide range of different forms of regulated competitions called disciplines. The link provided will explain these events and are the more popular types of shooting competitions we conduct at our club. \nNew and Unlicenced Shooter are welcome to participate so we have enough range officers please ensure you are booking at least 7 days prior to the event \n  \n \n\n\nBooking Form (#8)\nΔ \n\n  \n\nTo register for our shooting competition please fill out the required details. Once the form is submitted you will receive a confirmation email. Make sure you register at least 3 days in advance of the competition day as numbers are capped at 30 including Range Officers. \n\n\n\n\nAre you paying via Credit Card\, Bank Transfer or Cash\n\n Credit Card\n Bank Transfer\n Cash\n\n\n\nDo you currently hold a category H licence?\n\n Yes\n No\n\n\n\nPlease complete a Form 33 prior to attending the range \n\n\n\n\n\nFirst Name\n\n\n\n\n\nLast Name\n\n\n\n\n\n\nEmail\n\n\n\nMembership Number \n\n\n\n\n\nWhat competition event do you want to attend? \n\n\n\n\n\nWhat discipline are you shooting? \n\n\n\n Target\n Metal\n\n\n\nDo you require any hire equipment? \n\n\n\n Yes\n No\n\n\n\nEquipment required\n\n .22\n .38\n 9mm\n Colt .45\n New Shooters Pack\n New Shooters Pack (including .45)\n Safety Equipment \n\n\n\n  \n\nTerms and Conditions\nRANGE SAFETY PROCEDURES \n\nBOOK AT LEAST THREE DAYS BEFORE THE EVENT. NO WALKINS\, VISITORS OR SPECTATORS WILL BE ALLOWED.\nREAD TERMS AND CONDITIONS – CONDITION OF ENTRY TO THE RANGE IS CONDITIONAL ON ACCEPTANCE OF THESE CONDITIONS.\nDO NOT ATTEND IF UNWELL – YOU WILL NOT BE PERMITTED ON THE RANGE IF YOU APPEAR TO BE UNWELL.\nSANITIZE YOUR HANDS BEFORE ENTERING THE RANGE OR TOUCHING ANYTHING.\nSIGN IN AT THE DESK – PROVIDE YOUR OWN PEN. \nSET UP YOUR OWN TARGET – THESE WILL BE DISINFECTED BEFORE YOU ARRIVE AND WILL BE DISINFECTED AGAIN AFTER YOU PUT THEM AWAY.      \nMINIMISE THE NUMBER OF AREAS YOU TOUCH.\nWHILE WAITING BEHIND THE YELLOW LINE MAINTAINING 1.5 MT SOCIAL DISTANCE.\nAT THE END OF THE SHOOT REMOVE YOUR PAPER TARGET AND PLACE IN THE BIN\, OR TAKE IT HOME.\nWASH YOU HANDS AFTER THE SHOOT TO AVOID ANY LEAD CONTAMINATION \n\n  \n\n\n\n\n  \n\nCredit card and processing fees will be added at checkout  \n\n\n\n\nNew Shooter Pack (Range fee included) $55 \nNew Shooter Pack (including .45 and Range fees) $65 \nFirearm hire .22 (Range fee included) $35 \nFirearm hire 9mm (Range fee included) $50 \nFirearm hire .45 (Range fee included) $70 \nFirearm hire .38 (Range fee included) $55 \nAdult (Club Member) $15 \nPensioner (Club Member) $11 \nJunior (Club Member) $7.50 \nRange Fee (Non-Member) $20 \nAdult (Club Member) (SSAA Member) $10 \nJunior (Club Member) (SSAA Member) $5 \nPensioner (Club Member) (SSAA Member) $5 \n\n\nBank Details  \nSuncorp  \nBSB 484-799 \nACC 201008609 \n  \nNew Shooter Pack (Range fee included) $55 \nNew Shooter Pack (including .45 and Range fees) $65 \nFirearm hire .22 (Range fee included)$35 \nFirearm hire 9mm (Range fee included)$50 \nFirearm hire .45 (Range fee included) $70 \nFirearm hire .38 (Range fee included) $55 \nAdult (Club Member) $15 \nPensioner (Club Member) $11 \nJunior (Club Member) $7.50 \nRange Fee (Non-Member) $20 \nAdult (Club Member) (SSAA Member) $10 \nJunior (Club Member) (SSAA Member) $5 \nPensioner (Club Member) (SSAA Member) $5 \n\n\n\n\nPay with Card (Stripe)\n\n\n\n\n\n\nRange fees\n\n New Shooter Pack (Range Fee included) $55 \n New Shooter Pack (Including .45 and Range Fee) $65\n Firearm Hire .22 (Range Fee included) $35 \n Firearm Hire 9mm (Range Fee Included) $50\n Firearm Hire .45 (Range Fee included) $70\n Firearm Hire .38 (Range Fee  Included) $55\n Adult (Club Member) $15\n Pensioner (Club Member) $11 \n Junior (Club Member) $7.50\n Range Fee (Non-member) $20\n Adult (Club Member) (SSAA Member) $10\n Junior (Club Member) (SSAA Member) $5\n Pensioner (Club Member) (SSAA Member) $5\n\n\n\n\n\nNo payment items has been selected yet\n\n\n\n  \n\nI have read and agree to the Terms and Conditions and Drug and Alcohol Policy \n\n\n\n\n\n\n\n\n\n\nSubmit Booking\n\n\n\n                window.fluent_form_ff_form_instance_8_2 = {"id":"8"\,"settings":{"layout":{"labelPlacement":"top"\,"helpMessagePlacement":"with_label"\,"errorMessagePlacement":"inline"\,"asteriskPlacement":"asterisk-right"}\,"restrictions":{"denyEmptySubmission":{"enabled":false}}}\,"form_instance":"ff_form_instance_8_2"\,"form_id_selector":"fluentform_8"\,"rules":{"Heading":{"required":{"value":false\,"message":"This field is required"\,"global":false\,"global_message":"This field is required"}}\,"input_radio_1":{"required":{"value":true\,"message":"This field is required"\,"global":false\,"global_message":"This field is required"}}\,"checkbox_3":{"required":{"value":true\,"message":"This field is required"\,"global":false\,"global_message":"This field is required"}}\,"names[first_name]":{"required":{"value":true\,"message":"This field is required"\,"global":false\,"global_message":"This field is required"}}\,"names[middle_name]":{"required":{"value":false\,"message":"This field is required"\,"global":false\,"global_message":"This field is required"}}\,"names[last_name]":{"required":{"value":true\,"message":"This field is required"\,"global":false\,"global_message":"This field is required"}}\,"email":{"required":{"value":false\,"message":"This field is required"\,"global":false\,"global_message":"This field is required"}\,"email":{"value":true\,"message":"This field must contain a valid email"\,"global":false\,"global_message":"This field must contain a valid email"}}\,"input_text":{"required":{"value":true\,"message":"If you are not a member enter F33"\,"global":false\,"global_message":"This field is required"}}\,"datetime":{"required":{"value":true\,"message":"This field is required"\,"global":false\,"global_message":"This field is required"}}\,"checkbox":{"required":{"value":true\,"message":"This field is required"\,"global":false\,"global_message":"This field is required"}}\,"checkbox_2":{"required":{"value":true\,"message":"This field is required"\,"global":false\,"global_message":"This field is required"}}\,"checkbox_1":{"required":{"value":true\,"message":"This field is required"\,"global":false\,"global_message":"This field is required"}}\,"terms-n-condition":{"required":{"value":false\,"message":"This field is required"\,"global":false\,"global_message":"This field is required"}}\,"terms-n-condition_2":{"required":{"value":false\,"message":"This field is required"\,"global":false\,"global_message":"This field is required"}}\,"payment_input":{"required":{"value":true\,"message":"Please select Payment option"\,"global":false\,"global_message":"This field is required"}}\,"terms-n-condition_3":{"required":{"value":false\,"message":"This field is required"\,"global":false\,"global_message":"This field is required"}}\,"g-recaptcha-response":[]}\,"debounce_time":300\,"conditionals":{"custom_html-8_1":{"type":"any"\,"status":true\,"conditions":[{"field":"checkbox_3"\,"value":"No"\,"operator":"="}]}\,"checkbox_1":{"type":"all"\,"status":true\,"conditions":[{"field":"checkbox_2"\,"value":"Yes"\,"operator":"="}]}\,"terms-n-condition_2":{"type":"any"\,"status":true\,"conditions":[{"field":"input_radio_1"\,"value":"Credit Card"\,"operator":"="}]}\,"custom_html-8_2":{"type":"any"\,"status":true\,"conditions":[{"field":"input_radio_1"\,"value":"Cash"\,"operator":"="}]\,"condition_groups":[{"rules":[{"field":""\,"value":""\,"operator":""}]\,"title":""\,"isEditingTitle":false\,"isPreviewOpen":false\,"isGroupOpen":true}]}\,"custom_html-8_3":{"type":"any"\,"status":true\,"conditions":[{"field":"input_radio_1"\,"value":"Bank Transfer"\,"operator":"="}]\,"condition_groups":[{"rules":[{"field":""\,"value":""\,"operator":""}]\,"title":""\,"isEditingTitle":false\,"isPreviewOpen":false\,"isGroupOpen":true}]}\,"payment_method":{"type":"any"\,"status":true\,"conditions":[{"field":"input_radio_1"\,"value":"Credit Card"\,"operator":"="}]}\,"payment_input":{"type":"all"\,"status":true\,"conditions":[{"field":"input_radio_1"\,"value":"Credit Card"\,"operator":"="}]}\,"payment_summary_component-8_4":{"type":"any"\,"status":true\,"conditions":[{"field":"input_radio_1"\,"value":"Credit Card"\,"operator":"="}]}}}; \n             \n 
URL:https://gunstuff.tv/event/target-and-metal-silhouette-shooting-competition-19/
LOCATION:Pine Rivers Shooting Club\, 292 Mount Petrie Rd\, Belmont QLD 4153\, Belmont\, Queensland\, 4153\, Australia
CATEGORIES:Competition
ATTACH;FMTTYPE=image/jpeg:https://gunstuff.tv/wp-content/uploads/2025/10/Safety-Brief-A-StzMas.jpg
END:VEVENT
END:VCALENDAR