BEGIN:VCALENDAR
VERSION:2.0
PRODID:-//GunStuff TV - ECPv6.15.20//NONSGML v1.0//EN
CALSCALE:GREGORIAN
METHOD:PUBLISH
X-ORIGINAL-URL:https://gunstuff.tv
X-WR-CALDESC:Events for GunStuff TV
REFRESH-INTERVAL;VALUE=DURATION:PT1H
X-Robots-Tag:noindex
X-PUBLISHED-TTL:PT1H
BEGIN:VTIMEZONE
TZID:UTC
BEGIN:STANDARD
TZOFFSETFROM:+0000
TZOFFSETTO:+0000
TZNAME:UTC
DTSTART:20250101T000000
END:STANDARD
END:VTIMEZONE
BEGIN:VTIMEZONE
TZID:America/Chicago
BEGIN:DAYLIGHT
TZOFFSETFROM:-0600
TZOFFSETTO:-0500
TZNAME:CDT
DTSTART:20250309T080000
END:DAYLIGHT
BEGIN:STANDARD
TZOFFSETFROM:-0500
TZOFFSETTO:-0600
TZNAME:CST
DTSTART:20251102T070000
END:STANDARD
BEGIN:DAYLIGHT
TZOFFSETFROM:-0600
TZOFFSETTO:-0500
TZNAME:CDT
DTSTART:20260308T080000
END:DAYLIGHT
BEGIN:STANDARD
TZOFFSETFROM:-0500
TZOFFSETTO:-0600
TZNAME:CST
DTSTART:20261101T070000
END:STANDARD
BEGIN:DAYLIGHT
TZOFFSETFROM:-0600
TZOFFSETTO:-0500
TZNAME:CDT
DTSTART:20270314T080000
END:DAYLIGHT
BEGIN:STANDARD
TZOFFSETFROM:-0500
TZOFFSETTO:-0600
TZNAME:CST
DTSTART:20271107T070000
END:STANDARD
END:VTIMEZONE
BEGIN:VTIMEZONE
TZID:UTC
BEGIN:STANDARD
TZOFFSETFROM:+0000
TZOFFSETTO:+0000
TZNAME:UTC
DTSTART:20250101T000000
END:STANDARD
END:VTIMEZONE
BEGIN:VTIMEZONE
TZID:America/Los_Angeles
BEGIN:DAYLIGHT
TZOFFSETFROM:-0800
TZOFFSETTO:-0700
TZNAME:PDT
DTSTART:20250309T100000
END:DAYLIGHT
BEGIN:STANDARD
TZOFFSETFROM:-0700
TZOFFSETTO:-0800
TZNAME:PST
DTSTART:20251102T090000
END:STANDARD
BEGIN:DAYLIGHT
TZOFFSETFROM:-0800
TZOFFSETTO:-0700
TZNAME:PDT
DTSTART:20260308T100000
END:DAYLIGHT
BEGIN:STANDARD
TZOFFSETFROM:-0700
TZOFFSETTO:-0800
TZNAME:PST
DTSTART:20261101T090000
END:STANDARD
BEGIN:DAYLIGHT
TZOFFSETFROM:-0800
TZOFFSETTO:-0700
TZNAME:PDT
DTSTART:20270314T100000
END:DAYLIGHT
BEGIN:STANDARD
TZOFFSETFROM:-0700
TZOFFSETTO:-0800
TZNAME:PST
DTSTART:20271107T090000
END:STANDARD
END:VTIMEZONE
BEGIN:VTIMEZONE
TZID:America/New_York
BEGIN:DAYLIGHT
TZOFFSETFROM:-0500
TZOFFSETTO:-0400
TZNAME:EDT
DTSTART:20250309T070000
END:DAYLIGHT
BEGIN:STANDARD
TZOFFSETFROM:-0400
TZOFFSETTO:-0500
TZNAME:EST
DTSTART:20251102T060000
END:STANDARD
BEGIN:DAYLIGHT
TZOFFSETFROM:-0500
TZOFFSETTO:-0400
TZNAME:EDT
DTSTART:20260308T070000
END:DAYLIGHT
BEGIN:STANDARD
TZOFFSETFROM:-0400
TZOFFSETTO:-0500
TZNAME:EST
DTSTART:20261101T060000
END:STANDARD
BEGIN:DAYLIGHT
TZOFFSETFROM:-0500
TZOFFSETTO:-0400
TZNAME:EDT
DTSTART:20270314T070000
END:DAYLIGHT
BEGIN:STANDARD
TZOFFSETFROM:-0400
TZOFFSETTO:-0500
TZNAME:EST
DTSTART:20271107T060000
END:STANDARD
END:VTIMEZONE
BEGIN:VEVENT
DTSTART;TZID=UTC:20260329T090000
DTEND;TZID=UTC:20260703T210000
DTSTAMP:20260424T055345
CREATED:20260330T200138Z
LAST-MODIFIED:20260406T200144Z
UID:10006626-1774774800-1783112400@gunstuff.tv
SUMMARY:Open Range W/C 29/03/2026
DESCRIPTION:
URL:https://gunstuff.tv/event/open-range-w-c-29-03-2026/
LOCATION:Tiverton Small-bore Rifle Club
END:VEVENT
BEGIN:VEVENT
DTSTART;VALUE=DATE:20260401
DTEND;VALUE=DATE:20260402
DTSTAMP:20260424T055345
CREATED:20251005T190050Z
LAST-MODIFIED:20260329T200128Z
UID:10001665-1775001600-1775087999@gunstuff.tv
SUMMARY:Wednesday Registered Skeet
DESCRIPTION:Registered Skeet.  Contact Jerry Adams at 240-605-3220 for details. \nClick here for flyer
URL:https://gunstuff.tv/event/wednesday-registered-skeet-7/
LOCATION:OH
END:VEVENT
BEGIN:VEVENT
DTSTART;TZID=UTC:20260401T080000
DTEND;TZID=UTC:20260401T120000
DTSTAMP:20260424T055345
CREATED:20260331T003138Z
LAST-MODIFIED:20260331T003302Z
UID:10006627-1775030400-1775044800@gunstuff.tv
SUMMARY:Indoor range closed 8am-12:00pm
DESCRIPTION:Indoor range closed
URL:https://gunstuff.tv/event/indoor-range-closed-8am-1200pm-22/
LOCATION:OH
END:VEVENT
BEGIN:VEVENT
DTSTART;TZID=America/Chicago:20260401T080000
DTEND;TZID=America/Chicago:20260401T170000
DTSTAMP:20260424T055345
CREATED:20260303T021745Z
LAST-MODIFIED:20260317T021636Z
UID:10006050-1775030400-1775062800@gunstuff.tv
SUMMARY:Spring League
DESCRIPTION:[vc_row][vc_column icons_position=”left”][vc_column_text css=””]Birds are flying and spring is in the air and you know what else in the skies? Some clays ready to get dusted! The Defender Outdoors Clay Sports Ranch Spring League is an 8 week shooting league where you’ll squad up and compete for awards and bragging rights. Then we’ll all get together at the end to party it up and toast to a season well shot! \nWHEN:\nStart the week of March 18th\, Shoot on 3/18\, 3/25\, 4/1\, 4/8\, SKIP 4/15 week due to State\, 4/22\, 4/29\, 5/6\, 5/13 and League Dinner Party/Awards on May 20th \n***Teams and Individuals can shoot anytime between Wednesday at 10AM and Sunday close of business each week.*** \nBASICS:\nLeague scores based on 50 targets per week.   \n(Practice course and 5-stand will also be available prior and after weekly rounds)  \nTARGETS:\nEnjoyable targets will be set by Gary Madigan and Team \nPRICE:\nPrice for league is $290 for all 8 weeks which includes the League Party dinner/awards.   \nTEAMS:\nA team is required to have a minimum of 4 shooters and a maximum of 6 shooters. Team scores will take the highest 4 shooters including handicap for the weekly total. Team rosters must be finalized by the end of the first week. Individual shooters will be grouped to form teams as needed\, and each shooter may compete on only one team per league. \nHANDICAPS:\nHandicaps are calculated by using the shooter’s weekly score\, then subtracting it from “par”\, which is 45 and multiplying the difference times .70 (70%) Example: If a shooter’s score is 30 the equation is 45-30=15 x .70 = 10.5. the product (in the example 10.5) will be added to the shooter’s score. Handicaps adjusted each week. Maximum score with handicap is 45. \nWEATHER and MAKE-UP ROUNDS:\nIf you are not able to make it on the scheduled evening\, bank scores must be made up by Sunday of that week or you will be given an average of 2 other weeks scores for that week. The same for weather related cancelations. \nTROPHIES and AWARDS:\n\nIndividual awards:\n\nHOA\, HOA Runner-Up\, A Class First\, B Class First\, High Junior\, RU Junior\, High Lady\, RU Lady\, Lady 3rd\, Lady 4th\, Most Improved\n\n\nTeam Awards:\n\nFirst\, Second\, A Class First Place\n\n\n\nSign-Up:\nSign up on Scorechaser.com and email Jessica@defenderoutdoors.com with any registration questions. \nQUESTIONS AND CONCERNS:\nPlease contact Travis Mears at 817-980-4345 or travis@defenderoutdoors.com[/vc_column_text][/vc_column][/vc_row]
URL:https://gunstuff.tv/event/spring-league-5/
LOCATION:Clay Sports Ranch\, 8270 Aledo Road\, Fort Worth\, TX\, 76126\, United States
CATEGORIES:Clay Sports Ranch Events
ATTACH;FMTTYPE=image/jpeg:https://gunstuff.tv/wp-content/uploads/2026/03/Spring-League-2026-Flyer-scaled-t3z5IU-ZDm5RB.jpg
ORGANIZER;CN="Defender Outdoors Clay Sports Ranch":MAILTO:jessica@defenderoutdoors.com
END:VEVENT
BEGIN:VEVENT
DTSTART;TZID=UTC:20260401T080000
DTEND;TZID=UTC:20260403T170000
DTSTAMP:20260424T055345
CREATED:20260331T003138Z
LAST-MODIFIED:20260331T003302Z
UID:10006628-1775030400-1775235600@gunstuff.tv
SUMMARY:****Outdoor Range Closed 8am-5:00pm
DESCRIPTION:Outdoor Range Closed
URL:https://gunstuff.tv/event/outdoor-range-closed-8am-500pm/
LOCATION:OH
END:VEVENT
BEGIN:VEVENT
DTSTART;TZID=UTC:20260401T090000
DTEND;TZID=UTC:20260401T090000
DTSTAMP:20260424T055345
CREATED:20251017T181838Z
LAST-MODIFIED:20260329T034743Z
UID:10002437-1775034000-1775034000@gunstuff.tv
SUMMARY:Volusia USPSA 6 Stage match
DESCRIPTION:Volusia USPSA 6 Stage match\nDate : 4/01/26\nStart Time: 9:00 AM\nLocation:\nVolusia County Gun & Hunt Club (FL34)\n4845 SR 44\nNew Smyrna Beach\, FL\nEvent Contact Information\nVolusia\n(386) 301-7881\nvolusiagunclub@gmail.com\nMatch Information\nWe run 6 Uspsa stages\n9am Start\nRegistration on practiscore type in Volusia for all events\nWe run 5-6 weekly matches including Steel Challenge as well.
URL:https://gunstuff.tv/event/volusia-uspsa-6-stage-match-14/
LOCATION:Volusia County Gun & Hunt Club (FL34)\, 4599 State Rd 44\, New Smyrna Beach\, FL\, United States
GEO:29.024797;-81.124736
X-APPLE-STRUCTURED-LOCATION;VALUE=URI;X-ADDRESS=Volusia County Gun & Hunt Club (FL34) 4599 State Rd 44 New Smyrna Beach FL United States;X-APPLE-RADIUS=500;X-TITLE=4599 State Rd 44:geo:-81.124736,29.024797
END:VEVENT
BEGIN:VEVENT
DTSTART;TZID=America/Los_Angeles:20260401T090000
DTEND;TZID=America/Los_Angeles:20260401T120000
DTSTAMP:20260424T055345
CREATED:20260306T193144Z
LAST-MODIFIED:20260327T193142Z
UID:10006177-1775034000-1775044800@gunstuff.tv
SUMMARY:Airgun Wednesdays
DESCRIPTION:Fun Airgun Only shooting session at the MPR- look for the big red flag on the pole that says “MPR”- that’s us! \nOpen to public\, airguns .30 cal and below. Benches available\, targets and stands\, 200 yard range. Good group of people. \nAll types of airguns- springers\, PCP’s\, Pistols.  Eye protection required\, ear protection optional \nNo bb\, darts or airsoft please. \n$15 Guest\n$10 for Diablo members (did you know Diablo membership is only $25 a year?)\n$5 for those special few that have purchased a USI VIP card.\nYouths accompanied by a Club member adult shoot free.\n \n\nUSI waiver must signed prior to shoot\, you can do so prior to attending: \n\n\nWaiver \n\n\nContact: \nSam Russo \nthePelleteer@gmail.com
URL:https://gunstuff.tv/event/airgun-wednesdays-25/
LOCATION:USI Multi Purpose Range\, 4700 Evora Road\, Concord\, CA\, 94520
CATEGORIES:Airgun
ATTACH;FMTTYPE=image/jpeg:https://gunstuff.tv/wp-content/uploads/2025/10/4MRvVFxy_400x400-e1623188943149-4rbkn0.jpg
ORGANIZER;CN="Sam Russo":MAILTO:airgun_fieldtarget@diablorodandgun.com
END:VEVENT
BEGIN:VEVENT
DTSTART;TZID=America/Chicago:20260401T090000
DTEND;TZID=America/Chicago:20260401T180000
DTSTAMP:20260424T055345
CREATED:20260324T021634Z
LAST-MODIFIED:20260331T021739Z
UID:10006473-1775034000-1775066400@gunstuff.tv
SUMMARY:Spring League
DESCRIPTION:Birds are flying and spring is in the air and you know what else in the skies? Some clays ready to get dusted! The Defender Outdoors Clay Sports Ranch Spring League is an 8 week shooting league where you’ll squad up and compete for awards and bragging rights. Then we’ll all get together at the end to party it up and toast to a season well shot! \nWHEN:\nStart the week of March 18th\, Shoot on 3/18\, 3/25\, 4/1\, 4/8\, SKIP 4/15 week due to State\, 4/22\, 4/29\, 5/6\, 5/13 and League Dinner Party/Awards on May 20th \n***Teams and Individuals can shoot anytime between Wednesday at 10AM and Sunday close of business each week.*** \nBASICS:\nLeague scores based on 50 targets per week.   \n(Practice course and 5-stand will also be available prior and after weekly rounds)  \nTARGETS:\nEnjoyable targets will be set by Gary Madigan and Team \nPRICE:\nPrice for league is $290 for all 8 weeks which includes the League Party dinner/awards.   \nTEAMS:\nA team is required to have a minimum of 4 shooters and a maximum of 6 shooters. Team scores will take the highest 4 shooters including handicap for the weekly total. Team rosters must be finalized by the end of the first week. Individual shooters will be grouped to form teams as needed\, and each shooter may compete on only one team per league. \nHANDICAPS:\nHandicaps are calculated by using the shooter’s weekly score\, then subtracting it from “par”\, which is 45 and multiplying the difference times .70 (70%) Example: If a shooter’s score is 30 the equation is 45-30=15 x .70 = 10.5. the product (in the example 10.5) will be added to the shooter’s score. Handicaps adjusted each week. Maximum score with handicap is 45. \nWEATHER and MAKE-UP ROUNDS:\nIf you are not able to make it on the scheduled evening\, bank scores must be made up by Sunday of that week or you will be given an average of 2 other weeks scores for that week. The same for weather related cancelations. \nTROPHIES and AWARDS:\n\nIndividual awards:\n\nHOA\, HOA Runner-Up\, A Class First\, B Class First\, High Junior\, RU Junior\, High Lady\, RU Lady\, Lady 3rd\, Lady 4th\, Most Improved\n\n\nTeam Awards:\n\nFirst\, Second\, A Class First Place\n\n\n\nSign-Up:\nSign up on Scorechaser.com and email Jessica@defenderoutdoors.com with any registration questions. \nQUESTIONS AND CONCERNS:\nPlease contact Travis Mears at 817-980-4345 or travis@defenderoutdoors.com
URL:https://gunstuff.tv/event/spring-league-8/
LOCATION:Clay Sports Ranch\, 8270 Aledo Road\, Fort Worth\, TX\, 76126\, United States
CATEGORIES:Clay Sports Ranch Events
ATTACH;FMTTYPE=image/jpeg:https://gunstuff.tv/wp-content/uploads/2026/03/Spring-League-2026-Flyer-scaled-t3z5IU-ZDm5RB.jpg
ORGANIZER;CN="Defender Outdoors Clay Sports Ranch":MAILTO:jessica@defenderoutdoors.com
END:VEVENT
BEGIN:VEVENT
DTSTART;TZID=America/Chicago:20260401T100000
DTEND;TZID=America/Chicago:20260401T110000
DTSTAMP:20260424T055345
CREATED:20260310T021639Z
LAST-MODIFIED:20260331T021739Z
UID:10006253-1775037600-1775041200@gunstuff.tv
SUMMARY:LTC Qualification
DESCRIPTION:Are you a student who has taken an online LTC Course and need to complete your shooting qualification? Defender offers the LTC shooting proficiency portion every week. \nThe shooting qualification requires that you must be able to load\, unload\, and fire the handgun proficiently. If you are new to or inexperienced with shooting we strongly recommend taking either the LTC Prep or Handgun Fundamentals course. This course does not teach basic firearm skills or shooting instruction. (More info) \nPlease arrive a few minutes early to check in and bring a printed copy of your LTC 104 form. \nOur shooting qualification schedule is as follows: \n\nWednesdays – 10:00am\nSaturdays – 8:00am\n\nNo appointment needed\, you can simply walk-in during these available times. \nPlease bring the following: \n\nLTC 104 Form\nFirearm (rental available at additional charge)\n1 magazine\n50 rounds of ammo (ammunition is available for purchase at time of session)\nEye and Ear Protection (rentals available)\n\nREGISTER NOW
URL:https://gunstuff.tv/event/ltc-qualification-54/
LOCATION:Shooting Center\, 2900 Shotts Street\, Fort Worth\, TX\, 76107
CATEGORIES:Shooting Center,Shooting Center Training
ATTACH;FMTTYPE=image/jpeg:https://gunstuff.tv/wp-content/uploads/2025/10/LTC-Qualification-vTp9PG.jpg
ORGANIZER;CN="Defender Outdoors Shooting Center Training":MAILTO:info@defenderoutdoors.com
END:VEVENT
BEGIN:VEVENT
DTSTART;TZID=America/Chicago:20260401T100000
DTEND;TZID=America/Chicago:20260401T120000
DTSTAMP:20260424T055345
CREATED:20260310T021639Z
LAST-MODIFIED:20260331T021739Z
UID:10006254-1775037600-1775044800@gunstuff.tv
SUMMARY:Develop A Personal & Home Protection Plan Seminar
DESCRIPTION:Build an expert-guided defense plan to fortify your home and keep your family safe! \nYou’ll leave this class with a simple\, yet highly effective home and personal protection plan developed by self-defense experts. You’ll learn how to keep yourself and your loved ones safe. \n\nBuild an actionable defense and protection plan designed specifically for your home\nFive easy and powerful situational awareness tips to avoid threats and look less like an easy target\nThree critical steps to take to keep your family safe (no matter what happens next)\nHow to quickly improve your home security and defense (without breaking the bank)\nPlus: LIVE Q+A with USCCA Certified Instructors\n\nWhat to Bring:\nQuestions and materials to take notes \n\nREGISTER NOW
URL:https://gunstuff.tv/event/develop-a-personal-home-protection-plan-seminar-3/
LOCATION:Shooting Center\, 2900 Shotts Street\, Fort Worth\, TX\, 76107
CATEGORIES:Shooting Center,Shooting Center Training
ATTACH;FMTTYPE=image/jpeg:https://gunstuff.tv/wp-content/uploads/2026/03/USCCA-Free-Seminars-EcPa60.jpg
ORGANIZER;CN="Defender Outdoors Shooting Center Training":MAILTO:info@defenderoutdoors.com
END:VEVENT
BEGIN:VEVENT
DTSTART;TZID=America/Los_Angeles:20260401T120000
DTEND;TZID=America/Los_Angeles:20260401T160000
DTSTAMP:20260424T055345
CREATED:20260306T193144Z
LAST-MODIFIED:20260327T193142Z
UID:10006178-1775044800-1775059200@gunstuff.tv
SUMMARY:.22 Silhouette Practice and Airguns welcome!
DESCRIPTION:22 Rimfire and Air guns only- Silhouette target shooting at the MPR. \nOffhand/Standing shooting at Metal Animal silhouettes with rifles or pistols\, open or scoped sights allowed. \nBenches are available during this practice period every Wednesday \nMembers of all 5 clubs are welcome.\n Fees are collected at the Multi Purpose Range\, not at the USI Clubhouse .\nThe MPR is the building on the right hand side as you pass the Public Range\, but before the Impalement Arts Range.\nLook for the red MPR flag on the flag post- that’s us!\n\nUSI waiver and a Blue Card issued from the USI clubhouse required prior to the match- there is no charge to these one time processes.\n\nA silhouette is a steel profile of an animal (chicken\, pig\, turkey\, or ram) standing on a pedestal. The object of the game is to knock as many silhouettes as possible off the stand\, shooting one round at each silhouette. It is a very simple competition\, with very simple scoring: Knocking an animal off its stand counts as a hit.\n\nAlthough silhouette is an easy game to learn\, it is not an easy game to master. The animals are rather small and the distances can reach out a bit; you must shoot offhand (standing); a moderate breeze can move a bullet or a pellet the width of an animal; your concentration becomes more difficult to hold as you knock down five in a row or with a close miss.  Silhouette is an endless challenge that makes you a better shooter!\nThis is a reoccurring event every Week- we intend to host this practice barring weather or extraordinary barriers preventing the event from occurring in a safe environment. Heavy fog\, severe weather or other acts of nature could force a postponement.\n\n+ GOOGLE CALENDAR+ ICAL EXPORT\n\n\nRelated Events
URL:https://gunstuff.tv/event/22-silhouette-practice-and-airguns-welcome-25/
LOCATION:USI Multi Purpose Range\, 4700 Evora Road\, Concord\, CA\, 94520
CATEGORIES:Airgun,Silhouette Shooting
ATTACH;FMTTYPE=image/jpeg:https://gunstuff.tv/wp-content/uploads/2025/10/Silhouette_Target_1-05Bdxg.jpg
ORGANIZER;CN="Dennis Winslow":MAILTO:dmwinslow@aol.com
END:VEVENT
BEGIN:VEVENT
DTSTART;TZID=America/New_York:20260401T153000
DTEND;TZID=America/New_York:20260401T173000
DTSTAMP:20260424T055345
CREATED:20251228T204643Z
LAST-MODIFIED:20260111T210132Z
UID:10003664-1775057400-1775064600@gunstuff.tv
SUMMARY:CamCo Clay Crushers Practice
DESCRIPTION:*Please dress appropriately for the weather conditions\, layers are a great idea!**Follow the Facebook page (Cameron County Clay Crushers) for all up to date information.***Any questions please contact Coach Mike 814-203-2624 or Coach Sabrina 814-203-2590.
URL:https://gunstuff.tv/event/camco-clay-crushers-practice-6/
LOCATION:523 Sizer Run Rd\, Emporium\, PA\, United States
GEO:41.51031;-78.23157
END:VEVENT
BEGIN:VEVENT
DTSTART;TZID=America/Chicago:20260401T170000
DTEND;TZID=America/Chicago:20260401T190000
DTSTAMP:20260424T055345
CREATED:20260310T021641Z
LAST-MODIFIED:20260331T021739Z
UID:10006255-1775062800-1775070000@gunstuff.tv
SUMMARY:Ladies Only Pistol 1
DESCRIPTION:Ladies\, this class is specfically for you! Formally Intro to Handgun\, this comprehensive beginner class is designed to build a solid foundation in handgun knowledge and handling. Whether you’re new to firearms or seeking to refine your skills\, this course will equip you with essential information and hands-on experience. \nWhat You’ll Learn: \nClassroom Instruction \n\nFirearm Fundamentals: Understand the mechanics of revolvers\, semi-automatic\, and striker-fired handguns\, as well as the types of ammunition they use.\nSafety First: Master the rules of firearm safety and range procedures to ensure a safe and enjoyable shooting experience.\nCarry & Holster Options: Explore different carry positions and holster styles to find the best fit for your needs.\nStorage Solutions: Learn practical tips for safely storing firearms at home.\n\nOn the Range \n\nHands-On Practice: Develop your stance\, grip\, sight alignment\, and trigger control under expert guidance.\nSkill-Building Drills: Practice essential techniques that build confidence and proficiency.\n\nThis course serves as an excellent prequel or sequel to our License to Carry class\, providing a thorough foundation in handgun handling and safety. \n\nEquipment Needed:\n\nGun rentals are included if needed.\nTargets\, eye protection\, and ear protection are provided.\nAmmo is available for purchase.\n\n\nRequirements:\n\nBring at least 50 rounds of ammunition.\nIf you own a handgun\, bring two magazines for reloading practice.\n\n\n\nGet ready to feel confident and prepared with your handgun skills. Sign up today to begin your journey! \nREGISTER HERE
URL:https://gunstuff.tv/event/ladies-only-pistol-1-9/
LOCATION:Shooting Center\, 2900 Shotts Street\, Fort Worth\, TX\, 76107
CATEGORIES:Shooting Center,Shooting Center Training
ATTACH;FMTTYPE=image/jpeg:https://gunstuff.tv/wp-content/uploads/2026/03/Ladies-Only-Pistol-1-j0bafc-zuynyy.jpg
ORGANIZER;CN="Defender Outdoors Shooting Center Training":MAILTO:info@defenderoutdoors.com
END:VEVENT
BEGIN:VEVENT
DTSTART;TZID=America/Los_Angeles:20260401T170000
DTEND;TZID=America/Los_Angeles:20260401T220000
DTSTAMP:20260424T055345
CREATED:20251109T204648Z
LAST-MODIFIED:20260329T221627Z
UID:10003046-1775062800-1775080800@gunstuff.tv
SUMMARY:MOORE N MOORE - NIGHT SHOOT & BBQ
DESCRIPTION:For more information\, contact Moore N Moore at https://www.moorenmoore.com/night-shooting/
URL:https://gunstuff.tv/event/moore-n-moore-night-shoot-bbq-24/
LOCATION:Moore N Moore Sporting Clays\, 12653 Little Tujunga Canyon Rd\, Sylmar\, CA\, United States
CATEGORIES:Moore N Moore
ATTACH;FMTTYPE=image/png:https://gunstuff.tv/wp-content/uploads/2025/10/image-pjjZEf.png
ORGANIZER;CN="Moore N Moore Sporting Clays":MAILTO:info@moorenmoore.com
GEO:34.282317;-118.371281
X-APPLE-STRUCTURED-LOCATION;VALUE=URI;X-ADDRESS=Moore N Moore Sporting Clays 12653 Little Tujunga Canyon Rd Sylmar CA United States;X-APPLE-RADIUS=500;X-TITLE=12653 Little Tujunga Canyon Rd:geo:-118.371281,34.282317
END:VEVENT
BEGIN:VEVENT
DTSTART;TZID=America/New_York:20260401T180000
DTEND;TZID=America/New_York:20260401T220000
DTSTAMP:20260424T055345
CREATED:20260327T051710Z
LAST-MODIFIED:20260327T051751Z
UID:10006535-1775066400-1775080800@gunstuff.tv
SUMMARY:Senior Rifle
DESCRIPTION:
URL:https://gunstuff.tv/event/senior-rifle-20/
LOCATION:Indoor Rifle & Pistol Range\, 4770 Waterford Rd\,\, Village of Clarkston\, 48346
CATEGORIES:D.R. Wilson,Indoor Rifle & Pistol Rage,Range
ATTACH;FMTTYPE=image/jpeg:https://gunstuff.tv/wp-content/uploads/2025/10/senior-rifle-ocsc-scaled-e1697654234116-4njrFr.jpg
END:VEVENT
BEGIN:VEVENT
DTSTART;TZID=America/New_York:20260401T180000
DTEND;TZID=America/New_York:20260401T220000
DTSTAMP:20260424T055345
CREATED:20260327T051711Z
LAST-MODIFIED:20260327T051751Z
UID:10006537-1775066400-1775080800@gunstuff.tv
SUMMARY:Shotgun Shooting Hours
DESCRIPTION:OCSC SHOTGUN CLUB HOURS\nThe OCSC Shotgun Club is open for shooting to members\, guests and non-members every Tuesday & Wednesday from 6 – 10 pm and every Saturday and Sunday from 11 am – 4 pm.\nThe club sells 12 and 20 gauge ammunition (lead shot only). Come on out and give shotgun shooting a try… we offer trap\, wobble trap\, skeet (steel shot only)\, 7-yard & 12-yard upland angles\, 5-stand and flurry.
URL:https://gunstuff.tv/event/shotgun-shooting-hours-19/
LOCATION:Shotgun Ranges\, 4770 Waterford Rd\, Clarkston\, MI\, United States
CATEGORIES:Range,Shotgun,Shotgun Range
ATTACH;FMTTYPE=image/png:https://gunstuff.tv/wp-content/uploads/2025/10/shotgun-logo-160x160-1-mvSnxY.png
GEO:42.705297;-83.4014
X-APPLE-STRUCTURED-LOCATION;VALUE=URI;X-ADDRESS=Shotgun Ranges 4770 Waterford Rd Clarkston MI United States;X-APPLE-RADIUS=500;X-TITLE=4770 Waterford Rd:geo:-83.4014,42.705297
END:VEVENT
BEGIN:VEVENT
DTSTART;TZID=America/Chicago:20260401T183000
DTEND;TZID=America/Chicago:20260401T193000
DTSTAMP:20260424T055345
CREATED:20251118T214643Z
LAST-MODIFIED:20260331T221629Z
UID:10003159-1775068200-1775071800@gunstuff.tv
SUMMARY:Madison County Townhall Meeting
DESCRIPTION:Come out and join your friends at the ISRA Madison County Townhall meeting starting at 6:30 pm. As always\, we will discuss current events.\nCome join us and enjoy great company at our gracious host\, Piasa Armory.
URL:https://gunstuff.tv/event/madison-county-grassroots-meeting-4/
LOCATION:Piasa Armory\, East Alton\, IL\, United States
CATEGORIES:Event Calendar
GEO:38.876483;-90.109493
END:VEVENT
BEGIN:VEVENT
DTSTART;TZID=America/New_York:20260401T183000
DTEND;TZID=America/New_York:20260401T200000
DTSTAMP:20260424T055345
CREATED:20260327T051710Z
LAST-MODIFIED:20260327T051751Z
UID:10006536-1775068200-1775073600@gunstuff.tv
SUMMARY:New Member Orientation
DESCRIPTION:
URL:https://gunstuff.tv/event/new-member-orientation-12/
LOCATION:Indoor Rifle & Pistol Range\, 4770 Waterford Rd\,\, Village of Clarkston\, 48346
CATEGORIES:Club Events,Indoor Rifle & Pistol Rage,Range
ATTACH;FMTTYPE=image/jpeg:https://gunstuff.tv/wp-content/uploads/2025/10/New-Member-orientation-8vadgR.jpg
END:VEVENT
BEGIN:VEVENT
DTSTART;TZID=America/New_York:20260401T190000
DTEND;TZID=America/New_York:20260401T200000
DTSTAMP:20260424T055345
CREATED:20260327T051710Z
LAST-MODIFIED:20260327T051751Z
UID:10006533-1775070000-1775073600@gunstuff.tv
SUMMARY:WHRRI Meeting
DESCRIPTION:
URL:https://gunstuff.tv/event/whrri-meeting-5/
LOCATION:Michigan
CATEGORIES:WHRRI
ATTACH;FMTTYPE=image/png:https://gunstuff.tv/wp-content/uploads/2025/10/WHRR-logo-160x160-1-VcwwzX.png
END:VEVENT
BEGIN:VEVENT
DTSTART;TZID=America/New_York:20260401T190000
DTEND;TZID=America/New_York:20260401T200000
DTSTAMP:20260424T055345
CREATED:20260327T051710Z
LAST-MODIFIED:20260327T051751Z
UID:10006534-1775070000-1775073600@gunstuff.tv
SUMMARY:Muzzleloaders Meeting
DESCRIPTION:
URL:https://gunstuff.tv/event/muzzleloaders-meeting-6/
LOCATION:Michigan
CATEGORIES:Muzzleloaders
ATTACH;FMTTYPE=image/png:https://gunstuff.tv/wp-content/uploads/2025/10/muzzleloaders-logo-160x160-1-eSDbHZ.png
END:VEVENT
BEGIN:VEVENT
DTSTART;TZID=America/New_York:20260401T190000
DTEND;TZID=America/New_York:20260401T210000
DTSTAMP:20260424T055345
CREATED:20251207T181647Z
LAST-MODIFIED:20260329T184630Z
UID:10003446-1775070000-1775077200@gunstuff.tv
SUMMARY:Wednesday Night Trap League
DESCRIPTION:https://www.fxrgc.org/shotgun/wednesday-night-trap-league/ \nShotgun Fields 1-8.
URL:https://gunstuff.tv/event/wednesday-night-trap-league-11/
LOCATION:Fields 1-8
END:VEVENT
END:VCALENDAR