BEGIN:VCALENDAR
VERSION:2.0
PRODID:-//GunStuff TV - ECPv6.15.20//NONSGML v1.0//EN
CALSCALE:GREGORIAN
METHOD:PUBLISH
X-ORIGINAL-URL:https://gunstuff.tv
X-WR-CALDESC:Events for GunStuff TV
REFRESH-INTERVAL;VALUE=DURATION:PT1H
X-Robots-Tag:noindex
X-PUBLISHED-TTL:PT1H
BEGIN:VTIMEZONE
TZID:UTC
BEGIN:STANDARD
TZOFFSETFROM:+0000
TZOFFSETTO:+0000
TZNAME:UTC
DTSTART:20250101T000000
END:STANDARD
END:VTIMEZONE
BEGIN:VTIMEZONE
TZID:America/New_York
BEGIN:DAYLIGHT
TZOFFSETFROM:-0500
TZOFFSETTO:-0400
TZNAME:EDT
DTSTART:20250309T070000
END:DAYLIGHT
BEGIN:STANDARD
TZOFFSETFROM:-0400
TZOFFSETTO:-0500
TZNAME:EST
DTSTART:20251102T060000
END:STANDARD
BEGIN:DAYLIGHT
TZOFFSETFROM:-0500
TZOFFSETTO:-0400
TZNAME:EDT
DTSTART:20260308T070000
END:DAYLIGHT
BEGIN:STANDARD
TZOFFSETFROM:-0400
TZOFFSETTO:-0500
TZNAME:EST
DTSTART:20261101T060000
END:STANDARD
BEGIN:DAYLIGHT
TZOFFSETFROM:-0500
TZOFFSETTO:-0400
TZNAME:EDT
DTSTART:20270314T070000
END:DAYLIGHT
BEGIN:STANDARD
TZOFFSETFROM:-0400
TZOFFSETTO:-0500
TZNAME:EST
DTSTART:20271107T060000
END:STANDARD
END:VTIMEZONE
BEGIN:VTIMEZONE
TZID:America/Chicago
BEGIN:DAYLIGHT
TZOFFSETFROM:-0600
TZOFFSETTO:-0500
TZNAME:CDT
DTSTART:20250309T080000
END:DAYLIGHT
BEGIN:STANDARD
TZOFFSETFROM:-0500
TZOFFSETTO:-0600
TZNAME:CST
DTSTART:20251102T070000
END:STANDARD
BEGIN:DAYLIGHT
TZOFFSETFROM:-0600
TZOFFSETTO:-0500
TZNAME:CDT
DTSTART:20260308T080000
END:DAYLIGHT
BEGIN:STANDARD
TZOFFSETFROM:-0500
TZOFFSETTO:-0600
TZNAME:CST
DTSTART:20261101T070000
END:STANDARD
BEGIN:DAYLIGHT
TZOFFSETFROM:-0600
TZOFFSETTO:-0500
TZNAME:CDT
DTSTART:20270314T080000
END:DAYLIGHT
BEGIN:STANDARD
TZOFFSETFROM:-0500
TZOFFSETTO:-0600
TZNAME:CST
DTSTART:20271107T070000
END:STANDARD
END:VTIMEZONE
BEGIN:VTIMEZONE
TZID:America/Denver
BEGIN:DAYLIGHT
TZOFFSETFROM:-0700
TZOFFSETTO:-0600
TZNAME:MDT
DTSTART:20250309T090000
END:DAYLIGHT
BEGIN:STANDARD
TZOFFSETFROM:-0600
TZOFFSETTO:-0700
TZNAME:MST
DTSTART:20251102T080000
END:STANDARD
BEGIN:DAYLIGHT
TZOFFSETFROM:-0700
TZOFFSETTO:-0600
TZNAME:MDT
DTSTART:20260308T090000
END:DAYLIGHT
BEGIN:STANDARD
TZOFFSETFROM:-0600
TZOFFSETTO:-0700
TZNAME:MST
DTSTART:20261101T080000
END:STANDARD
BEGIN:DAYLIGHT
TZOFFSETFROM:-0700
TZOFFSETTO:-0600
TZNAME:MDT
DTSTART:20270314T090000
END:DAYLIGHT
BEGIN:STANDARD
TZOFFSETFROM:-0600
TZOFFSETTO:-0700
TZNAME:MST
DTSTART:20271107T080000
END:STANDARD
END:VTIMEZONE
BEGIN:VTIMEZONE
TZID:UTC
BEGIN:STANDARD
TZOFFSETFROM:+0000
TZOFFSETTO:+0000
TZNAME:UTC
DTSTART:20250101T000000
END:STANDARD
END:VTIMEZONE
BEGIN:VEVENT
DTSTART;TZID=UTC:20260329T090000
DTEND;TZID=UTC:20260703T210000
DTSTAMP:20260424T054750
CREATED:20260330T200138Z
LAST-MODIFIED:20260406T200144Z
UID:10006626-1774774800-1783112400@gunstuff.tv
SUMMARY:Open Range W/C 29/03/2026
DESCRIPTION:
URL:https://gunstuff.tv/event/open-range-w-c-29-03-2026/
LOCATION:Tiverton Small-bore Rifle Club
END:VEVENT
BEGIN:VEVENT
DTSTART;VALUE=DATE:20260330
DTEND;VALUE=DATE:20260331
DTSTAMP:20260424T054750
CREATED:20260213T031054Z
LAST-MODIFIED:20260327T034726Z
UID:10005202-1774828800-1774915199@gunstuff.tv
SUMMARY:Club Closed
DESCRIPTION:
URL:https://gunstuff.tv/event/club-closed-13/
LOCATION:OH
END:VEVENT
BEGIN:VEVENT
DTSTART;VALUE=DATE:20260330
DTEND;VALUE=DATE:20260331
DTSTAMP:20260424T054750
CREATED:20260303T034637Z
LAST-MODIFIED:20260324T040130Z
UID:10006056-1774828800-1774915199@gunstuff.tv
SUMMARY:Closed Mondays
DESCRIPTION:@ 			\n			\n							 \n\nHOURS: \nMonday: Closed \nTues-Thurs: 10am-8pm \nFri: 10am-5pm \nSat: 9:30am-5pm (shooting @10am) \nSun: 10:30am-4pm (shooting @11am) \nLast lane reservation is 1 hour before closing \n\n		\n\n\n\n\n\n\n						\n							Add to calendar						 \n\n\n\n									\n										Google Calendar									\n								\n\n									\n										iCalendar									\n								\n\n									\n										Outlook 365									\n								\n\n									\n										Outlook Live
URL:https://gunstuff.tv/event/closed-mondays-26/
LOCATION:OH
END:VEVENT
BEGIN:VEVENT
DTSTART;TZID=America/Denver:20260330T060000
DTEND;TZID=America/Denver:20260331T170000
DTSTAMP:20260424T054750
CREATED:20260302T073129Z
LAST-MODIFIED:20260330T080252Z
UID:10005952-1774850400-1774976400@gunstuff.tv
SUMMARY:Mar 30&31 2026 Member Only Day
DESCRIPTION:The Range is Open to FRGC Members Only.
URL:https://gunstuff.tv/event/mar-3031-2026-member-only-day/
LOCATION:Fall River Gun Range\, 28300 Old Hwy 79\, Hot Springs\, SD\, United States
GEO:43.303233;-103.346518
X-APPLE-STRUCTURED-LOCATION;VALUE=URI;X-ADDRESS=Fall River Gun Range 28300 Old Hwy 79 Hot Springs SD United States;X-APPLE-RADIUS=500;X-TITLE=28300 Old Hwy 79:geo:-103.346518,43.303233
END:VEVENT
BEGIN:VEVENT
DTSTART;TZID=America/Denver:20260330T060000
DTEND;TZID=America/Denver:20260331T170000
DTSTAMP:20260424T054750
CREATED:20260302T073130Z
LAST-MODIFIED:20260302T073130Z
UID:10005953-1774850400-1774976400@gunstuff.tv
SUMMARY:Mar 30&31 2026 Member Only Day
DESCRIPTION:The Range is Open to FRGC Members Only.
URL:https://gunstuff.tv/event/mar-3031-2026-member-only-day-2/
LOCATION:Fall River Gun Range\, 28300 Old Hwy 79\, Hot Springs\, SD\, United States
GEO:43.303233;-103.346518
X-APPLE-STRUCTURED-LOCATION;VALUE=URI;X-ADDRESS=Fall River Gun Range 28300 Old Hwy 79 Hot Springs SD United States;X-APPLE-RADIUS=500;X-TITLE=28300 Old Hwy 79:geo:-103.346518,43.303233
END:VEVENT
BEGIN:VEVENT
DTSTART;TZID=UTC:20260330T080000
DTEND;TZID=UTC:20260331T160000
DTSTAMP:20260424T054750
CREATED:20260303T001635Z
LAST-MODIFIED:20260324T002222Z
UID:10005988-1774857600-1774972800@gunstuff.tv
SUMMARY:*****Outdoor Range Closed 8:00am-4:00pm*****
DESCRIPTION:Outdoor Range Closed \n  \n 
URL:https://gunstuff.tv/event/outdoor-range-closed-800am-400pm-5/
LOCATION:OH
END:VEVENT
BEGIN:VEVENT
DTSTART;TZID=America/New_York:20260330T083000
DTEND;TZID=America/New_York:20260330T120000
DTSTAMP:20260424T054750
CREATED:20260327T051710Z
LAST-MODIFIED:20260327T051750Z
UID:10006528-1774859400-1774872000@gunstuff.tv
SUMMARY:Fall/Winter PPC
DESCRIPTION:Fall / Winter PPC Season – Indoor range – Thursdays from 5:30 to 9:30 PM October 2\, 2025 to March 26\, 2026\, and Mondays from 8:30 AM to 12:00\, October 6th 2024 to March 30\, 2026.
URL:https://gunstuff.tv/event/fall-winter-ppc-53/
LOCATION:Indoor Rifle & Pistol Range\, 4770 Waterford Rd\,\, Village of Clarkston\, 48346
CATEGORIES:D.R. Wilson,Indoor Rifle & Pistol Rage,Range
ATTACH;FMTTYPE=image/jpeg:https://gunstuff.tv/wp-content/uploads/2025/10/PPC-Logo-6Evv9j.jpg
END:VEVENT
BEGIN:VEVENT
DTSTART;TZID=America/New_York:20260330T090000
DTEND;TZID=America/New_York:20260330T100000
DTSTAMP:20260424T054750
CREATED:20251003T162639Z
LAST-MODIFIED:20251010T162927Z
UID:10001408-1774861200-1774864800@gunstuff.tv
SUMMARY:4-H Class Indoors
DESCRIPTION:Indoor reserved for 4-H class.
URL:https://gunstuff.tv/event/4-h-class-indoors-26/
LOCATION:Indoor Range
END:VEVENT
BEGIN:VEVENT
DTSTART;TZID=America/New_York:20260330T160000
DTEND;TZID=America/New_York:20260330T180000
DTSTAMP:20260424T054750
CREATED:20251003T162639Z
LAST-MODIFIED:20251205T181707Z
UID:10001409-1774886400-1774893600@gunstuff.tv
SUMMARY:Skeet League
DESCRIPTION:Contact Frank Andrews with Questions.
URL:https://gunstuff.tv/event/skeet-league-26/
LOCATION:OH
END:VEVENT
BEGIN:VEVENT
DTSTART;TZID=America/New_York:20260330T160000
DTEND;TZID=America/New_York:20260330T180000
DTSTAMP:20260424T054750
CREATED:20251212T181639Z
LAST-MODIFIED:20260328T214630Z
UID:10003527-1774886400-1774893600@gunstuff.tv
SUMMARY:Skeet League
DESCRIPTION:Contact Frank Andrews with Questions.
URL:https://gunstuff.tv/event/skeet-league-116/
LOCATION:Skeet Range
END:VEVENT
BEGIN:VEVENT
DTSTART;TZID=America/New_York:20260330T163000
DTEND;TZID=America/New_York:20260330T183000
DTSTAMP:20260424T054750
CREATED:20260303T033134Z
LAST-MODIFIED:20260324T034635Z
UID:10006053-1774888200-1774895400@gunstuff.tv
SUMMARY:Firearm Foundations
DESCRIPTION:Click Here to Sign Up! Firearm Foundations | Bud’s Gun Shop & Range\, Lexington KY\nOnly $45.  For this class\, you must pay in advance with a credit card.  Unpaid orders for seating will not be honored. \nIn our Firearm Foundations session\, you’ll learn the important basics of firearm safety and how to properly grip\, sight\, and shoot handguns. \nWhether you are new to firearms\, or perhaps you have already purchased a firearm\, but just lack experience—this is the class for you! \nThis is serious subject matter for sure\, but we keep it fun while you learn: \n–Basic Firearms Safety \n–Getting familiar with the parts and operation of handguns \n–Gripping\, aiming\, stance and trigger press \n–Considerations of using a handgun \nThe second part of the course focuses on live-fire in our unique Training Range. \nWe feature a variety of handguns in rimfire (.22LR) and centerfire calibers (.38 spl and 9mm) and each participant will get to choose then try several different firearms. \nWe provide: \n\nRange handguns for the class\nAmmunition\nEye & Ear protection\nTargets\n\nDO NOT BRING A FIREARM TO THIS CLASS–HANDGUNS ARE PROVIDED! \nIF SPOT IS RESERVED FOR A MINOR (UNDER 18) THEY MUST BE ACCOMPANIED BY AN ADULT. THERE MUST BE AN ADULT FOR EACH MINOR. \nThis is a perfect opportunity to learn the fundamentals of shooting without the noise\, flash\, and recoil of larger calibers. \nWith our certified instructors’ experience in teaching and hands-on training\, you can be confident that the information you’ll receive is among the best in the industry–read our reviews below! \nRESERVE YOUR SPOT ONLINE TODAY– these events fill up quickly.  In order to provide quality attention to our students\, we have a fixed number of available seats. \n*HANDGUNS\, AMMUNITION\, EAR AND EYE PROTECTION ARE PROVIDED IN THE COST OF THIS COURSE. \nCourse Length: 2 hours \nCourse Location: Bud’s Gun Shop and Range\, 1105 Industry Rd\, Lexington\, KY 40505 \nPlease consider bringing a sweater or light jacket as classroom temperature can be cool! \nCheck Dates for Available Courses\, If Date Does Not Appear In Drop Down Menu It Has Been Filled\n \n*****IMPORTANT: Please arrive at least 15 minutes before start of class to complete waivers at our range desk***** \n Late arrivals: Due to safety considerations and important safety training\, late arrivals will not be seated\, but allowed to attend the next available class. \nREGISTRATION ONLINE IS REQUIRED TO RESERVE YOUR SPOT\, SO SIGN UP TODAY! \nClick for Bud’s Gun Shop KY Cancellation Policies
URL:https://gunstuff.tv/event/firearm-foundations-7/
LOCATION:OH
CATEGORIES:Handgun Training,Introductory Training
ATTACH;FMTTYPE=image/jpeg:https://gunstuff.tv/wp-content/uploads/2025/10/firearmfoundationssquare-QsfJWo.jpg
END:VEVENT
BEGIN:VEVENT
DTSTART;TZID=America/New_York:20260330T173000
DTEND;TZID=America/New_York:20260330T213000
DTSTAMP:20260424T054750
CREATED:20260327T051710Z
LAST-MODIFIED:20260327T051750Z
UID:10006529-1774891800-1774906200@gunstuff.tv
SUMMARY:Junior Rifle
DESCRIPTION:
URL:https://gunstuff.tv/event/junior-rifle-27/
LOCATION:Indoor Rifle & Pistol Range\, 4770 Waterford Rd\,\, Village of Clarkston\, 48346
CATEGORIES:D.R. Wilson,Indoor Rifle & Pistol Rage,Jr. Rifle,Range
ATTACH;FMTTYPE=image/jpeg:https://gunstuff.tv/wp-content/uploads/2025/10/Junior-Rifle-3-scaled-QIEwuL.jpg
END:VEVENT
BEGIN:VEVENT
DTSTART;TZID=America/New_York:20260330T183000
DTEND;TZID=America/New_York:20260330T193000
DTSTAMP:20260424T054750
CREATED:20260327T051710Z
LAST-MODIFIED:20260327T051750Z
UID:10006530-1774895400-1774899000@gunstuff.tv
SUMMARY:Drum Ball
DESCRIPTION:Drum Ball Fun on the Patio!\nJoin us for Drum Ball\, a unique and exciting way to get moving! If you’re looking for a fun\, low-impact workout that feels more like a game than exercise\, this is it.\nWe use drumsticks and large stability balls to combine drumming rhythms with fitness movements. It’s great for coordination\, core strength\, and releasing stress—all while listening to great music!\nWhen: Every Monday & Thursday evening\nTime: 6:30 PM – 7:30 PM\nLocation: Main Building Patio\nFee: $5 Drop-in per class\nNote: Sticks and balls are provided for all participants. Just bring your energy!
URL:https://gunstuff.tv/event/drum-ball-25/
LOCATION:OCSC Main Building Patio\, 4770 Waterford Rd\, Clarkston\, MI\, United States
CATEGORIES:Club Events,Open to the Public
ATTACH;FMTTYPE=image/jpeg:https://gunstuff.tv/wp-content/uploads/2025/12/Drum-Ball-at-OCSC-E9nLz4.jpg
GEO:42.705297;-83.4014
X-APPLE-STRUCTURED-LOCATION;VALUE=URI;X-ADDRESS=OCSC Main Building Patio 4770 Waterford Rd Clarkston MI United States;X-APPLE-RADIUS=500;X-TITLE=4770 Waterford Rd:geo:-83.4014,42.705297
END:VEVENT
END:VCALENDAR