BEGIN:VCALENDAR
VERSION:2.0
PRODID:-//GunStuff TV - ECPv6.15.20//NONSGML v1.0//EN
CALSCALE:GREGORIAN
METHOD:PUBLISH
X-ORIGINAL-URL:https://gunstuff.tv
X-WR-CALDESC:Events for GunStuff TV
REFRESH-INTERVAL;VALUE=DURATION:PT1H
X-Robots-Tag:noindex
X-PUBLISHED-TTL:PT1H
BEGIN:VTIMEZONE
TZID:America/Los_Angeles
BEGIN:DAYLIGHT
TZOFFSETFROM:-0800
TZOFFSETTO:-0700
TZNAME:PDT
DTSTART:20250309T100000
END:DAYLIGHT
BEGIN:STANDARD
TZOFFSETFROM:-0700
TZOFFSETTO:-0800
TZNAME:PST
DTSTART:20251102T090000
END:STANDARD
BEGIN:DAYLIGHT
TZOFFSETFROM:-0800
TZOFFSETTO:-0700
TZNAME:PDT
DTSTART:20260308T100000
END:DAYLIGHT
BEGIN:STANDARD
TZOFFSETFROM:-0700
TZOFFSETTO:-0800
TZNAME:PST
DTSTART:20261101T090000
END:STANDARD
BEGIN:DAYLIGHT
TZOFFSETFROM:-0800
TZOFFSETTO:-0700
TZNAME:PDT
DTSTART:20270314T100000
END:DAYLIGHT
BEGIN:STANDARD
TZOFFSETFROM:-0700
TZOFFSETTO:-0800
TZNAME:PST
DTSTART:20271107T090000
END:STANDARD
END:VTIMEZONE
BEGIN:VTIMEZONE
TZID:America/New_York
BEGIN:DAYLIGHT
TZOFFSETFROM:-0500
TZOFFSETTO:-0400
TZNAME:EDT
DTSTART:20250309T070000
END:DAYLIGHT
BEGIN:STANDARD
TZOFFSETFROM:-0400
TZOFFSETTO:-0500
TZNAME:EST
DTSTART:20251102T060000
END:STANDARD
BEGIN:DAYLIGHT
TZOFFSETFROM:-0500
TZOFFSETTO:-0400
TZNAME:EDT
DTSTART:20260308T070000
END:DAYLIGHT
BEGIN:STANDARD
TZOFFSETFROM:-0400
TZOFFSETTO:-0500
TZNAME:EST
DTSTART:20261101T060000
END:STANDARD
BEGIN:DAYLIGHT
TZOFFSETFROM:-0500
TZOFFSETTO:-0400
TZNAME:EDT
DTSTART:20270314T070000
END:DAYLIGHT
BEGIN:STANDARD
TZOFFSETFROM:-0400
TZOFFSETTO:-0500
TZNAME:EST
DTSTART:20271107T060000
END:STANDARD
END:VTIMEZONE
BEGIN:VTIMEZONE
TZID:America/Chicago
BEGIN:DAYLIGHT
TZOFFSETFROM:-0600
TZOFFSETTO:-0500
TZNAME:CDT
DTSTART:20250309T080000
END:DAYLIGHT
BEGIN:STANDARD
TZOFFSETFROM:-0500
TZOFFSETTO:-0600
TZNAME:CST
DTSTART:20251102T070000
END:STANDARD
BEGIN:DAYLIGHT
TZOFFSETFROM:-0600
TZOFFSETTO:-0500
TZNAME:CDT
DTSTART:20260308T080000
END:DAYLIGHT
BEGIN:STANDARD
TZOFFSETFROM:-0500
TZOFFSETTO:-0600
TZNAME:CST
DTSTART:20261101T070000
END:STANDARD
BEGIN:DAYLIGHT
TZOFFSETFROM:-0600
TZOFFSETTO:-0500
TZNAME:CDT
DTSTART:20270314T080000
END:DAYLIGHT
BEGIN:STANDARD
TZOFFSETFROM:-0500
TZOFFSETTO:-0600
TZNAME:CST
DTSTART:20271107T070000
END:STANDARD
END:VTIMEZONE
BEGIN:VTIMEZONE
TZID:UTC
BEGIN:STANDARD
TZOFFSETFROM:+0000
TZOFFSETTO:+0000
TZNAME:UTC
DTSTART:20250101T000000
END:STANDARD
END:VTIMEZONE
BEGIN:VTIMEZONE
TZID:Australia/Brisbane
BEGIN:STANDARD
TZOFFSETFROM:+1000
TZOFFSETTO:+1000
TZNAME:AEST
DTSTART:20250101T000000
END:STANDARD
END:VTIMEZONE
BEGIN:VTIMEZONE
TZID:UTC
BEGIN:STANDARD
TZOFFSETFROM:+0000
TZOFFSETTO:+0000
TZNAME:UTC
DTSTART:20250101T000000
END:STANDARD
END:VTIMEZONE
BEGIN:VEVENT
DTSTART;TZID=America/Los_Angeles:20260226T090000
DTEND;TZID=America/Los_Angeles:20260226T120000
DTSTAMP:20260424T101507
CREATED:20260130T191634Z
LAST-MODIFIED:20260220T193133Z
UID:10004864-1772096400-1772107200@gunstuff.tv
SUMMARY:Airgun & 22LR Thursdays
DESCRIPTION:Fun Airgun AND .22 LR from NOON ONWARD…  session at the MPR- look for the big red flag on the pole that says “MPR”- that’s us! \nOpen to public\, airguns .30 cal and below AND .22 LR. Benches available\, targets and stands\, 200 yard range. Good group of people. \nAll types of Airguns- springers\, PCP’s\, Pistols.\nAll Types of .22 LR – Rifle and Pistol. \nEye protection required\, ear required \n$15 Guest\n$10 for Diablo members (did you know Diablo membership is only $25 a year?)\n$5 for those special few that have purchased a USI VIP card.\nYouths accompanied by a Club member adult shoot free.\n \n\nUSI waiver must signed prior to shoot\, you can do so prior to attending: \n\n\nWaiver \n\n\nContact: \nSam Russo \nthePelleteer@gmail.com \n 
URL:https://gunstuff.tv/event/airgun-22lr-thursdays-20/
LOCATION:USI Multi Purpose Range\, 4700 Evora Road\, Concord\, CA\, 94520
CATEGORIES:.22lr Shooting,Airgun
ATTACH;FMTTYPE=image/jpeg:https://gunstuff.tv/wp-content/uploads/2025/10/222-YduOUz.jpg
ORGANIZER;CN="Sam Russo":MAILTO:airgun_fieldtarget@diablorodandgun.com
END:VEVENT
BEGIN:VEVENT
DTSTART;TZID=America/Los_Angeles:20260226T140000
DTEND;TZID=America/Los_Angeles:20260226T170000
DTSTAMP:20260424T101507
CREATED:20260130T191635Z
LAST-MODIFIED:20260220T193135Z
UID:10004869-1772114400-1772125200@gunstuff.tv
SUMMARY:Action Pistol – 2nd/4th Thu Practice
DESCRIPTION:Range fee: \n\n$10  ($5 if you are a USI Access Card/VIP Card holder)\nBring exact change.\n\nPlease note: \n\nThe number of practice bays available may be impacted by competition stage setup needs.
URL:https://gunstuff.tv/event/action-pistol-2nd-4th-thu-practice-9/
LOCATION:Action Pistol Range\, 4770 Waterford Rd\, Clarkston\, MI\, United States
CATEGORIES:Diablo Action Pistol
ATTACH;FMTTYPE=image/png:https://gunstuff.tv/wp-content/uploads/2025/10/White-bg_transparent-daplogo-e1547014989540-HGFVH2.png
ORGANIZER;CN="Blade Benson":MAILTO:matchsupport@diabloactionpistol.com
GEO:42.705297;-83.4014
X-APPLE-STRUCTURED-LOCATION;VALUE=URI;X-ADDRESS=Action Pistol Range 4770 Waterford Rd Clarkston MI United States;X-APPLE-RADIUS=500;X-TITLE=4770 Waterford Rd:geo:-83.4014,42.705297
END:VEVENT
BEGIN:VEVENT
DTSTART;TZID=America/New_York:20260226T160000
DTEND;TZID=America/New_York:20260226T210000
DTSTAMP:20260424T101507
CREATED:20260202T111629Z
LAST-MODIFIED:20260223T111629Z
UID:10004928-1772121600-1772139600@gunstuff.tv
SUMMARY:Trap
DESCRIPTION:Practice: Sr. Member $6/Member $7/Non-Member $9\nMeat Green Bird: Sr. Member $7/Member $8/Non-Member $10
URL:https://gunstuff.tv/event/trap-23/
LOCATION:Oxford Gun Club\, 798 Oxford Rd\, Lincoln University\, PA\, United States
GEO:39.78874;-75.909509
X-APPLE-STRUCTURED-LOCATION;VALUE=URI;X-ADDRESS=Oxford Gun Club 798 Oxford Rd Lincoln University PA United States;X-APPLE-RADIUS=500;X-TITLE=798 Oxford Rd:geo:-75.909509,39.78874
END:VEVENT
BEGIN:VEVENT
DTSTART;TZID=America/Chicago:20260226T170000
DTEND;TZID=America/Chicago:20260226T190000
DTSTAMP:20260424T101507
CREATED:20260127T021635Z
LAST-MODIFIED:20260224T021637Z
UID:10004767-1772125200-1772132400@gunstuff.tv
SUMMARY:Ladies Only Pistol 2
DESCRIPTION:[vc_row][vc_column icons_position=”left”][vc_column_text css=””]Strengthen Fundamentals\, Correct Mistakes\, Build Confidence \nWomen-only class! \nPistol 2 is a 2-hour course designed to build on your solid foundation of handgun knowledge and handling. This range-only class equips you with the tools to strengthen your fundamentals while also introducing new concepts that expand your skills. \nYou will focus on the fundamentals needed for both accuracy and precision\, while also learning how to diagnose and correct mistakes on your own. Each drill is structured to sharpen mechanics and reinforce confidence\, giving you noticeable progress by the end of the course. \nThis course is strategically designed to refine the essentials of marksmanship and prepare you for the next step in your pistol training progression. \nTopics Covered: \n\nRange Instruction\nRefine The Fundamentals\nHow To Diagnose And Correct Your Mistakes\nPresentation Of The Firearm In Preparation Of Drawing From A Holster\nMethods To Clear The Most Common Malfunctions\nEfficient Reloading Technique\nBalancing Speed And Precision To Shoot Accurately In Quick Succession\n\nRequired Equipment: \n\nHandgun and two magazines\nEye and ear protection\n150 rounds of ammunition (available for purchase)\n\nThere is NO holster use in this course \nWhat To Know Before You Get Here: \nThis class is designed for those individually capable of using and safely handling their own firearm and are looking to progress their shooting to the next level. Have any questions about the gear you have? Contact Us![/vc_column_text][/vc_column][/vc_row][vc_row][vc_column icons_position=”left”][vc_empty_space hide_on_desktop=”” hide_on_notebook=”” hide_on_tablet=”” hide_on_mobile=””][/vc_column][/vc_row][vc_row][vc_column icons_position=”left”][vc_btn title=”Book Now” color=”warning” css=”” link=”url:https%3A%2F%2Ftms.ezfacility.com%2FOnlineRegistrations%2FRegister.aspx%3FCompanyID%3D5960%26GroupID%3D3963664″][/vc_column][/vc_row]
URL:https://gunstuff.tv/event/ladies-only-pistol-2-4/
LOCATION:Shooting Center\, 2900 Shotts Street\, Fort Worth\, TX\, 76107
CATEGORIES:Shooting Center,Shooting Center Training
ATTACH;FMTTYPE=image/jpeg:https://gunstuff.tv/wp-content/uploads/2025/12/Ladies-Only-Pistol-2-scaled-ADRT8u.jpg
ORGANIZER;CN="Defender Outdoors Shooting Center Training":MAILTO:info@defenderoutdoors.com
END:VEVENT
BEGIN:VEVENT
DTSTART;TZID=America/New_York:20260226T173000
DTEND;TZID=America/New_York:20260226T210000
DTSTAMP:20260424T101507
CREATED:20260220T050132Z
LAST-MODIFIED:20260220T050132Z
UID:10005713-1772127000-1772139600@gunstuff.tv
SUMMARY:Fall/Winter PPC
DESCRIPTION:Fall / Winter PPC Season – Indoor range – Thursdays from 5:30 to 9:30 PM October 2\, 2025 to March 26\, 2026\, and Mondays from 8:30 AM to 12:00\, October 6th 2025 to March 30\, 2026.
URL:https://gunstuff.tv/event/fall-winter-ppc-44/
LOCATION:Indoor Rifle & Pistol Range\, 4770 Waterford Rd\,\, Village of Clarkston\, 48346
CATEGORIES:D.R. Wilson,Indoor Rifle & Pistol Rage,Range
ATTACH;FMTTYPE=image/jpeg:https://gunstuff.tv/wp-content/uploads/2025/10/PPC-Logo-6Evv9j.jpg
END:VEVENT
BEGIN:VEVENT
DTSTART;TZID=UTC:20260226T180000
DTEND;TZID=UTC:20260226T180000
DTSTAMP:20260424T101507
CREATED:20260117T171703Z
LAST-MODIFIED:20260207T171710Z
UID:10004566-1772128800-1772128800@gunstuff.tv
SUMMARY:SGC 2026_02_26 Winter USPSA Salisbury Gun Club
DESCRIPTION:SGC 2026_02_26 Winter USPSA Salisbury Gun Club\nDate : 2/26/26\nStart Time: 6:00 PM\nLocation:\nSalisbury Gun Club (VA44)\n32240 Dagsboro Rd\nParsonsburg\, MD\nEvent Contact Information\nPhil Cathell\n4107269019\nsgcsecretary1938@gmail.com\nEvent Website\nhttps://practiscore.com/sgc-2026-02-26-winter-uspsa-salisbury-gun-club/register
URL:https://gunstuff.tv/event/sgc-2026_02_26-winter-uspsa-salisbury-gun-club/
LOCATION:Salisbury Gun Club (VA44)\, 31998 Dagsboro Rd\, Parsonsburg\, MD\, United States
GEO:38.414282;-75.502177
X-APPLE-STRUCTURED-LOCATION;VALUE=URI;X-ADDRESS=Salisbury Gun Club (VA44) 31998 Dagsboro Rd Parsonsburg MD United States;X-APPLE-RADIUS=500;X-TITLE=31998 Dagsboro Rd:geo:-75.502177,38.414282
END:VEVENT
BEGIN:VEVENT
DTSTART;TZID=America/New_York:20260226T180000
DTEND;TZID=America/New_York:20260226T183000
DTSTAMP:20260424T101508
CREATED:20251003T162639Z
LAST-MODIFIED:20260220T184630Z
UID:10001390-1772128800-1772130600@gunstuff.tv
SUMMARY:Member Session
DESCRIPTION:Hear committee reports\, ask questions\, make requests of the board.
URL:https://gunstuff.tv/event/member-session-5/
LOCATION:Indoor Range
END:VEVENT
BEGIN:VEVENT
DTSTART;TZID=America/Chicago:20260226T180000
DTEND;TZID=America/Chicago:20260226T193000
DTSTAMP:20260424T101508
CREATED:20260127T031715Z
LAST-MODIFIED:20260224T034630Z
UID:10004786-1772128800-1772134200@gunstuff.tv
SUMMARY:Men’s Pistol League
DESCRIPTION:@ 			\n			\n							 \n\n\n		\n\n\n\n\n\n\n						\n							Add to calendar						 \n\n\n\n									\n										Google Calendar									\n								\n\n									\n										iCalendar									\n								\n\n									\n										Outlook 365									\n								\n\n									\n										Outlook Live
URL:https://gunstuff.tv/event/mens-pistol-league-6/
LOCATION:OH
END:VEVENT
BEGIN:VEVENT
DTSTART;TZID=America/New_York:20260226T180000
DTEND;TZID=America/New_York:20260226T213000
DTSTAMP:20260424T101508
CREATED:20260210T013134Z
LAST-MODIFIED:20260224T013141Z
UID:10005132-1772128800-1772141400@gunstuff.tv
SUMMARY:USPSA Match Night – Mountain City Practical Shooters
DESCRIPTION:Weekly USPSA Level 1 Match hosted by Mountain City Practical Shooters. \nLocation: Appalachian Gun\, Pawn & Range \n140 Shelby Ln\, Jasper\, GA 30143 \nArrive: 6:00 PM (New Shooter Briefing) \nFirst Shots: 6:30 PM \nMatch Fee: $20 \nOpen to new and experienced shooters. Come learn\, compete\, and have fun in a safe\, supportive environment. \n\n\n\n\nSchedule subject to change due to weather\, and holidays. \n\n\n 
URL:https://gunstuff.tv/event/uspsa-match-night-mountain-city-practical-shooters-3/
LOCATION:Appalacian Gun\, Pawn & Range\, 140 Shelby Ln.\, Jasper\, GA\, 30143\, United States
CATEGORIES:firearm-safety,Safe Gun
ORGANIZER;CN="Appalachian Gun":MAILTO:Appalachiangun@gmail.com
END:VEVENT
BEGIN:VEVENT
DTSTART;TZID=America/New_York:20260226T183000
DTEND;TZID=America/New_York:20260226T203000
DTSTAMP:20260424T101508
CREATED:20251003T162639Z
LAST-MODIFIED:20260220T184630Z
UID:10001391-1772130600-1772137800@gunstuff.tv
SUMMARY:Board Meeting
DESCRIPTION:All members welcome.
URL:https://gunstuff.tv/event/board-meeting-8/
LOCATION:Indoor Range
END:VEVENT
BEGIN:VEVENT
DTSTART;TZID=Australia/Brisbane:20260226T184500
DTEND;TZID=Australia/Brisbane:20260226T210000
DTSTAMP:20260424T101508
CREATED:20260202T023132Z
LAST-MODIFIED:20260223T024630Z
UID:10004889-1772131500-1772139600@gunstuff.tv
SUMMARY:Target and Metal Silhouette Shooting Competition
DESCRIPTION:Shooting has a wide range of different forms of regulated competitions called disciplines. The link provided is will explain these events and are the more popular types of shooting competitions we conduct at our club. \nNew and Unlicenced Shooter are welcome to participate so we have enough range officers please ensure you are booking at least 7 days prior to the event \n  \n \n\n\nBooking Form (#8)\nΔ \n\n  \n\nTo register for our shooting competition please fill out the required details. Once the form is submitted you will receive a confirmation email. Make sure you register at least 3 days in advance of the competition day as numbers are capped at 30 including Range Officers. \n\n\n\n\nAre you paying via Credit Card\, Bank Transfer or Cash\n\n Credit Card\n Bank Transfer\n Cash\n\n\n\nDo you currently hold a category H licence?\n\n Yes\n No\n\n\n\nPlease complete a Form 33 prior to attending the range \n\n\n\n\n\nFirst Name\n\n\n\n\n\nLast Name\n\n\n\n\n\n\nEmail\n\n\n\nMembership Number \n\n\n\n\n\nWhat competition event do you want to attend? \n\n\n\n\n\nWhat discipline are you shooting? \n\n\n\n Target\n Metal\n\n\n\nDo you require any hire equipment? \n\n\n\n Yes\n No\n\n\n\nEquipment required\n\n .22\n .38\n 9mm\n Colt .45\n New Shooters Pack\n New Shooters Pack (including .45)\n Safety Equipment \n\n\n\n  \n\nTerms and Conditions\nRANGE SAFETY PROCEDURES \n\nBOOK AT LEAST THREE DAYS BEFORE THE EVENT. NO WALKINS\, VISITORS OR SPECTATORS WILL BE ALLOWED.\nREAD TERMS AND CONDITIONS – CONDITION OF ENTRY TO THE RANGE IS CONDITIONAL ON ACCEPTANCE OF THESE CONDITIONS.\nDO NOT ATTEND IF UNWELL – YOU WILL NOT BE PERMITTED ON THE RANGE IF YOU APPEAR TO BE UNWELL.\nSANITIZE YOUR HANDS BEFORE ENTERING THE RANGE OR TOUCHING ANYTHING.\nSIGN IN AT THE DESK – PROVIDE YOUR OWN PEN. \nSET UP YOUR OWN TARGET – THESE WILL BE DISINFECTED BEFORE YOU ARRIVE AND WILL BE DISINFECTED AGAIN AFTER YOU PUT THEM AWAY.      \nMINIMISE THE NUMBER OF AREAS YOU TOUCH.\nWHILE WAITING BEHIND THE YELLOW LINE MAINTAINING 1.5 MT SOCIAL DISTANCE.\nAT THE END OF THE SHOOT REMOVE YOUR PAPER TARGET AND PLACE IN THE BIN\, OR TAKE IT HOME.\nWASH YOU HANDS AFTER THE SHOOT TO AVOID ANY LEAD CONTAMINATION \n\n  \n\n\n\n\n  \n\nCredit card and processing fees will be added at checkout  \n\n\n\n\nNew Shooter Pack (Range fee included) $55 \nNew Shooter Pack (including .45 and Range fees) $65 \nFirearm hire .22 (Range fee included) $35 \nFirearm hire 9mm (Range fee included) $50 \nFirearm hire .45 (Range fee included) $70 \nFirearm hire .38 (Range fee included) $55 \nAdult (Club Member) $15 \nPensioner (Club Member) $11 \nJunior (Club Member) $7.50 \nRange Fee (Non-Member) $20 \nAdult (Club Member) (SSAA Member) $10 \nJunior (Club Member) (SSAA Member) $5 \nPensioner (Club Member) (SSAA Member) $5 \n\n\nBank Details  \nSuncorp  \nBSB 484-799 \nACC 201008609 \n  \nNew Shooter Pack (Range fee included) $55 \nNew Shooter Pack (including .45 and Range fees) $65 \nFirearm hire .22 (Range fee included)$35 \nFirearm hire 9mm (Range fee included)$50 \nFirearm hire .45 (Range fee included) $70 \nFirearm hire .38 (Range fee included) $55 \nAdult (Club Member) $15 \nPensioner (Club Member) $11 \nJunior (Club Member) $7.50 \nRange Fee (Non-Member) $20 \nAdult (Club Member) (SSAA Member) $10 \nJunior (Club Member) (SSAA Member) $5 \nPensioner (Club Member) (SSAA Member) $5 \n\n\n\n\nPay with Card (Stripe)\n\n\n\n\n\n\nRange fees\n\n New Shooter Pack (Range Fee included) $55 \n New Shooter Pack (Including .45 and Range Fee) $65\n Firearm Hire .22 (Range Fee included) $35 \n Firearm Hire 9mm (Range Fee Included) $50\n Firearm Hire .45 (Range Fee included) $70\n Firearm Hire .38 (Range Fee  Included) $55\n Adult (Club Member) $15\n Pensioner (Club Member) $11 \n Junior (Club Member) $7.50\n Range Fee (Non-member) $20\n Adult (Club Member) (SSAA Member) $10\n Junior (Club Member) (SSAA Member) $5\n Pensioner (Club Member) (SSAA Member) $5\n\n\n\n\n\nNo payment items has been selected yet\n\n\n\n  \n\nI have read and agree to the Terms and Conditions and Drug and Alcohol Policy \n\n\n\n\n\n\n\n\n\n\nSubmit Booking\n\n\n\n                window.fluent_form_ff_form_instance_8_1 = {"id":"8"\,"settings":{"layout":{"labelPlacement":"top"\,"helpMessagePlacement":"with_label"\,"errorMessagePlacement":"inline"\,"asteriskPlacement":"asterisk-right"}\,"restrictions":{"denyEmptySubmission":{"enabled":false}}}\,"form_instance":"ff_form_instance_8_1"\,"form_id_selector":"fluentform_8"\,"rules":{"Heading":{"required":{"value":false\,"message":"This field is required"\,"global":false\,"global_message":"This field is required"}}\,"input_radio_1":{"required":{"value":true\,"message":"This field is required"\,"global":false\,"global_message":"This field is required"}}\,"checkbox_3":{"required":{"value":true\,"message":"This field is required"\,"global":false\,"global_message":"This field is required"}}\,"names[first_name]":{"required":{"value":true\,"message":"This field is required"\,"global":false\,"global_message":"This field is required"}}\,"names[middle_name]":{"required":{"value":false\,"message":"This field is required"\,"global":false\,"global_message":"This field is required"}}\,"names[last_name]":{"required":{"value":true\,"message":"This field is required"\,"global":false\,"global_message":"This field is required"}}\,"email":{"required":{"value":false\,"message":"This field is required"\,"global":false\,"global_message":"This field is required"}\,"email":{"value":true\,"message":"This field must contain a valid email"\,"global":false\,"global_message":"This field must contain a valid email"}}\,"input_text":{"required":{"value":true\,"message":"If you are not a member enter F33"\,"global":false\,"global_message":"This field is required"}}\,"datetime":{"required":{"value":true\,"message":"This field is required"\,"global":false\,"global_message":"This field is required"}}\,"checkbox":{"required":{"value":true\,"message":"This field is required"\,"global":false\,"global_message":"This field is required"}}\,"checkbox_2":{"required":{"value":true\,"message":"This field is required"\,"global":false\,"global_message":"This field is required"}}\,"checkbox_1":{"required":{"value":true\,"message":"This field is required"\,"global":false\,"global_message":"This field is required"}}\,"terms-n-condition":{"required":{"value":false\,"message":"This field is required"\,"global":false\,"global_message":"This field is required"}}\,"terms-n-condition_2":{"required":{"value":false\,"message":"This field is required"\,"global":false\,"global_message":"This field is required"}}\,"payment_input":{"required":{"value":true\,"message":"Please select Payment option"\,"global":false\,"global_message":"This field is required"}}\,"terms-n-condition_3":{"required":{"value":false\,"message":"This field is required"\,"global":false\,"global_message":"This field is required"}}\,"g-recaptcha-response":[]}\,"debounce_time":300\,"conditionals":{"custom_html-8_1":{"type":"any"\,"status":true\,"conditions":[{"field":"checkbox_3"\,"value":"No"\,"operator":"="}]}\,"checkbox_1":{"type":"all"\,"status":true\,"conditions":[{"field":"checkbox_2"\,"value":"Yes"\,"operator":"="}]}\,"terms-n-condition_2":{"type":"any"\,"status":true\,"conditions":[{"field":"input_radio_1"\,"value":"Credit Card"\,"operator":"="}]}\,"custom_html-8_2":{"type":"any"\,"status":true\,"conditions":[{"field":"input_radio_1"\,"value":"Cash"\,"operator":"="}]\,"condition_groups":[{"rules":[{"field":""\,"value":""\,"operator":""}]\,"title":""\,"isEditingTitle":false\,"isPreviewOpen":false\,"isGroupOpen":true}]}\,"custom_html-8_3":{"type":"any"\,"status":true\,"conditions":[{"field":"input_radio_1"\,"value":"Bank Transfer"\,"operator":"="}]\,"condition_groups":[{"rules":[{"field":""\,"value":""\,"operator":""}]\,"title":""\,"isEditingTitle":false\,"isPreviewOpen":false\,"isGroupOpen":true}]}\,"payment_method":{"type":"any"\,"status":true\,"conditions":[{"field":"input_radio_1"\,"value":"Credit Card"\,"operator":"="}]}\,"payment_input":{"type":"all"\,"status":true\,"conditions":[{"field":"input_radio_1"\,"value":"Credit Card"\,"operator":"="}]}\,"payment_summary_component-8_4":{"type":"any"\,"status":true\,"conditions":[{"field":"input_radio_1"\,"value":"Credit Card"\,"operator":"="}]}}}; \n             \n 
URL:https://gunstuff.tv/event/target-and-metal-silhouette-shooting-competition-14/
LOCATION:Pine Rivers Shooting Club\, 292 Mount Petrie Rd\, Belmont QLD 4153\, Belmont\, Queensland\, 4153\, Australia
CATEGORIES:Competition
ATTACH;FMTTYPE=image/jpeg:https://gunstuff.tv/wp-content/uploads/2025/10/Safety-Brief-A-StzMas.jpg
END:VEVENT
BEGIN:VEVENT
DTSTART;TZID=UTC:20260226T190000
DTEND;TZID=UTC:20260226T210000
DTSTAMP:20260424T101508
CREATED:20260203T001633Z
LAST-MODIFIED:20260224T001633Z
UID:10004947-1772132400-1772139600@gunstuff.tv
SUMMARY:Indoor Range Closed 7-9:00pm
DESCRIPTION:Little Club Match \nFreeport Black (home) vs Freeport Green
URL:https://gunstuff.tv/event/indoor-range-closed-7-900pm-8/
LOCATION:OH
END:VEVENT
BEGIN:VEVENT
DTSTART;TZID=America/New_York:20260226T190000
DTEND;TZID=America/New_York:20260226T220000
DTSTAMP:20260424T101508
CREATED:20260111T181633Z
LAST-MODIFIED:20260222T183129Z
UID:10004368-1772132400-1772143200@gunstuff.tv
SUMMARY:Doerflein Skeet League
DESCRIPTION:Doerflein Skeet League
URL:https://gunstuff.tv/event/doerflein-skeet-league-15/
LOCATION:Shotgun Fields
END:VEVENT
END:VCALENDAR