BEGIN:VCALENDAR
VERSION:2.0
PRODID:-//GunStuff TV - ECPv6.15.20//NONSGML v1.0//EN
CALSCALE:GREGORIAN
METHOD:PUBLISH
X-ORIGINAL-URL:https://gunstuff.tv
X-WR-CALDESC:Events for GunStuff TV
REFRESH-INTERVAL;VALUE=DURATION:PT1H
X-Robots-Tag:noindex
X-PUBLISHED-TTL:PT1H
BEGIN:VTIMEZONE
TZID:America/Phoenix
BEGIN:STANDARD
TZOFFSETFROM:-0700
TZOFFSETTO:-0700
TZNAME:MST
DTSTART:20250101T000000
END:STANDARD
END:VTIMEZONE
BEGIN:VTIMEZONE
TZID:America/Chicago
BEGIN:DAYLIGHT
TZOFFSETFROM:-0600
TZOFFSETTO:-0500
TZNAME:CDT
DTSTART:20250309T080000
END:DAYLIGHT
BEGIN:STANDARD
TZOFFSETFROM:-0500
TZOFFSETTO:-0600
TZNAME:CST
DTSTART:20251102T070000
END:STANDARD
BEGIN:DAYLIGHT
TZOFFSETFROM:-0600
TZOFFSETTO:-0500
TZNAME:CDT
DTSTART:20260308T080000
END:DAYLIGHT
BEGIN:STANDARD
TZOFFSETFROM:-0500
TZOFFSETTO:-0600
TZNAME:CST
DTSTART:20261101T070000
END:STANDARD
BEGIN:DAYLIGHT
TZOFFSETFROM:-0600
TZOFFSETTO:-0500
TZNAME:CDT
DTSTART:20270314T080000
END:DAYLIGHT
BEGIN:STANDARD
TZOFFSETFROM:-0500
TZOFFSETTO:-0600
TZNAME:CST
DTSTART:20271107T070000
END:STANDARD
END:VTIMEZONE
BEGIN:VTIMEZONE
TZID:America/Los_Angeles
BEGIN:DAYLIGHT
TZOFFSETFROM:-0800
TZOFFSETTO:-0700
TZNAME:PDT
DTSTART:20250309T100000
END:DAYLIGHT
BEGIN:STANDARD
TZOFFSETFROM:-0700
TZOFFSETTO:-0800
TZNAME:PST
DTSTART:20251102T090000
END:STANDARD
BEGIN:DAYLIGHT
TZOFFSETFROM:-0800
TZOFFSETTO:-0700
TZNAME:PDT
DTSTART:20260308T100000
END:DAYLIGHT
BEGIN:STANDARD
TZOFFSETFROM:-0700
TZOFFSETTO:-0800
TZNAME:PST
DTSTART:20261101T090000
END:STANDARD
BEGIN:DAYLIGHT
TZOFFSETFROM:-0800
TZOFFSETTO:-0700
TZNAME:PDT
DTSTART:20270314T100000
END:DAYLIGHT
BEGIN:STANDARD
TZOFFSETFROM:-0700
TZOFFSETTO:-0800
TZNAME:PST
DTSTART:20271107T090000
END:STANDARD
END:VTIMEZONE
BEGIN:VTIMEZONE
TZID:America/New_York
BEGIN:DAYLIGHT
TZOFFSETFROM:-0500
TZOFFSETTO:-0400
TZNAME:EDT
DTSTART:20250309T070000
END:DAYLIGHT
BEGIN:STANDARD
TZOFFSETFROM:-0400
TZOFFSETTO:-0500
TZNAME:EST
DTSTART:20251102T060000
END:STANDARD
BEGIN:DAYLIGHT
TZOFFSETFROM:-0500
TZOFFSETTO:-0400
TZNAME:EDT
DTSTART:20260308T070000
END:DAYLIGHT
BEGIN:STANDARD
TZOFFSETFROM:-0400
TZOFFSETTO:-0500
TZNAME:EST
DTSTART:20261101T060000
END:STANDARD
BEGIN:DAYLIGHT
TZOFFSETFROM:-0500
TZOFFSETTO:-0400
TZNAME:EDT
DTSTART:20270314T070000
END:DAYLIGHT
BEGIN:STANDARD
TZOFFSETFROM:-0400
TZOFFSETTO:-0500
TZNAME:EST
DTSTART:20271107T060000
END:STANDARD
END:VTIMEZONE
BEGIN:VTIMEZONE
TZID:UTC
BEGIN:STANDARD
TZOFFSETFROM:+0000
TZOFFSETTO:+0000
TZNAME:UTC
DTSTART:20250101T000000
END:STANDARD
END:VTIMEZONE
BEGIN:VEVENT
DTSTART;VALUE=DATE:20260211
DTEND;VALUE=DATE:20260216
DTSTAMP:20260424T113919
CREATED:20251003T160027Z
LAST-MODIFIED:20260213T171631Z
UID:10000920-1770768000-1771199999@gunstuff.tv
SUMMARY:Southwest Nationals
DESCRIPTION:
URL:https://gunstuff.tv/event/southwest-nationals/
LOCATION:OH
END:VEVENT
BEGIN:VEVENT
DTSTART;VALUE=DATE:20260211
DTEND;VALUE=DATE:20260216
DTSTAMP:20260424T113919
CREATED:20251005T190049Z
LAST-MODIFIED:20260215T194629Z
UID:10001660-1770768000-1771199999@gunstuff.tv
SUMMARY:San Antonio Stock Show & Rodeo Junior Shoot-Out
DESCRIPTION:For event information check the San Antonio Stock Show & Rodeo website at www.sarodeo.com.  For club information\, contact Amber Schwarz at aschwarz@nssa-nsca.com. \nSee our event page for rules and other information.
URL:https://gunstuff.tv/event/san-antonio-stock-show-rodeo-junior-shoot-out/
LOCATION:National Shooting Complex\, 5931 Roft Rd\, San Antonio\, TX\, United States
GEO:29.492881;-98.741985
X-APPLE-STRUCTURED-LOCATION;VALUE=URI;X-ADDRESS=National Shooting Complex 5931 Roft Rd San Antonio TX United States;X-APPLE-RADIUS=500;X-TITLE=5931 Roft Rd:geo:-98.741985,29.492881
END:VEVENT
BEGIN:VEVENT
DTSTART;TZID=America/Chicago:20260212T080000
DTEND;TZID=America/Chicago:20260212T170000
DTSTAMP:20260424T113919
CREATED:20260203T021708Z
LAST-MODIFIED:20260210T021740Z
UID:10004957-1770883200-1770915600@gunstuff.tv
SUMMARY:Celebrating 8 Years of Defender Outdoors Clay Sports Ranch
DESCRIPTION:  \nJANUARY 29TH – February 15TH\nJanuary 31st is officially our 8 year Anniversary and we are so proud of all that the shooting community has helped us build and accomplish.  We want to celebrate with everyone with a week of fun shooting at 2018 pricing and lots of chances to win! Over $2500 in prizes! \nWe have 4 total courses available all week and for each one that you shoot/score you will get a chance to win.  We’ll have 10 random draws.  2 for each course shot.  If you shoot all 4 courses you will get an extra chance to win with the last 2 prizes.  \n2018 Pricing\n100 target round (Cowtown\, Ranch\, Outlaw) $45 per \n50 target Lonestar Super Sporting $22.50  \nPrizes\n1. Pelican Cooler Grey\n2. Pelican Cooler Green\n3. Outdoor Edge Hunters Combo knife set\n4. Bushnell Binoculars\n5. Taurus 9mm\n6. Crickett full size 22LR\n7. Ruger Wrangler 22LR\n8. Lesson with Travis Mears\n9. Big Screen TV\n10. Shotgun!\n\nThe drawing for prizes will take place at the Polar Bear League Dinner & Awards Party on February 18th.
URL:https://gunstuff.tv/event/celebrating-8-years-of-defender-outdoors-clay-sports-ranch-13/
LOCATION:Clay Sports Ranch\, 8270 Aledo Road\, Fort Worth\, TX\, 76126\, United States
CATEGORIES:Clay Sports Ranch Events
ATTACH;FMTTYPE=image/jpeg:https://gunstuff.tv/wp-content/uploads/2026/02/CSR-Anniversary-EXTENSION-scaled-pABMga.jpg
ORGANIZER;CN="Defender Outdoors Clay Sports Ranch":MAILTO:jessica@defenderoutdoors.com
END:VEVENT
BEGIN:VEVENT
DTSTART;TZID=America/Los_Angeles:20260212T090000
DTEND;TZID=America/Los_Angeles:20260212T120000
DTSTAMP:20260424T113919
CREATED:20260116T190306Z
LAST-MODIFIED:20260206T191707Z
UID:10004522-1770886800-1770897600@gunstuff.tv
SUMMARY:Airgun & 22LR Thursdays
DESCRIPTION:Fun Airgun AND .22 LR from NOON ONWARD…  session at the MPR- look for the big red flag on the pole that says “MPR”- that’s us! \nOpen to public\, airguns .30 cal and below AND .22 LR. Benches available\, targets and stands\, 200 yard range. Good group of people. \nAll types of Airguns- springers\, PCP’s\, Pistols.\nAll Types of .22 LR – Rifle and Pistol. \nEye protection required\, ear required \n$15 Guest\n$10 for Diablo members (did you know Diablo membership is only $25 a year?)\n$5 for those special few that have purchased a USI VIP card.\nYouths accompanied by a Club member adult shoot free.\n \n\nUSI waiver must signed prior to shoot\, you can do so prior to attending: \n\n\nWaiver \n\n\nContact: \nSam Russo \nthePelleteer@gmail.com \n 
URL:https://gunstuff.tv/event/airgun-22lr-thursdays-18/
LOCATION:USI Multi Purpose Range\, 4700 Evora Road\, Concord\, CA\, 94520
CATEGORIES:.22lr Shooting,Airgun
ATTACH;FMTTYPE=image/jpeg:https://gunstuff.tv/wp-content/uploads/2025/10/222-YduOUz.jpg
ORGANIZER;CN="Sam Russo":MAILTO:airgun_fieldtarget@diablorodandgun.com
END:VEVENT
BEGIN:VEVENT
DTSTART;TZID=America/Los_Angeles:20260212T140000
DTEND;TZID=America/Los_Angeles:20260212T170000
DTSTAMP:20260424T113919
CREATED:20260116T190306Z
LAST-MODIFIED:20260206T191710Z
UID:10004523-1770904800-1770915600@gunstuff.tv
SUMMARY:Action Pistol – 2nd/4th Thu Practice
DESCRIPTION:Range fee: \n\n$10  ($5 if you are a USI Access Card/VIP Card holder)\nBring exact change.\n\nPlease note: \n\nThe number of practice bays available may be impacted by competition stage setup needs.
URL:https://gunstuff.tv/event/action-pistol-2nd-4th-thu-practice-8/
LOCATION:Action Pistol Range\, 4770 Waterford Rd\, Clarkston\, MI\, United States
CATEGORIES:Diablo Action Pistol
ATTACH;FMTTYPE=image/png:https://gunstuff.tv/wp-content/uploads/2025/10/White-bg_transparent-daplogo-e1547014989540-HGFVH2.png
ORGANIZER;CN="Blade Benson":MAILTO:matchsupport@diabloactionpistol.com
GEO:42.705297;-83.4014
X-APPLE-STRUCTURED-LOCATION;VALUE=URI;X-ADDRESS=Action Pistol Range 4770 Waterford Rd Clarkston MI United States;X-APPLE-RADIUS=500;X-TITLE=4770 Waterford Rd:geo:-83.4014,42.705297
END:VEVENT
BEGIN:VEVENT
DTSTART;TZID=America/New_York:20260212T160000
DTEND;TZID=America/New_York:20260212T210000
DTSTAMP:20260424T113919
CREATED:20260202T111629Z
LAST-MODIFIED:20260202T111629Z
UID:10004910-1770912000-1770930000@gunstuff.tv
SUMMARY:Trap
DESCRIPTION:Practice: Sr. Member $6/Member $7/Non-Member $9\nMeat Green Bird: Sr. Member $7/Member $8/Non-Member $10
URL:https://gunstuff.tv/event/trap-21/
LOCATION:Oxford Gun Club\, 798 Oxford Rd\, Lincoln University\, PA\, United States
GEO:39.78874;-75.909509
X-APPLE-STRUCTURED-LOCATION;VALUE=URI;X-ADDRESS=Oxford Gun Club 798 Oxford Rd Lincoln University PA United States;X-APPLE-RADIUS=500;X-TITLE=798 Oxford Rd:geo:-75.909509,39.78874
END:VEVENT
BEGIN:VEVENT
DTSTART;TZID=America/New_York:20260212T160000
DTEND;TZID=America/New_York:20260212T210000
DTSTAMP:20260424T113919
CREATED:20260202T111629Z
LAST-MODIFIED:20260209T111633Z
UID:10004920-1770912000-1770930000@gunstuff.tv
SUMMARY:Trap
DESCRIPTION:Practice: Sr. Member $6/Member $7/Non-Member $9\nMeat Green Bird: Sr. Member $7/Member $8/Non-Member $10
URL:https://gunstuff.tv/event/trap-20/
LOCATION:Oxford Gun Club\, 798 Oxford Rd\, Lincoln University\, PA\, United States
GEO:39.78874;-75.909509
X-APPLE-STRUCTURED-LOCATION;VALUE=URI;X-ADDRESS=Oxford Gun Club 798 Oxford Rd Lincoln University PA United States;X-APPLE-RADIUS=500;X-TITLE=798 Oxford Rd:geo:-75.909509,39.78874
END:VEVENT
BEGIN:VEVENT
DTSTART;TZID=America/New_York:20260212T173000
DTEND;TZID=America/New_York:20260212T210000
DTSTAMP:20260424T113919
CREATED:20260206T050154Z
LAST-MODIFIED:20260206T050154Z
UID:10005012-1770917400-1770930000@gunstuff.tv
SUMMARY:Fall/Winter PPC
DESCRIPTION:Fall / Winter PPC Season – Indoor range – Thursdays from 5:30 to 9:30 PM October 2\, 2025 to March 26\, 2026\, and Mondays from 8:30 AM to 12:00\, October 6th 2025 to March 30\, 2026.
URL:https://gunstuff.tv/event/fall-winter-ppc-40/
LOCATION:Indoor Rifle & Pistol Range\, 4770 Waterford Rd\,\, Village of Clarkston\, 48346
CATEGORIES:D.R. Wilson,Indoor Rifle & Pistol Rage,Range
ATTACH;FMTTYPE=image/jpeg:https://gunstuff.tv/wp-content/uploads/2025/10/PPC-Logo-6Evv9j.jpg
END:VEVENT
BEGIN:VEVENT
DTSTART;TZID=America/Chicago:20260212T180000
DTEND;TZID=America/Chicago:20260212T193000
DTSTAMP:20260424T113919
CREATED:20260127T031710Z
LAST-MODIFIED:20260210T033144Z
UID:10004776-1770919200-1770924600@gunstuff.tv
SUMMARY:Men’s Pistol League
DESCRIPTION:@ 			\n			\n							 \n\n\n		\n\n\n\n\n\n\n						\n							Add to calendar						 \n\n\n\n									\n										Google Calendar									\n								\n\n									\n										iCalendar									\n								\n\n									\n										Outlook 365									\n								\n\n									\n										Outlook Live
URL:https://gunstuff.tv/event/mens-pistol-league-4/
LOCATION:OH
END:VEVENT
BEGIN:VEVENT
DTSTART;TZID=America/New_York:20260212T180000
DTEND;TZID=America/New_York:20260212T213000
DTSTAMP:20260424T113919
CREATED:20260210T013133Z
LAST-MODIFIED:20260210T013134Z
UID:10005125-1770919200-1770931800@gunstuff.tv
SUMMARY:USPSA Match Night – Mountain City Practical Shooters
DESCRIPTION:Weekly USPSA Level 1 Match hosted by Mountain City Practical Shooters. \nLocation: Appalachian Gun\, Pawn & Range \n140 Shelby Ln\, Jasper\, GA 30143 \nArrive: 6:00 PM (New Shooter Briefing) \nFirst Shots: 6:30 PM \nMatch Fee: $20 \nOpen to new and experienced shooters. Come learn\, compete\, and have fun in a safe\, supportive environment. \n\n\n\n\nSchedule subject to change due to weather\, and holidays. \n\n\n 
URL:https://gunstuff.tv/event/uspsa-match-night-mountain-city-practical-shooters/
LOCATION:Appalacian Gun\, Pawn & Range\, 140 Shelby Ln.\, Jasper\, GA\, 30143\, United States
CATEGORIES:firearm-safety,Safe Gun
ORGANIZER;CN="Appalachian Gun":MAILTO:Appalachiangun@gmail.com
END:VEVENT
BEGIN:VEVENT
DTSTART;TZID=America/Chicago:20260212T190000
DTEND;TZID=America/Chicago:20260212T200000
DTSTAMP:20260424T113919
CREATED:20251003T035716Z
LAST-MODIFIED:20260210T220218Z
UID:10000817-1770922800-1770926400@gunstuff.tv
SUMMARY:South Suburban Cook County Townhall Meeting
DESCRIPTION:Come out and join your friends at the ISRA South Suburban Cook County Townhall meeting from 7 pm-8 pm. As always\, we will discuss current events.\nOur host Cooper’s Bar and Grill will be serving a buffet-style dinner with unlimited soft drinks starting at 6:30 pm.\nThe cost of the buffet is $15.\nCome join us and enjoy great food and company and help support our gracious host\, Cooper’s Bar and Grill.
URL:https://gunstuff.tv/event/south-suburban-cook-county-grass-roots-meeting-5/
LOCATION:Cooper’s Bar and Grill\, 15158 Cicero Ave\, Oak Forest\, IL\, United States
CATEGORIES:Event Calendar
GEO:41.61681;-87.73707
X-APPLE-STRUCTURED-LOCATION;VALUE=URI;X-ADDRESS=Cooper’s Bar and Grill 15158 Cicero Ave Oak Forest IL United States;X-APPLE-RADIUS=500;X-TITLE=15158 Cicero Ave:geo:-87.73707,41.61681
END:VEVENT
BEGIN:VEVENT
DTSTART;TZID=UTC:20260212T190000
DTEND;TZID=UTC:20260212T210000
DTSTAMP:20260424T113919
CREATED:20260203T001632Z
LAST-MODIFIED:20260210T001710Z
UID:10004937-1770922800-1770930000@gunstuff.tv
SUMMARY:Indoor Range Closed 7-9:00pm
DESCRIPTION:Little Club Match \nFreeport Flounders (home) vs Freeport Rangers
URL:https://gunstuff.tv/event/indoor-range-closed-7-900pm-5/
LOCATION:OH
END:VEVENT
BEGIN:VEVENT
DTSTART;TZID=America/New_York:20260212T190000
DTEND;TZID=America/New_York:20260212T220000
DTSTAMP:20260424T113919
CREATED:20260111T181632Z
LAST-MODIFIED:20260208T183158Z
UID:10004362-1770922800-1770933600@gunstuff.tv
SUMMARY:Doerflein Skeet League
DESCRIPTION:Doerflein Skeet League
URL:https://gunstuff.tv/event/doerflein-skeet-league-13/
LOCATION:Shotgun Fields
END:VEVENT
BEGIN:VEVENT
DTSTART;TZID=America/New_York:20260212T213000
DTEND;TZID=America/New_York:20260212T213000
DTSTAMP:20260424T113919
CREATED:20260206T193127Z
LAST-MODIFIED:20260206T193128Z
UID:10005030-1770931800-1770931800@gunstuff.tv
SUMMARY:Your Enterprise Car Rental - 69343165
DESCRIPTION:\, \, \, \, \,  undefined
URL:https://gunstuff.tv/event/your-enterprise-car-rental-69343165/
LOCATION:\, \, \, \, \,
END:VEVENT
END:VCALENDAR