BEGIN:VCALENDAR
VERSION:2.0
PRODID:-//GunStuff TV - ECPv6.15.20//NONSGML v1.0//EN
CALSCALE:GREGORIAN
METHOD:PUBLISH
X-ORIGINAL-URL:https://gunstuff.tv
X-WR-CALDESC:Events for GunStuff TV
REFRESH-INTERVAL;VALUE=DURATION:PT1H
X-Robots-Tag:noindex
X-PUBLISHED-TTL:PT1H
BEGIN:VTIMEZONE
TZID:America/Chicago
BEGIN:DAYLIGHT
TZOFFSETFROM:-0600
TZOFFSETTO:-0500
TZNAME:CDT
DTSTART:20250309T080000
END:DAYLIGHT
BEGIN:STANDARD
TZOFFSETFROM:-0500
TZOFFSETTO:-0600
TZNAME:CST
DTSTART:20251102T070000
END:STANDARD
BEGIN:DAYLIGHT
TZOFFSETFROM:-0600
TZOFFSETTO:-0500
TZNAME:CDT
DTSTART:20260308T080000
END:DAYLIGHT
BEGIN:STANDARD
TZOFFSETFROM:-0500
TZOFFSETTO:-0600
TZNAME:CST
DTSTART:20261101T070000
END:STANDARD
BEGIN:DAYLIGHT
TZOFFSETFROM:-0600
TZOFFSETTO:-0500
TZNAME:CDT
DTSTART:20270314T080000
END:DAYLIGHT
BEGIN:STANDARD
TZOFFSETFROM:-0500
TZOFFSETTO:-0600
TZNAME:CST
DTSTART:20271107T070000
END:STANDARD
END:VTIMEZONE
BEGIN:VTIMEZONE
TZID:UTC
BEGIN:STANDARD
TZOFFSETFROM:+0000
TZOFFSETTO:+0000
TZNAME:UTC
DTSTART:20250101T000000
END:STANDARD
END:VTIMEZONE
BEGIN:VTIMEZONE
TZID:America/New_York
BEGIN:DAYLIGHT
TZOFFSETFROM:-0500
TZOFFSETTO:-0400
TZNAME:EDT
DTSTART:20250309T070000
END:DAYLIGHT
BEGIN:STANDARD
TZOFFSETFROM:-0400
TZOFFSETTO:-0500
TZNAME:EST
DTSTART:20251102T060000
END:STANDARD
BEGIN:DAYLIGHT
TZOFFSETFROM:-0500
TZOFFSETTO:-0400
TZNAME:EDT
DTSTART:20260308T070000
END:DAYLIGHT
BEGIN:STANDARD
TZOFFSETFROM:-0400
TZOFFSETTO:-0500
TZNAME:EST
DTSTART:20261101T060000
END:STANDARD
BEGIN:DAYLIGHT
TZOFFSETFROM:-0500
TZOFFSETTO:-0400
TZNAME:EDT
DTSTART:20270314T070000
END:DAYLIGHT
BEGIN:STANDARD
TZOFFSETFROM:-0400
TZOFFSETTO:-0500
TZNAME:EST
DTSTART:20271107T060000
END:STANDARD
END:VTIMEZONE
BEGIN:VTIMEZONE
TZID:America/Los_Angeles
BEGIN:DAYLIGHT
TZOFFSETFROM:-0800
TZOFFSETTO:-0700
TZNAME:PDT
DTSTART:20250309T100000
END:DAYLIGHT
BEGIN:STANDARD
TZOFFSETFROM:-0700
TZOFFSETTO:-0800
TZNAME:PST
DTSTART:20251102T090000
END:STANDARD
BEGIN:DAYLIGHT
TZOFFSETFROM:-0800
TZOFFSETTO:-0700
TZNAME:PDT
DTSTART:20260308T100000
END:DAYLIGHT
BEGIN:STANDARD
TZOFFSETFROM:-0700
TZOFFSETTO:-0800
TZNAME:PST
DTSTART:20261101T090000
END:STANDARD
BEGIN:DAYLIGHT
TZOFFSETFROM:-0800
TZOFFSETTO:-0700
TZNAME:PDT
DTSTART:20270314T100000
END:DAYLIGHT
BEGIN:STANDARD
TZOFFSETFROM:-0700
TZOFFSETTO:-0800
TZNAME:PST
DTSTART:20271107T090000
END:STANDARD
END:VTIMEZONE
BEGIN:VTIMEZONE
TZID:UTC
BEGIN:STANDARD
TZOFFSETFROM:+0000
TZOFFSETTO:+0000
TZNAME:UTC
DTSTART:20250101T000000
END:STANDARD
END:VTIMEZONE
BEGIN:VTIMEZONE
TZID:America/Indiana/Indianapolis
BEGIN:DAYLIGHT
TZOFFSETFROM:-0500
TZOFFSETTO:-0400
TZNAME:EDT
DTSTART:20250309T070000
END:DAYLIGHT
BEGIN:STANDARD
TZOFFSETFROM:-0400
TZOFFSETTO:-0500
TZNAME:EST
DTSTART:20251102T060000
END:STANDARD
BEGIN:DAYLIGHT
TZOFFSETFROM:-0500
TZOFFSETTO:-0400
TZNAME:EDT
DTSTART:20260308T070000
END:DAYLIGHT
BEGIN:STANDARD
TZOFFSETFROM:-0400
TZOFFSETTO:-0500
TZNAME:EST
DTSTART:20261101T060000
END:STANDARD
BEGIN:DAYLIGHT
TZOFFSETFROM:-0500
TZOFFSETTO:-0400
TZNAME:EDT
DTSTART:20270314T070000
END:DAYLIGHT
BEGIN:STANDARD
TZOFFSETFROM:-0400
TZOFFSETTO:-0500
TZNAME:EST
DTSTART:20271107T060000
END:STANDARD
END:VTIMEZONE
BEGIN:VEVENT
DTSTART;TZID=America/Chicago:20260125T090000
DTEND;TZID=America/Chicago:20260201T180000
DTSTAMP:20260424T132024
CREATED:20260113T020224Z
LAST-MODIFIED:20260120T021716Z
UID:10004446-1769331600-1769968800@gunstuff.tv
SUMMARY:Celebrating 8 Years of Defender Outdoors Clay Sports Ranch
DESCRIPTION:January 31st is officially our 8 year Anniversary and we are so proud of all that the shooting community has helped us build and accomplish.  We want to celebrate with everyone with a week of fun shooting at 2018 pricing and lots of chances to win! Over $2500 in prizes! \nWe have 4 total courses available all week and for each one that you shoot/score you will get a chance to win.  We’ll have 10 random draws.  2 for each course shot.  If you shoot all 4 courses you will get an extra chance to win with the last 2 prizes.  \n2018 Pricing\n100 target round (Cowtown\, Ranch\, Outlaw) $45 per \n50 target Lonestar Super Sporting $22.50  \nPrizes\n1. Pelican Cooler Grey\n2. Pelican Cooler Green\n3. Outdoor Edge Hunters Combo knife set\n4. Bushnell Binoculars\n5. Taurus 9mm\n6. Crickett full size 22LR\n7. Ruger Wrangler 22LR\n8. Lesson with Travis Mears\n9. Big Screen TV\n10. Shotgun!
URL:https://gunstuff.tv/event/celebrating-8-years-of-defender-outdoors-clay-sports-ranch/
LOCATION:Clay Sports Ranch\, 8270 Aledo Road\, Fort Worth\, TX\, 76126\, United States
CATEGORIES:Clay Sports Ranch Events
ATTACH;FMTTYPE=image/jpeg:https://gunstuff.tv/wp-content/uploads/2026/01/CSR-Anniversary-Flyer-Final-scaled-1dVQDO.jpg
END:VEVENT
BEGIN:VEVENT
DTSTART;TZID=UTC:20260126T170000
DTEND;TZID=UTC:20260128T210000
DTSTAMP:20260424T132024
CREATED:20260113T001636Z
LAST-MODIFIED:20260120T001744Z
UID:10004429-1769446800-1769634000@gunstuff.tv
SUMMARY:Indoor and Outdoor Ranges are closed 5:00-9:00pm
DESCRIPTION:Both Ranges are closed 5-9:00pm
URL:https://gunstuff.tv/event/indoor-and-outdoor-ranges-are-closed-500-900pm/
LOCATION:CA
END:VEVENT
BEGIN:VEVENT
DTSTART;TZID=America/New_York:20260128T080000
DTEND;TZID=America/New_York:20260128T093000
DTSTAMP:20260424T132024
CREATED:20251031T180204Z
LAST-MODIFIED:20260123T183220Z
UID:10002717-1769587200-1769592600@gunstuff.tv
SUMMARY:Range Closure Square & AB 100 yard
DESCRIPTION:Beaver Control
URL:https://gunstuff.tv/event/range-closure-square-ab-100-yard-38/
LOCATION:Square Range-Action Bay 100 yard
END:VEVENT
BEGIN:VEVENT
DTSTART;TZID=UTC:20260128T080000
DTEND;TZID=UTC:20260128T120000
DTSTAMP:20260424T132024
CREATED:20260113T001636Z
LAST-MODIFIED:20260127T001631Z
UID:10004430-1769587200-1769601600@gunstuff.tv
SUMMARY:Indoor range closed 8am-12:00pm
DESCRIPTION:Indoor range closed
URL:https://gunstuff.tv/event/indoor-range-closed-8am-1200pm-13/
LOCATION:CA
END:VEVENT
BEGIN:VEVENT
DTSTART;TZID=America/Chicago:20260128T080000
DTEND;TZID=America/Chicago:20260128T170000
DTSTAMP:20260424T132024
CREATED:20260106T020215Z
LAST-MODIFIED:20260127T021634Z
UID:10003765-1769587200-1769619600@gunstuff.tv
SUMMARY:Polar Bear League 2026
DESCRIPTION:Join us for Polar Bear League!\nRegistration for Individuals and Teams: ALL participants must create a Score Chaser account (if you do not already have one) and register for the league. To register as a team\, during registration\, make a “squadding request” to be paired up with all of your preferred teammates\, or email Jessica Jessica@defenderoutdoors.com your teammates names after they have created an account and registered. If you do not have a team\, we will put you on one.\nhttps://app.scorechaser.com/tournament-I0YEEujRIPNaU4\n\nPayments: Payments will not be accepted via Score Chaser. You may pay at the club at the start of league.\nLocation:8270 Aledo Rd\, Fort Worth\, TX 76126\n\nDates:Weeks of January 7th\, 14th\, 21st\, 28th\, February 4th\, 11th and League Dinner Party/Awards on February 18th.***Teams and Individuals can shoot anytime between Wednesday at 10AM and Sunday close of business each week.***\n\nBasics:League scores based on 50 targets per week. (Practice course and 5-stand will also be available prior and after weekly rounds)\n\nTargets:Enjoyable targets will be set by Course Manager Gary Madigan and Christian Daniels\n\nPrice:Price for league is $230 for all 6 weeks which includes the League Party dinner/awards.\n\nTeams:A minimum of 4 shooters per team is required to make a team and a maximum of 6 shooters. Team scores will take the highest 4 shooters including handicap for the weekly total. Team rosters must be determined prior to the end of the first week. Individual shooters will be grouped together to create a team. Shooters can only compete for one team per league.\n\nTrophies/Awards\nIndividual Awards:· HOA· HOA Runner-Up· A Class First· B Class First· High Junior · Runner Up Junior· High Lady· Runner Up Lady · Third Lady· Fourth Lady· Most Improved\nTeam Awards:· First· Second· A Class First Place\n\nHandicaps:Handicaps are calculated by using the shooter’s weekly score\, then subtracting it from “par”\, which is 45 and multiplying the difference times .70 (70%) Example: If a shooter’s score is 30 the equation is 45-30=15 x .70 = 10.5. the product (in the example 10.5) will be added to the shooter’s score. Handicaps adjusted each week. Maximum score with handicap is 45.\n\nWeather and Bank Rounds:If you are not able to make it on the scheduled evening\, bank scores must be made up by Sunday of that week or you will be given an average of 2 other weeks scores for that week. The same for weather related cancelations.
URL:https://gunstuff.tv/event/polar-bear-league-2026-4/
LOCATION:Clay Sports Ranch\, 8270 Aledo Road\, Fort Worth\, TX\, 76126\, United States
CATEGORIES:Clay Sports Ranch Events
ATTACH;FMTTYPE=image/jpeg:https://gunstuff.tv/wp-content/uploads/2026/01/Polar-Bear-League-2026-Flyer-scaled-MQgCN7.jpg
END:VEVENT
BEGIN:VEVENT
DTSTART;TZID=America/Los_Angeles:20260128T090000
DTEND;TZID=America/Los_Angeles:20260128T120000
DTSTAMP:20260424T132024
CREATED:20260102T190144Z
LAST-MODIFIED:20260123T191739Z
UID:10003709-1769590800-1769601600@gunstuff.tv
SUMMARY:Airgun Wednesdays
DESCRIPTION:Fun Airgun Only shooting session at the MPR- look for the big red flag on the pole that says “MPR”- that’s us! \nOpen to public\, airguns .30 cal and below. Benches available\, targets and stands\, 200 yard range. Good group of people. \nAll types of airguns- springers\, PCP’s\, Pistols.  Eye protection required\, ear protection optional \nNo bb\, darts or airsoft please. \n$15 Guest\n$10 for Diablo members (did you know Diablo membership is only $25 a year?)\n$5 for those special few that have purchased a USI VIP card.\nYouths accompanied by a Club member adult shoot free.\n \n\nUSI waiver must signed prior to shoot\, you can do so prior to attending: \n\n\nWaiver \n\n\nContact: \nSam Russo \nthePelleteer@gmail.com
URL:https://gunstuff.tv/event/airgun-wednesdays-16/
LOCATION:USI Multi Purpose Range\, 4700 Evora Road\, Concord\, CA\, 94520
CATEGORIES:Airgun
ATTACH;FMTTYPE=image/jpeg:https://gunstuff.tv/wp-content/uploads/2025/10/4MRvVFxy_400x400-e1623188943149-4rbkn0.jpg
ORGANIZER;CN="Sam Russo":MAILTO:airgun_fieldtarget@diablorodandgun.com
END:VEVENT
BEGIN:VEVENT
DTSTART;TZID=America/Chicago:20260128T090000
DTEND;TZID=America/Chicago:20260128T180000
DTSTAMP:20260424T132024
CREATED:20260113T020228Z
LAST-MODIFIED:20260127T021634Z
UID:10004447-1769590800-1769623200@gunstuff.tv
SUMMARY:Celebrating 8 Years of Defender Outdoors Clay Sports Ranch
DESCRIPTION:January 31st is officially our 8 year Anniversary and we are so proud of all that the shooting community has helped us build and accomplish.  We want to celebrate with everyone with a week of fun shooting at 2018 pricing and lots of chances to win! Over $2500 in prizes! \nWe have 4 total courses available all week and for each one that you shoot/score you will get a chance to win.  We’ll have 10 random draws.  2 for each course shot.  If you shoot all 4 courses you will get an extra chance to win with the last 2 prizes.  \n2018 Pricing\n100 target round (Cowtown\, Ranch\, Outlaw) $45 per \n50 target Lonestar Super Sporting $22.50  \nPrizes\n1. Pelican Cooler Grey\n2. Pelican Cooler Green\n3. Outdoor Edge Hunters Combo knife set\n4. Bushnell Binoculars\n5. Taurus 9mm\n6. Crickett full size 22LR\n7. Ruger Wrangler 22LR\n8. Lesson with Travis Mears\n9. Big Screen TV\n10. Shotgun!
URL:https://gunstuff.tv/event/celebrating-8-years-of-defender-outdoors-clay-sports-ranch-2/
LOCATION:Clay Sports Ranch\, 8270 Aledo Road\, Fort Worth\, TX\, 76126\, United States
CATEGORIES:Clay Sports Ranch Events
ATTACH;FMTTYPE=image/jpeg:https://gunstuff.tv/wp-content/uploads/2026/01/CSR-Anniversary-Flyer-Final-scaled-1dVQDO.jpg
END:VEVENT
BEGIN:VEVENT
DTSTART;TZID=America/New_York:20260128T093000
DTEND;TZID=America/New_York:20260128T113000
DTSTAMP:20260424T132024
CREATED:20260123T050245Z
LAST-MODIFIED:20260123T050249Z
UID:10004683-1769592600-1769599800@gunstuff.tv
SUMMARY:NFAA League - Wednesdays
DESCRIPTION:
URL:https://gunstuff.tv/event/nfaa-league-wednesdays-4/
LOCATION:Indoor Archery Range\, 4770 Waterford Rd\, Clarkston\, MI\, United States
CATEGORIES:Archery,Indoor Archery Range,Range,Winter League
ATTACH;FMTTYPE=image/jpeg:https://gunstuff.tv/wp-content/uploads/2026/01/NFAA-ABnmFF.jpg
GEO:42.705297;-83.4014
X-APPLE-STRUCTURED-LOCATION;VALUE=URI;X-ADDRESS=Indoor Archery Range 4770 Waterford Rd Clarkston MI United States;X-APPLE-RADIUS=500;X-TITLE=4770 Waterford Rd:geo:-83.4014,42.705297
END:VEVENT
BEGIN:VEVENT
DTSTART;TZID=America/Los_Angeles:20260128T120000
DTEND;TZID=America/Los_Angeles:20260128T160000
DTSTAMP:20260424T132024
CREATED:20260102T190144Z
LAST-MODIFIED:20260123T191739Z
UID:10003710-1769601600-1769616000@gunstuff.tv
SUMMARY:.22 Silhouette Practice and Airguns welcome!
DESCRIPTION:22 Rimfire and Air guns only- Silhouette target shooting at the MPR. \nOffhand/Standing shooting at Metal Animal silhouettes with rifles or pistols\, open or scoped sights allowed. \nBenches are available during this practice period every Wednesday \nMembers of all 5 clubs are welcome.\n Fees are collected at the Multi Purpose Range\, not at the USI Clubhouse .\nThe MPR is the building on the right hand side as you pass the Public Range\, but before the Impalement Arts Range.\nLook for the red MPR flag on the flag post- that’s us!\n\nUSI waiver and a Blue Card issued from the USI clubhouse required prior to the match- there is no charge to these one time processes.\n\nA silhouette is a steel profile of an animal (chicken\, pig\, turkey\, or ram) standing on a pedestal. The object of the game is to knock as many silhouettes as possible off the stand\, shooting one round at each silhouette. It is a very simple competition\, with very simple scoring: Knocking an animal off its stand counts as a hit.\n\nAlthough silhouette is an easy game to learn\, it is not an easy game to master. The animals are rather small and the distances can reach out a bit; you must shoot offhand (standing); a moderate breeze can move a bullet or a pellet the width of an animal; your concentration becomes more difficult to hold as you knock down five in a row or with a close miss.  Silhouette is an endless challenge that makes you a better shooter!\nThis is a reoccurring event every Week- we intend to host this practice barring weather or extraordinary barriers preventing the event from occurring in a safe environment. Heavy fog\, severe weather or other acts of nature could force a postponement.\n\n+ GOOGLE CALENDAR+ ICAL EXPORT\n\n\nRelated Events
URL:https://gunstuff.tv/event/22-silhouette-practice-and-airguns-welcome-16/
LOCATION:USI Multi Purpose Range\, 4700 Evora Road\, Concord\, CA\, 94520
CATEGORIES:Airgun,Silhouette Shooting
ATTACH;FMTTYPE=image/jpeg:https://gunstuff.tv/wp-content/uploads/2025/10/Silhouette_Target_1-05Bdxg.jpg
ORGANIZER;CN="Dennis Winslow":MAILTO:dmwinslow@aol.com
END:VEVENT
BEGIN:VEVENT
DTSTART;TZID=America/New_York:20260128T160000
DTEND;TZID=America/New_York:20260128T210000
DTSTAMP:20260424T132024
CREATED:20260105T110134Z
LAST-MODIFIED:20260126T111630Z
UID:10003740-1769616000-1769634000@gunstuff.tv
SUMMARY:Skeet/Wobble
DESCRIPTION:
URL:https://gunstuff.tv/event/skeet-wobble-18/
LOCATION:Oxford Gun Club\, 798 Oxford Rd\, Lincoln University\, PA\, United States
GEO:39.78874;-75.909509
X-APPLE-STRUCTURED-LOCATION;VALUE=URI;X-ADDRESS=Oxford Gun Club 798 Oxford Rd Lincoln University PA United States;X-APPLE-RADIUS=500;X-TITLE=798 Oxford Rd:geo:-75.909509,39.78874
END:VEVENT
BEGIN:VEVENT
DTSTART;TZID=America/New_York:20260128T163000
DTEND;TZID=America/New_York:20260128T180000
DTSTAMP:20260424T132024
CREATED:20260123T050249Z
LAST-MODIFIED:20260123T050249Z
UID:10004684-1769617800-1769623200@gunstuff.tv
SUMMARY:Parks & Rec Instructional Archery
DESCRIPTION:This is open to all youth 8 years and older\, adults\, members\, or non-members.\nBasics of archery including safety\, techniques\, self-improvement\, and mental concentration. Equipment is provided or bring your own (must be approved by instructors before use).\nRegister from Waterford: https://parks.waterfordmi.gov/CourseActivities.aspx?id=6\nRegister from Springfield: https://secure.rec1.com/MI/springfield-township-mi/catalog/index/b5ecc5390327b924601573b5dba299aa?filter=c2VhcmNoPWFyY2hlcnkmbG9jYXRpb24lNUI0NDQ3OSU1RD0x\nRegister from Independence: https://app.amilia.com/store/en/independence-township/shop/programs/95091?subCategoryIds=6162243
URL:https://gunstuff.tv/event/parks-rec-instructional-archery-21/
LOCATION:Indoor Archery Range\, 4770 Waterford Rd\, Clarkston\, MI\, United States
CATEGORIES:Archery,Indoor Archery Range,Range
ATTACH;FMTTYPE=image/jpeg:https://gunstuff.tv/wp-content/uploads/2026/01/2026-Saturday-Instructional-social-ScMNCL.jpg
GEO:42.705297;-83.4014
X-APPLE-STRUCTURED-LOCATION;VALUE=URI;X-ADDRESS=Indoor Archery Range 4770 Waterford Rd Clarkston MI United States;X-APPLE-RADIUS=500;X-TITLE=4770 Waterford Rd:geo:-83.4014,42.705297
END:VEVENT
BEGIN:VEVENT
DTSTART;TZID=America/Chicago:20260128T170000
DTEND;TZID=America/Chicago:20260128T193000
DTSTAMP:20260424T132024
CREATED:20260106T030153Z
LAST-MODIFIED:20260127T031714Z
UID:10003783-1769619600-1769628600@gunstuff.tv
SUMMARY:Bullseye League
DESCRIPTION:@ 			\n			\n							 \n\n\n		\n\n\n\n\n\n\n						\n							Add to calendar						 \n\n\n\n									\n										Google Calendar									\n								\n\n									\n										iCalendar									\n								\n\n									\n										Outlook 365									\n								\n\n									\n										Outlook Live
URL:https://gunstuff.tv/event/bullseye-league-24/
LOCATION:CA
END:VEVENT
BEGIN:VEVENT
DTSTART;TZID=America/Los_Angeles:20260128T170000
DTEND;TZID=America/Los_Angeles:20260128T220000
DTSTAMP:20260424T132024
CREATED:20251005T193134Z
LAST-MODIFIED:20260125T221628Z
UID:10001806-1769619600-1769637600@gunstuff.tv
SUMMARY:MOORE N MOORE - NIGHT SHOOT & BBQ
DESCRIPTION:For more information\, contact Moore N Moore at https://www.moorenmoore.com/night-shooting/
URL:https://gunstuff.tv/event/moore-n-moore-night-shoot-bbq-15/
LOCATION:Moore N Moore Sporting Clays\, 12653 Little Tujunga Canyon Rd\, Sylmar\, CA\, United States
CATEGORIES:Moore N Moore
ATTACH;FMTTYPE=image/png:https://gunstuff.tv/wp-content/uploads/2025/10/image-pjjZEf.png
ORGANIZER;CN="Moore N Moore Sporting Clays":MAILTO:info@moorenmoore.com
GEO:34.282317;-118.371281
X-APPLE-STRUCTURED-LOCATION;VALUE=URI;X-ADDRESS=Moore N Moore Sporting Clays 12653 Little Tujunga Canyon Rd Sylmar CA United States;X-APPLE-RADIUS=500;X-TITLE=12653 Little Tujunga Canyon Rd:geo:-118.371281,34.282317
END:VEVENT
BEGIN:VEVENT
DTSTART;TZID=America/New_York:20260128T180000
DTEND;TZID=America/New_York:20260128T220000
DTSTAMP:20260424T132024
CREATED:20260123T050249Z
LAST-MODIFIED:20260123T050249Z
UID:10004685-1769623200-1769637600@gunstuff.tv
SUMMARY:Regular Shooting Hours
DESCRIPTION:OCSC SHOTGUN CLUB HOURS\nThe OCSC Shotgun Club is open for shooting to members\, guests and non-members every Tuesday & Wednesday from 6 – 10 pm and every Saturday and Sunday from 11 am – 4 pm.\nThe club sells 12 and 20 gauge ammunition (lead shot only). Come on out and give shotgun shooting a try… we offer trap\, wobble trap\, skeet (steel shot only)\, 7-yard & 12-yard upland angles\, 5-stand and flurry.
URL:https://gunstuff.tv/event/regular-shooting-hours-70/
LOCATION:Shotgun Ranges\, 4770 Waterford Rd\, Clarkston\, MI\, United States
CATEGORIES:Range,Shotgun,Shotgun Range
ATTACH;FMTTYPE=image/png:https://gunstuff.tv/wp-content/uploads/2025/10/shotgun-logo-160x160-1-mvSnxY.png
GEO:42.705297;-83.4014
X-APPLE-STRUCTURED-LOCATION;VALUE=URI;X-ADDRESS=Shotgun Ranges 4770 Waterford Rd Clarkston MI United States;X-APPLE-RADIUS=500;X-TITLE=4770 Waterford Rd:geo:-83.4014,42.705297
END:VEVENT
BEGIN:VEVENT
DTSTART;TZID=America/New_York:20260128T183000
DTEND;TZID=America/New_York:20260128T200000
DTSTAMP:20260424T132024
CREATED:20260123T050249Z
LAST-MODIFIED:20260123T050249Z
UID:10004686-1769625000-1769630400@gunstuff.tv
SUMMARY:New Member Orientation
DESCRIPTION:
URL:https://gunstuff.tv/event/new-member-orientation-9/
LOCATION:Indoor Rifle & Pistol Range\, 4770 Waterford Rd\,\, Village of Clarkston\, 48346
CATEGORIES:Club Events,Indoor Rifle & Pistol Rage,Range
ATTACH;FMTTYPE=image/jpeg:https://gunstuff.tv/wp-content/uploads/2025/10/New-Member-orientation-8vadgR.jpg
END:VEVENT
BEGIN:VEVENT
DTSTART;TZID=America/New_York:20260128T183000
DTEND;TZID=America/New_York:20260128T200000
DTSTAMP:20260424T132024
CREATED:20260123T050249Z
LAST-MODIFIED:20260123T050249Z
UID:10004687-1769625000-1769630400@gunstuff.tv
SUMMARY:Parks & Rec Instructional Archery
DESCRIPTION:This is open to all youth 8 years and older\, adults\, members\, or non-members.\nBasics of archery including safety\, techniques\, self-improvement\, and mental concentration. Equipment is provided or bring your own (must be approved by instructors before use).\nRegister from Waterford: https://parks.waterfordmi.gov/CourseActivities.aspx?id=6\nRegister from Springfield: https://secure.rec1.com/MI/springfield-township-mi/catalog/index/b5ecc5390327b924601573b5dba299aa?filter=c2VhcmNoPWFyY2hlcnkmbG9jYXRpb24lNUI0NDQ3OSU1RD0x\nRegister from Independence: https://app.amilia.com/store/en/independence-township/shop/programs/95091?subCategoryIds=6162243
URL:https://gunstuff.tv/event/parks-rec-instructional-archery-22/
LOCATION:Indoor Archery Range\, 4770 Waterford Rd\, Clarkston\, MI\, United States
CATEGORIES:Archery,Indoor Archery Range,Range
ATTACH;FMTTYPE=image/jpeg:https://gunstuff.tv/wp-content/uploads/2026/01/2026-Saturday-Instructional-social-ScMNCL.jpg
GEO:42.705297;-83.4014
X-APPLE-STRUCTURED-LOCATION;VALUE=URI;X-ADDRESS=Indoor Archery Range 4770 Waterford Rd Clarkston MI United States;X-APPLE-RADIUS=500;X-TITLE=4770 Waterford Rd:geo:-83.4014,42.705297
END:VEVENT
BEGIN:VEVENT
DTSTART;TZID=America/New_York:20260128T190000
DTEND;TZID=America/New_York:20260128T203000
DTSTAMP:20260424T132024
CREATED:20260123T050249Z
LAST-MODIFIED:20260123T050249Z
UID:10004688-1769626800-1769632200@gunstuff.tv
SUMMARY:General Membership Meeting
DESCRIPTION:
URL:https://gunstuff.tv/event/general-membership-meeting-4/
LOCATION:Indoor Rifle & Pistol Range\, 4770 Waterford Rd\,\, Village of Clarkston\, 48346
CATEGORIES:Club Events
ATTACH;FMTTYPE=image/png:https://gunstuff.tv/wp-content/uploads/2025/11/cropped-Circle-Logo-e1647896702576-rsxK4E.png
END:VEVENT
BEGIN:VEVENT
DTSTART;TZID=UTC:20260128T190000
DTEND;TZID=UTC:20260128T220000
DTSTAMP:20260424T132024
CREATED:20260126T194637Z
LAST-MODIFIED:20260126T194638Z
UID:10004757-1769626800-1769637600@gunstuff.tv
SUMMARY:Open Range W/C 25/01/2026
DESCRIPTION:
URL:https://gunstuff.tv/event/open-range-w-c-25-01-2026-2/
LOCATION:Tiverton Small-bore Rifle Club
END:VEVENT
BEGIN:VEVENT
DTSTART;TZID=America/Indiana/Indianapolis:20260128T193000
DTEND;TZID=America/Indiana/Indianapolis:20260128T203000
DTSTAMP:20260424T132024
CREATED:20260109T113135Z
LAST-MODIFIED:20260123T113217Z
UID:10003892-1769628600-1769632200@gunstuff.tv
SUMMARY:Exec Meeting
DESCRIPTION:Clubhouse
URL:https://gunstuff.tv/event/exec-meeting-4/
LOCATION:Wildcat Valley R and P Club\, 12094 S 300 E\, Brookston\, IN\, United States
CATEGORIES:Executive Board Meetings
GEO:40.576877;-86.811749
X-APPLE-STRUCTURED-LOCATION;VALUE=URI;X-ADDRESS=Wildcat Valley R and P Club 12094 S 300 E Brookston IN United States;X-APPLE-RADIUS=500;X-TITLE=12094 S 300 E:geo:-86.811749,40.576877
END:VEVENT
BEGIN:VEVENT
DTSTART;TZID=America/Chicago:20260128T220000
DTEND;TZID=America/Chicago:20260128T230000
DTSTAMP:20260424T132024
CREATED:20260113T020228Z
LAST-MODIFIED:20260127T021634Z
UID:10004448-1769637600-1769641200@gunstuff.tv
SUMMARY:LTC Qualification
DESCRIPTION:[vc_row][vc_column icons_position=”left”][vc_column_text css=””]Shooting qual to complete your LTC \nAre you a student who has taken an online LTC Course and need to complete your shooting qualification? Defender offers the LTC shooting proficiency portion every week. \nThe shooting qualification requires that you must be able to load\, unload\, and fire the handgun proficiently. If you are new to or inexperienced with shooting we strongly recommend taking either the LTC Prep or Handgun Fundamentals course. This course does not teach basic firearm skills or shooting instruction. (More info) \nPlease arrive a few minutes early to check in and bring a printed copy of your LTC 104 form. \nOur shooting qualification schedule is as follows: \n\nTuesdays – 10:00am\nFridays – 5:00pm\nSaturdays – 8:00am ONLY on days when an LTC class is scheduled. Click here to see our upcoming scheduled classes.\n\nNo appointment needed\, you can simply walk-in during these available times. \nPlease bring the following: \n\nLTC 104 Form\nFirearm (rental available at additional charge)\n1 magazine\n50 rounds of ammo (ammunition is available for purchase at time of session)\nEye and Ear Protection (rentals available)\n\n[/vc_column_text][/vc_column][/vc_row][vc_row][vc_column icons_position=”left”][vc_empty_space hide_on_desktop=”” hide_on_notebook=”” hide_on_tablet=”” hide_on_mobile=””][/vc_column][/vc_row][vc_row][vc_column icons_position=”left”][vc_btn title=”Book Now” color=”warning” css=”” link=”url:https%3A%2F%2Ftms.ezfacility.com%2FOnlineRegistrations%2FRegister.aspx%3FCompanyID%3D5960%26GroupID%3D2615727″][/vc_column][/vc_row]
URL:https://gunstuff.tv/event/ltc-qualification-27/
LOCATION:Shooting Center\, 2900 Shotts Street\, Fort Worth\, TX\, 76107
CATEGORIES:Shooting Center,Shooting Center Training
ATTACH;FMTTYPE=image/jpeg:https://gunstuff.tv/wp-content/uploads/2025/10/LTC-Qualification-vTp9PG.jpg
ORGANIZER;CN="Defender Outdoors Shooting Center Training":MAILTO:info@defenderoutdoors.com
END:VEVENT
END:VCALENDAR