BEGIN:VCALENDAR
VERSION:2.0
PRODID:-//GunStuff TV - ECPv6.15.20//NONSGML v1.0//EN
CALSCALE:GREGORIAN
METHOD:PUBLISH
X-ORIGINAL-URL:https://gunstuff.tv
X-WR-CALDESC:Events for GunStuff TV
REFRESH-INTERVAL;VALUE=DURATION:PT1H
X-Robots-Tag:noindex
X-PUBLISHED-TTL:PT1H
BEGIN:VTIMEZONE
TZID:America/Chicago
BEGIN:DAYLIGHT
TZOFFSETFROM:-0600
TZOFFSETTO:-0500
TZNAME:CDT
DTSTART:20250309T080000
END:DAYLIGHT
BEGIN:STANDARD
TZOFFSETFROM:-0500
TZOFFSETTO:-0600
TZNAME:CST
DTSTART:20251102T070000
END:STANDARD
BEGIN:DAYLIGHT
TZOFFSETFROM:-0600
TZOFFSETTO:-0500
TZNAME:CDT
DTSTART:20260308T080000
END:DAYLIGHT
BEGIN:STANDARD
TZOFFSETFROM:-0500
TZOFFSETTO:-0600
TZNAME:CST
DTSTART:20261101T070000
END:STANDARD
BEGIN:DAYLIGHT
TZOFFSETFROM:-0600
TZOFFSETTO:-0500
TZNAME:CDT
DTSTART:20270314T080000
END:DAYLIGHT
BEGIN:STANDARD
TZOFFSETFROM:-0500
TZOFFSETTO:-0600
TZNAME:CST
DTSTART:20271107T070000
END:STANDARD
END:VTIMEZONE
BEGIN:VTIMEZONE
TZID:America/New_York
BEGIN:DAYLIGHT
TZOFFSETFROM:-0500
TZOFFSETTO:-0400
TZNAME:EDT
DTSTART:20250309T070000
END:DAYLIGHT
BEGIN:STANDARD
TZOFFSETFROM:-0400
TZOFFSETTO:-0500
TZNAME:EST
DTSTART:20251102T060000
END:STANDARD
BEGIN:DAYLIGHT
TZOFFSETFROM:-0500
TZOFFSETTO:-0400
TZNAME:EDT
DTSTART:20260308T070000
END:DAYLIGHT
BEGIN:STANDARD
TZOFFSETFROM:-0400
TZOFFSETTO:-0500
TZNAME:EST
DTSTART:20261101T060000
END:STANDARD
BEGIN:DAYLIGHT
TZOFFSETFROM:-0500
TZOFFSETTO:-0400
TZNAME:EDT
DTSTART:20270314T070000
END:DAYLIGHT
BEGIN:STANDARD
TZOFFSETFROM:-0400
TZOFFSETTO:-0500
TZNAME:EST
DTSTART:20271107T060000
END:STANDARD
END:VTIMEZONE
BEGIN:VTIMEZONE
TZID:America/Denver
BEGIN:DAYLIGHT
TZOFFSETFROM:-0700
TZOFFSETTO:-0600
TZNAME:MDT
DTSTART:20250309T090000
END:DAYLIGHT
BEGIN:STANDARD
TZOFFSETFROM:-0600
TZOFFSETTO:-0700
TZNAME:MST
DTSTART:20251102T080000
END:STANDARD
BEGIN:DAYLIGHT
TZOFFSETFROM:-0700
TZOFFSETTO:-0600
TZNAME:MDT
DTSTART:20260308T090000
END:DAYLIGHT
BEGIN:STANDARD
TZOFFSETFROM:-0600
TZOFFSETTO:-0700
TZNAME:MST
DTSTART:20261101T080000
END:STANDARD
BEGIN:DAYLIGHT
TZOFFSETFROM:-0700
TZOFFSETTO:-0600
TZNAME:MDT
DTSTART:20270314T090000
END:DAYLIGHT
BEGIN:STANDARD
TZOFFSETFROM:-0600
TZOFFSETTO:-0700
TZNAME:MST
DTSTART:20271107T080000
END:STANDARD
END:VTIMEZONE
BEGIN:VTIMEZONE
TZID:UTC
BEGIN:STANDARD
TZOFFSETFROM:+0000
TZOFFSETTO:+0000
TZNAME:UTC
DTSTART:20250101T000000
END:STANDARD
END:VTIMEZONE
BEGIN:VTIMEZONE
TZID:UTC
BEGIN:STANDARD
TZOFFSETFROM:+0000
TZOFFSETTO:+0000
TZNAME:UTC
DTSTART:20250101T000000
END:STANDARD
END:VTIMEZONE
BEGIN:VEVENT
DTSTART;TZID=America/Chicago:20260125T090000
DTEND;TZID=America/Chicago:20260201T180000
DTSTAMP:20260424T115055
CREATED:20260113T020224Z
LAST-MODIFIED:20260120T021716Z
UID:10004446-1769331600-1769968800@gunstuff.tv
SUMMARY:Celebrating 8 Years of Defender Outdoors Clay Sports Ranch
DESCRIPTION:January 31st is officially our 8 year Anniversary and we are so proud of all that the shooting community has helped us build and accomplish.  We want to celebrate with everyone with a week of fun shooting at 2018 pricing and lots of chances to win! Over $2500 in prizes! \nWe have 4 total courses available all week and for each one that you shoot/score you will get a chance to win.  We’ll have 10 random draws.  2 for each course shot.  If you shoot all 4 courses you will get an extra chance to win with the last 2 prizes.  \n2018 Pricing\n100 target round (Cowtown\, Ranch\, Outlaw) $45 per \n50 target Lonestar Super Sporting $22.50  \nPrizes\n1. Pelican Cooler Grey\n2. Pelican Cooler Green\n3. Outdoor Edge Hunters Combo knife set\n4. Bushnell Binoculars\n5. Taurus 9mm\n6. Crickett full size 22LR\n7. Ruger Wrangler 22LR\n8. Lesson with Travis Mears\n9. Big Screen TV\n10. Shotgun!
URL:https://gunstuff.tv/event/celebrating-8-years-of-defender-outdoors-clay-sports-ranch/
LOCATION:Clay Sports Ranch\, 8270 Aledo Road\, Fort Worth\, TX\, 76126\, United States
CATEGORIES:Clay Sports Ranch Events
ATTACH;FMTTYPE=image/jpeg:https://gunstuff.tv/wp-content/uploads/2026/01/CSR-Anniversary-Flyer-Final-scaled-1dVQDO.jpg
END:VEVENT
BEGIN:VEVENT
DTSTART;VALUE=DATE:20260126
DTEND;VALUE=DATE:20260127
DTSTAMP:20260424T115055
CREATED:20260106T030150Z
LAST-MODIFIED:20260120T031632Z
UID:10003778-1769385600-1769471999@gunstuff.tv
SUMMARY:Closed Mondays
DESCRIPTION:@ 			\n			\n							 \n\nHOURS: \nMonday: Closed \nTues-Thurs: 10am-8pm \nFri: 10am-5pm \nSat: 9:30am-5pm (shooting @10am) \nSun: 10:30am-4pm (shooting @11am) \nLast lane reservation is 1 hour before closing \n\n		\n\n\n\n\n\n\n						\n							Add to calendar						 \n\n\n\n									\n										Google Calendar									\n								\n\n									\n										iCalendar									\n								\n\n									\n										Outlook 365									\n								\n\n									\n										Outlook Live
URL:https://gunstuff.tv/event/closed-mondays-17/
LOCATION:OH
END:VEVENT
BEGIN:VEVENT
DTSTART;TZID=America/New_York:20260126T080000
DTEND;TZID=America/New_York:20260126T093000
DTSTAMP:20260424T115055
CREATED:20251031T180204Z
LAST-MODIFIED:20260123T183220Z
UID:10002716-1769414400-1769419800@gunstuff.tv
SUMMARY:Range Closure Square & AB 100 yard
DESCRIPTION:Beaver Control
URL:https://gunstuff.tv/event/range-closure-square-ab-100-yard-37/
LOCATION:Square Range-Action Bay 100 yard
END:VEVENT
BEGIN:VEVENT
DTSTART;TZID=America/Denver:20260126T080000
DTEND;TZID=America/Denver:20260126T170000
DTSTAMP:20260424T115055
CREATED:20260105T070151Z
LAST-MODIFIED:20260126T070245Z
UID:10003725-1769414400-1769446800@gunstuff.tv
SUMMARY:FRGC Member Only Day
DESCRIPTION:
URL:https://gunstuff.tv/event/frgc-member-only-day-8/
LOCATION:South Dakota
END:VEVENT
BEGIN:VEVENT
DTSTART;TZID=America/New_York:20260126T083000
DTEND;TZID=America/New_York:20260126T120000
DTSTAMP:20260424T115055
CREATED:20260123T050244Z
LAST-MODIFIED:20260123T050248Z
UID:10004674-1769416200-1769428800@gunstuff.tv
SUMMARY:Fall/Winter PPC
DESCRIPTION:Fall / Winter PPC Season – Indoor range – Thursdays from 5:30 to 9:30 PM October 2\, 2025 to March 26\, 2026\, and Mondays from 8:30 AM to 12:00\, October 6th 2024 to March 30\, 2026.
URL:https://gunstuff.tv/event/fall-winter-ppc-35/
LOCATION:Indoor Rifle & Pistol Range\, 4770 Waterford Rd\,\, Village of Clarkston\, 48346
CATEGORIES:D.R. Wilson,Indoor Rifle & Pistol Rage,Range
ATTACH;FMTTYPE=image/jpeg:https://gunstuff.tv/wp-content/uploads/2025/10/PPC-Logo-6Evv9j.jpg
END:VEVENT
BEGIN:VEVENT
DTSTART;TZID=America/New_York:20260126T090000
DTEND;TZID=America/New_York:20260126T100000
DTSTAMP:20260424T115055
CREATED:20251003T162638Z
LAST-MODIFIED:20251010T162926Z
UID:10001373-1769418000-1769421600@gunstuff.tv
SUMMARY:4-H Class Indoors
DESCRIPTION:Indoor reserved for 4-H class.
URL:https://gunstuff.tv/event/4-h-class-indoors-17/
LOCATION:Indoor Range
END:VEVENT
BEGIN:VEVENT
DTSTART;TZID=America/New_York:20260126T090000
DTEND;TZID=America/New_York:20260126T110000
DTSTAMP:20260424T115055
CREATED:20260123T050244Z
LAST-MODIFIED:20260123T050249Z
UID:10004675-1769418000-1769425200@gunstuff.tv
SUMMARY:Traditional League AM
DESCRIPTION:
URL:https://gunstuff.tv/event/traditional-league-am-4/
LOCATION:Indoor Archery Range\, 4770 Waterford Rd\, Clarkston\, MI\, United States
CATEGORIES:Archery,Indoor Archery Range,Range,Winter League
ATTACH;FMTTYPE=image/jpeg:https://gunstuff.tv/wp-content/uploads/2025/12/Traditional_Barebow-3kQxVw.jpg
GEO:42.705297;-83.4014
X-APPLE-STRUCTURED-LOCATION;VALUE=URI;X-ADDRESS=Indoor Archery Range 4770 Waterford Rd Clarkston MI United States;X-APPLE-RADIUS=500;X-TITLE=4770 Waterford Rd:geo:-83.4014,42.705297
END:VEVENT
BEGIN:VEVENT
DTSTART;TZID=America/New_York:20260126T160000
DTEND;TZID=America/New_York:20260126T180000
DTSTAMP:20260424T115055
CREATED:20251003T162638Z
LAST-MODIFIED:20251205T181706Z
UID:10001374-1769443200-1769450400@gunstuff.tv
SUMMARY:Skeet League
DESCRIPTION:Contact Frank Andrews with Questions.
URL:https://gunstuff.tv/event/skeet-league-17/
LOCATION:OH
END:VEVENT
BEGIN:VEVENT
DTSTART;TZID=UTC:20260126T170000
DTEND;TZID=UTC:20260128T210000
DTSTAMP:20260424T115055
CREATED:20260113T001636Z
LAST-MODIFIED:20260120T001744Z
UID:10004429-1769446800-1769634000@gunstuff.tv
SUMMARY:Indoor and Outdoor Ranges are closed 5:00-9:00pm
DESCRIPTION:Both Ranges are closed 5-9:00pm
URL:https://gunstuff.tv/event/indoor-and-outdoor-ranges-are-closed-500-900pm/
LOCATION:OH
END:VEVENT
BEGIN:VEVENT
DTSTART;TZID=America/New_York:20260126T173000
DTEND;TZID=America/New_York:20260126T213000
DTSTAMP:20260424T115055
CREATED:20260123T050245Z
LAST-MODIFIED:20260123T050249Z
UID:10004676-1769448600-1769463000@gunstuff.tv
SUMMARY:Junior Rifle
DESCRIPTION:
URL:https://gunstuff.tv/event/junior-rifle-18/
LOCATION:Indoor Rifle & Pistol Range\, 4770 Waterford Rd\,\, Village of Clarkston\, 48346
CATEGORIES:D.R. Wilson,Indoor Rifle & Pistol Rage,Jr. Rifle,Range
ATTACH;FMTTYPE=image/jpeg:https://gunstuff.tv/wp-content/uploads/2025/10/Junior-Rifle-3-scaled-QIEwuL.jpg
END:VEVENT
BEGIN:VEVENT
DTSTART;TZID=America/New_York:20260126T183000
DTEND;TZID=America/New_York:20260126T193000
DTSTAMP:20260424T115055
CREATED:20260123T050245Z
LAST-MODIFIED:20260123T050249Z
UID:10004677-1769452200-1769455800@gunstuff.tv
SUMMARY:Drum Ball
DESCRIPTION:Drum Ball Fun on the Patio!\nJoin us for Drum Ball\, a unique and exciting way to get moving! If you’re looking for a fun\, low-impact workout that feels more like a game than exercise\, this is it.\nWe use drumsticks and large stability balls to combine drumming rhythms with fitness movements. It’s great for coordination\, core strength\, and releasing stress—all while listening to great music!\nWhen: Every Monday & Thursday evening\nTime: 6:30 PM – 7:30 PM\nLocation: Main Building Patio\nFee: $5 Drop-in per class\nNote: Sticks and balls are provided for all participants. Just bring your energy!
URL:https://gunstuff.tv/event/drum-ball-12/
LOCATION:OCSC Main Building Patio\, 4770 Waterford Rd\, Clarkston\, MI\, United States
CATEGORIES:Club Events,Open to the Public
ATTACH;FMTTYPE=image/jpeg:https://gunstuff.tv/wp-content/uploads/2025/12/Drum-Ball-at-OCSC-E9nLz4.jpg
GEO:42.705297;-83.4014
X-APPLE-STRUCTURED-LOCATION;VALUE=URI;X-ADDRESS=OCSC Main Building Patio 4770 Waterford Rd Clarkston MI United States;X-APPLE-RADIUS=500;X-TITLE=4770 Waterford Rd:geo:-83.4014,42.705297
END:VEVENT
BEGIN:VEVENT
DTSTART;TZID=America/New_York:20260126T190000
DTEND;TZID=America/New_York:20260126T210000
DTSTAMP:20260424T115055
CREATED:20260123T050245Z
LAST-MODIFIED:20260123T050249Z
UID:10004678-1769454000-1769461200@gunstuff.tv
SUMMARY:Traditional League PM
DESCRIPTION:
URL:https://gunstuff.tv/event/traditional-league-pm-4/
LOCATION:Indoor Archery Range\, 4770 Waterford Rd\, Clarkston\, MI\, United States
CATEGORIES:Archery,Indoor Archery Range,Range,Winter League
ATTACH;FMTTYPE=image/jpeg:https://gunstuff.tv/wp-content/uploads/2025/12/Traditional_Barebow-3kQxVw.jpg
GEO:42.705297;-83.4014
X-APPLE-STRUCTURED-LOCATION;VALUE=URI;X-ADDRESS=Indoor Archery Range 4770 Waterford Rd Clarkston MI United States;X-APPLE-RADIUS=500;X-TITLE=4770 Waterford Rd:geo:-83.4014,42.705297
END:VEVENT
BEGIN:VEVENT
DTSTART;TZID=UTC:20260126T190000
DTEND;TZID=UTC:20260126T220000
DTSTAMP:20260424T115055
CREATED:20260126T194637Z
LAST-MODIFIED:20260126T194638Z
UID:10004756-1769454000-1769464800@gunstuff.tv
SUMMARY:Open Range W/C 25/01/2026
DESCRIPTION:
URL:https://gunstuff.tv/event/open-range-w-c-25-01-2026/
LOCATION:Tiverton Small-bore Rifle Club
END:VEVENT
END:VCALENDAR