BEGIN:VCALENDAR
VERSION:2.0
PRODID:-//GunStuff TV - ECPv6.15.20//NONSGML v1.0//EN
CALSCALE:GREGORIAN
METHOD:PUBLISH
X-WR-CALNAME:GunStuff TV
X-ORIGINAL-URL:https://gunstuff.tv
X-WR-CALDESC:Events for GunStuff TV
REFRESH-INTERVAL;VALUE=DURATION:PT1H
X-Robots-Tag:noindex
X-PUBLISHED-TTL:PT1H
BEGIN:VTIMEZONE
TZID:America/Phoenix
BEGIN:STANDARD
TZOFFSETFROM:-0700
TZOFFSETTO:-0700
TZNAME:MST
DTSTART:20250101T000000
END:STANDARD
END:VTIMEZONE
BEGIN:VTIMEZONE
TZID:America/New_York
BEGIN:DAYLIGHT
TZOFFSETFROM:-0500
TZOFFSETTO:-0400
TZNAME:EDT
DTSTART:20250309T070000
END:DAYLIGHT
BEGIN:STANDARD
TZOFFSETFROM:-0400
TZOFFSETTO:-0500
TZNAME:EST
DTSTART:20251102T060000
END:STANDARD
BEGIN:DAYLIGHT
TZOFFSETFROM:-0500
TZOFFSETTO:-0400
TZNAME:EDT
DTSTART:20260308T070000
END:DAYLIGHT
BEGIN:STANDARD
TZOFFSETFROM:-0400
TZOFFSETTO:-0500
TZNAME:EST
DTSTART:20261101T060000
END:STANDARD
BEGIN:DAYLIGHT
TZOFFSETFROM:-0500
TZOFFSETTO:-0400
TZNAME:EDT
DTSTART:20270314T070000
END:DAYLIGHT
BEGIN:STANDARD
TZOFFSETFROM:-0400
TZOFFSETTO:-0500
TZNAME:EST
DTSTART:20271107T060000
END:STANDARD
END:VTIMEZONE
BEGIN:VEVENT
DTSTART;VALUE=DATE:20260123
DTEND;VALUE=DATE:20260124
DTSTAMP:20260424T132018
CREATED:20251003T160027Z
LAST-MODIFIED:20260123T170130Z
UID:10000905-1769126400-1769212799@gunstuff.tv
SUMMARY:Across the Course Practice 8:00am Pits
DESCRIPTION:
URL:https://gunstuff.tv/event/across-the-course-practice-800am-pits-11/
LOCATION:CA
END:VEVENT
BEGIN:VEVENT
DTSTART;VALUE=DATE:20260123
DTEND;VALUE=DATE:20260126
DTSTAMP:20260424T132018
CREATED:20251010T034603Z
LAST-MODIFIED:20260123T061630Z
UID:10001980-1769126400-1769385599@gunstuff.tv
SUMMARY:Camp Blanding 1000 yard range
DESCRIPTION:———- Forwarded message ———From: Terry Pitts Date: June 19\, 2025 at 7:07:04 PM EDTTo: undisclosed-recipients:;Subject: Camp Blanding 1000 yard range \n﻿All.   We are pleased to say we now have 1000 Yard range dates. Greg and I got over to Range control yesterday and met with the range scheduler. We have 5 weekends scheduled now on the 1000 yard range. The first weekend on the 1000 yard …Jan. 21 setup\, Jan. 24 and 25 \nFeb. 27 setup\, Feb. 28 and Mar. 1Mar. 27 setup\, Mar. 28 and 29Apr. 24 setup\, Apr. 25 and 26 \nJoin with Google Meet: https://meet.google.com/nvm-frxi-igm\nOr dial: (US) +1 785-422-6708 PIN: 424202315#\nMore phone numbers: https://tel.meet/nvm-frxi-igm?pin=7553107626411&hs=7\nLearn more about Meet at: https://support.google.com/a/users/answer/9282720
URL:https://gunstuff.tv/event/camp-blanding-1000-yard-range/
LOCATION:CA
END:VEVENT
END:VCALENDAR